Workbook

Sheet Setup
A1: Attendance register
A2: Fill in the green cells. The month sheets and the Year sheet work everything out from them.
A4: School | B4: Demo Public School
A5: Class | B5: VII
A6: Section | B6: A
A7: Class teacher | B7: Ms. R. Iyer
A8: Session starts in April of | B8: 2026 | C8: ="April "&B8&" to March "&(B8+1) -> April 2026 to March 2027
A9: Minimum attendance | B9: 0.75
A11: How to mark each day
A12: P | B12: Present
A13: A | B13: Absent
A14: L | B14: On leave. Not present, so it lowers the percentage
A15: H | B15: Holiday. Not counted
A16: (leave empty) | B16: Sunday or no school. Not counted
A18: Roll no. | B18: Student name | C18: Admission no.
A19: 1 | B19: Aarav Sharma | C19: 2019/0142
A20: 2 | B20: Ananya Iyer | C20: 2019/0157
A21: 3 | B21: Diya Menon | C21: 2020/0031
A22: 4 | B22: Ishaan Patel | C22: 2019/0166
A23: 5 | B23: Meera Reddy | C23: 2021/0012
A24: 6 | B24: Rohan Das | C24: 2019/0171
A25: 7 | B25: Sara Khan | C25: 2019/0180
A26: 8 | B26: Vihaan Gupta | C26: 2022/0058
A27: 9
A28: 10
A29: 11
A30: 12
A31: 13
A32: 14
A33: 15
A34: 16
A35: 17
A36: 18
A37: 19
A38: 20
... A68: 50
A70: Free template from proems.in

Sheet Apr
A1: =Setup!$B$4 -> Demo Public School
A2: ="Class "&Setup!$B$5&" "&Setup!$B$6&" · April "&Setup!$B$8&" · Class teacher: "&Setup!$B$7 -> Class VII A · April 2026 · Class teacher: Ms. R. Iyer | AK2: Minimum | AL2: =Setup!$B$9 -> 0.75
A4: Roll | B4: Student name | C4: =IF(1<=DAY(DATE(Setup!$B$8,4+1,0)),1,"") -> 1 | D4: =IF(2<=DAY(DATE(Setup!$B$8,4+1,0)),2,"") -> 2 | E4: =IF(3<=DAY(DATE(Setup!$B$8,4+1,0)),3,"") -> 3 | F4: =IF(4<=DAY(DATE(Setup!$B$8,4+1,0)),4,"") -> 4 | G4: =IF(5<=DAY(DATE(Setup!$B$8,4+1,0)),5,"") -> 5 | H4: =IF(6<=DAY(DATE(Setup!$B$8,4+1,0)),6,"") -> 6 | I4: =IF(7<=DAY(DATE(Setup!$B$8,4+1,0)),7,"") -> 7 | J4: =IF(8<=DAY(DATE(Setup!$B$8,4+1,0)),8,"") -> 8 | K4: =IF(9<=DAY(DATE(Setup!$B$8,4+1,0)),9,"") -> 9 | L4: =IF(10<=DAY(DATE(Setup!$B$8,4+1,0)),10,"") -> 10 | M4: =IF(11<=DAY(DATE(Setup!$B$8,4+1,0)),11,"") -> 11 | N4: =IF(12<=DAY(DATE(Setup!$B$8,4+1,0)),12,"") -> 12 | O4: =IF(13<=DAY(DATE(Setup!$B$8,4+1,0)),13,"") -> 13 | P4: =IF(14<=DAY(DATE(Setup!$B$8,4+1,0)),14,"") -> 14 | Q4: =IF(15<=DAY(DATE(Setup!$B$8,4+1,0)),15,"") -> 15 | R4: =IF(16<=DAY(DATE(Setup!$B$8,4+1,0)),16,"") -> 16 | S4: =IF(17<=DAY(DATE(Setup!$B$8,4+1,0)),17,"") -> 17 | T4: =IF(18<=DAY(DATE(Setup!$B$8,4+1,0)),18,"") -> 18 | U4: =IF(19<=DAY(DATE(Setup!$B$8,4+1,0)),19,"") -> 19 | V4: =IF(20<=DAY(DATE(Setup!$B$8,4+1,0)),20,"") -> 20 | W4: =IF(21<=DAY(DATE(Setup!$B$8,4+1,0)),21,"") -> 21 | X4: =IF(22<=DAY(DATE(Setup!$B$8,4+1,0)),22,"") -> 22 | Y4: =IF(23<=DAY(DATE(Setup!$B$8,4+1,0)),23,"") -> 23 | Z4: =IF(24<=DAY(DATE(Setup!$B$8,4+1,0)),24,"") -> 24 | AA4: =IF(25<=DAY(DATE(Setup!$B$8,4+1,0)),25,"") -> 25 | AB4: =IF(26<=DAY(DATE(Setup!$B$8,4+1,0)),26,"") -> 26 | AC4: =IF(27<=DAY(DATE(Setup!$B$8,4+1,0)),27,"") -> 27 | AD4: =IF(28<=DAY(DATE(Setup!$B$8,4+1,0)),28,"") -> 28 | AE4: =IF(29<=DAY(DATE(Setup!$B$8,4+1,0)),29,"") -> 29 | AF4: =IF(30<=DAY(DATE(Setup!$B$8,4+1,0)),30,"") -> 30 | AG4: =IF(31<=DAY(DATE(Setup!$B$8,4+1,0)),31,"") | AH4: P | AI4: A | AJ4: L | AK4: Days | AL4: %
C5: =IF(C$4="","",CHOOSE(WEEKDAY(DATE(Setup!$B$8,4,C$4)),"Su","Mo","Tu","We","Th","Fr","Sa")) -> We | D5: =IF(D$4="","",CHOOSE(WEEKDAY(DATE(Setup!$B$8,4,D$4)),"Su","Mo","Tu","We","Th","Fr","Sa")) -> Th | E5: =IF(E$4="","",CHOOSE(WEEKDAY(DATE(Setup!$B$8,4,E$4)),"Su","Mo","Tu","We","Th","Fr","Sa")) -> Fr | F5: =IF(F$4="","",CHOOSE(WEEKDAY(DATE(Setup!$B$8,4,F$4)),"Su","Mo","Tu","We","Th","Fr","Sa")) -> Sa | G5: =IF(G$4="","",CHOOSE(WEEKDAY(DATE(Setup!$B$8,4,G$4)),"Su","Mo","Tu","We","Th","Fr","Sa")) -> Su | H5: =IF(H$4="","",CHOOSE(WEEKDAY(DATE(Setup!$B$8,4,H$4)),"Su","Mo","Tu","We","Th","Fr","Sa")) -> Mo | I5: =IF(I$4="","",CHOOSE(WEEKDAY(DATE(Setup!$B$8,4,I$4)),"Su","Mo","Tu","We","Th","Fr","Sa")) -> Tu | J5: =IF(J$4="","",CHOOSE(WEEKDAY(DATE(Setup!$B$8,4,J$4)),"Su","Mo","Tu","We","Th","Fr","Sa")) -> We | ... AG5: =IF(AG$4="","",CHOOSE(WEEKDAY(DATE(Setup!$B$8,4,AG$4)),"Su","Mo","Tu","We","Th","Fr","Sa"))
A6: =IF(Setup!B19="","",Setup!A19) -> 1 | B6: =IF(Setup!B19="","",Setup!B19) -> Aarav Sharma | C6: P | D6: P | E6: P | F6: P | H6: P | I6: P | J6: P | K6: P | L6: P | M6: P | O6: P | P6: P | Q6: P | R6: P | S6: P | T6: P | V6: P | W6: P | X6: P | Y6: P | Z6: P | AA6: P | AC6: P | AD6: P | AE6: P | AF6: P | AH6: =IF($B6="","",COUNTIF(C6:AG6,"P")) -> 26 | AI6: =IF($B6="","",COUNTIF(C6:AG6,"A")) -> 0 | AJ6: =IF($B6="","",COUNTIF(C6:AG6,"L")) -> 0 | AK6: =IF($B6="","",AH6+AI6+AJ6) -> 26 | AL6: =IF(N(AK6)=0,"",AH6/AK6) -> 1
A7: =IF(Setup!B20="","",Setup!A20) -> 2 | B7: =IF(Setup!B20="","",Setup!B20) -> Ananya Iyer | C7: P | D7: P | E7: P | F7: P | H7: P | I7: A | J7: A | K7: P | L7: P | M7: P | O7: P | P7: P | Q7: P | R7: P | S7: P | T7: P | V7: P | W7: P | X7: P | Y7: P | Z7: P | AA7: P | AC7: P | AD7: P | AE7: P | AF7: P | AH7: =IF($B7="","",COUNTIF(C7:AG7,"P")) -> 24 | AI7: =IF($B7="","",COUNTIF(C7:AG7,"A")) -> 2 | AJ7: =IF($B7="","",COUNTIF(C7:AG7,"L")) -> 0 | AK7: =IF($B7="","",AH7+AI7+AJ7) -> 26 | AL7: =IF(N(AK7)=0,"",AH7/AK7) -> 0.92307692
A8: =IF(Setup!B21="","",Setup!A21) -> 3 | B8: =IF(Setup!B21="","",Setup!B21) -> Diya Menon | C8: P | D8: P | E8: P | F8: P | H8: P | I8: P | J8: P | K8: P | L8: P | M8: P | O8: P | P8: L | Q8: L | R8: L | S8: P | T8: P | V8: P | W8: P | X8: P | Y8: P | Z8: P | AA8: P | AC8: P | AD8: P | AE8: P | AF8: P | AH8: =IF($B8="","",COUNTIF(C8:AG8,"P")) -> 23 | AI8: =IF($B8="","",COUNTIF(C8:AG8,"A")) -> 0 | AJ8: =IF($B8="","",COUNTIF(C8:AG8,"L")) -> 3 | AK8: =IF($B8="","",AH8+AI8+AJ8) -> 26 | AL8: =IF(N(AK8)=0,"",AH8/AK8) -> 0.88461538
A9: =IF(Setup!B22="","",Setup!A22) -> 4 | B9: =IF(Setup!B22="","",Setup!B22) -> Ishaan Patel | C9: P | D9: P | E9: A | F9: P | H9: P | I9: P | J9: P | K9: P | L9: P | M9: P | O9: P | P9: P | Q9: P | R9: P | S9: P | T9: P | V9: P | W9: P | X9: P | Y9: P | Z9: P | AA9: P | AC9: P | AD9: P | AE9: P | AF9: P | AH9: =IF($B9="","",COUNTIF(C9:AG9,"P")) -> 25 | AI9: =IF($B9="","",COUNTIF(C9:AG9,"A")) -> 1 | AJ9: =IF($B9="","",COUNTIF(C9:AG9,"L")) -> 0 | AK9: =IF($B9="","",AH9+AI9+AJ9) -> 26 | AL9: =IF(N(AK9)=0,"",AH9/AK9) -> 0.96153846
A10: =IF(Setup!B23="","",Setup!A23) -> 5 | B10: =IF(Setup!B23="","",Setup!B23) -> Meera Reddy | C10: P | D10: P | E10: P | F10: P | H10: P | I10: P | J10: P | K10: P | L10: P | M10: P | O10: P | P10: P | Q10: P | R10: P | S10: P | T10: P | V10: A | W10: A | X10: A | Y10: A | Z10: A | AA10: A | AC10: A | AD10: P | AE10: P | AF10: P | AH10: =IF($B10="","",COUNTIF(C10:AG10,"P")) -> 19 | AI10: =IF($B10="","",COUNTIF(C10:AG10,"A")) -> 7 | AJ10: =IF($B10="","",COUNTIF(C10:AG10,"L")) -> 0 | AK10: =IF($B10="","",AH10+AI10+AJ10) -> 26 | AL10: =IF(N(AK10)=0,"",AH10/AK10) -> 0.73076923
A11: =IF(Setup!B24="","",Setup!A24) -> 6 | B11: =IF(Setup!B24="","",Setup!B24) -> Rohan Das | C11: P | D11: P | E11: P | F11: P | H11: P | I11: P | J11: P | K11: A | L11: P | M11: P | O11: P | P11: P | Q11: P | R11: P | S11: P | T11: P | V11: P | W11: P | X11: P | Y11: P | Z11: P | AA11: P | AC11: P | AD11: P | AE11: P | AF11: P | AH11: =IF($B11="","",COUNTIF(C11:AG11,"P")) -> 25 | AI11: =IF($B11="","",COUNTIF(C11:AG11,"A")) -> 1 | AJ11: =IF($B11="","",COUNTIF(C11:AG11,"L")) -> 0 | AK11: =IF($B11="","",AH11+AI11+AJ11) -> 26 | AL11: =IF(N(AK11)=0,"",AH11/AK11) -> 0.96153846
A12: =IF(Setup!B25="","",Setup!A25) -> 7 | B12: =IF(Setup!B25="","",Setup!B25) -> Sara Khan | C12: P | D12: P | E12: P | F12: P | H12: P | I12: P | J12: P | K12: P | L12: P | M12: P | O12: P | P12: P | Q12: P | R12: P | S12: P | T12: P | V12: P | W12: P | X12: P | Y12: P | Z12: P | AA12: P | AC12: P | AD12: P | AE12: P | AF12: P | AH12: =IF($B12="","",COUNTIF(C12:AG12,"P")) -> 26 | AI12: =IF($B12="","",COUNTIF(C12:AG12,"A")) -> 0 | AJ12: =IF($B12="","",COUNTIF(C12:AG12,"L")) -> 0 | AK12: =IF($B12="","",AH12+AI12+AJ12) -> 26 | AL12: =IF(N(AK12)=0,"",AH12/AK12) -> 1
A13: =IF(Setup!B26="","",Setup!A26) -> 8 | B13: =IF(Setup!B26="","",Setup!B26) -> Vihaan Gupta | C13: P | D13: P | E13: P | F13: P | H13: P | I13: P | J13: P | K13: P | L13: P | M13: P | O13: P | P13: P | Q13: P | R13: P | S13: P | T13: P | V13: P | W13: P | X13: P | Y13: P | Z13: P | AA13: P | AC13: P | AD13: L | AE13: L | AF13: P | AH13: =IF($B13="","",COUNTIF(C13:AG13,"P")) -> 24 | AI13: =IF($B13="","",COUNTIF(C13:AG13,"A")) -> 0 | AJ13: =IF($B13="","",COUNTIF(C13:AG13,"L")) -> 2 | AK13: =IF($B13="","",AH13+AI13+AJ13) -> 26 | AL13: =IF(N(AK13)=0,"",AH13/AK13) -> 0.92307692
A14: =IF(Setup!B27="","",Setup!A27) | B14: =IF(Setup!B27="","",Setup!B27) | AH14: =IF($B14="","",COUNTIF(C14:AG14,"P")) | AI14: =IF($B14="","",COUNTIF(C14:AG14,"A")) | AJ14: =IF($B14="","",COUNTIF(C14:AG14,"L")) | AK14: =IF($B14="","",AH14+AI14+AJ14) | AL14: =IF(N(AK14)=0,"",AH14/AK14)
A15: =IF(Setup!B28="","",Setup!A28) | B15: =IF(Setup!B28="","",Setup!B28) | AH15: =IF($B15="","",COUNTIF(C15:AG15,"P")) | AI15: =IF($B15="","",COUNTIF(C15:AG15,"A")) | AJ15: =IF($B15="","",COUNTIF(C15:AG15,"L")) | AK15: =IF($B15="","",AH15+AI15+AJ15) | AL15: =IF(N(AK15)=0,"",AH15/AK15)
A16: =IF(Setup!B29="","",Setup!A29) | B16: =IF(Setup!B29="","",Setup!B29) | AH16: =IF($B16="","",COUNTIF(C16:AG16,"P")) | AI16: =IF($B16="","",COUNTIF(C16:AG16,"A")) | AJ16: =IF($B16="","",COUNTIF(C16:AG16,"L")) | AK16: =IF($B16="","",AH16+AI16+AJ16) | AL16: =IF(N(AK16)=0,"",AH16/AK16)
A17: =IF(Setup!B30="","",Setup!A30) | B17: =IF(Setup!B30="","",Setup!B30) | AH17: =IF($B17="","",COUNTIF(C17:AG17,"P")) | AI17: =IF($B17="","",COUNTIF(C17:AG17,"A")) | AJ17: =IF($B17="","",COUNTIF(C17:AG17,"L")) | AK17: =IF($B17="","",AH17+AI17+AJ17) | AL17: =IF(N(AK17)=0,"",AH17/AK17)
A18: =IF(Setup!B31="","",Setup!A31) | B18: =IF(Setup!B31="","",Setup!B31) | AH18: =IF($B18="","",COUNTIF(C18:AG18,"P")) | AI18: =IF($B18="","",COUNTIF(C18:AG18,"A")) | AJ18: =IF($B18="","",COUNTIF(C18:AG18,"L")) | AK18: =IF($B18="","",AH18+AI18+AJ18) | AL18: =IF(N(AK18)=0,"",AH18/AK18)
A19: =IF(Setup!B32="","",Setup!A32) | B19: =IF(Setup!B32="","",Setup!B32) | AH19: =IF($B19="","",COUNTIF(C19:AG19,"P")) | AI19: =IF($B19="","",COUNTIF(C19:AG19,"A")) | AJ19: =IF($B19="","",COUNTIF(C19:AG19,"L")) | AK19: =IF($B19="","",AH19+AI19+AJ19) | AL19: =IF(N(AK19)=0,"",AH19/AK19)
A20: =IF(Setup!B33="","",Setup!A33) | B20: =IF(Setup!B33="","",Setup!B33) | AH20: =IF($B20="","",COUNTIF(C20:AG20,"P")) | AI20: =IF($B20="","",COUNTIF(C20:AG20,"A")) | AJ20: =IF($B20="","",COUNTIF(C20:AG20,"L")) | AK20: =IF($B20="","",AH20+AI20+AJ20) | AL20: =IF(N(AK20)=0,"",AH20/AK20)
A21: =IF(Setup!B34="","",Setup!A34) | B21: =IF(Setup!B34="","",Setup!B34) | AH21: =IF($B21="","",COUNTIF(C21:AG21,"P")) | AI21: =IF($B21="","",COUNTIF(C21:AG21,"A")) | AJ21: =IF($B21="","",COUNTIF(C21:AG21,"L")) | AK21: =IF($B21="","",AH21+AI21+AJ21) | AL21: =IF(N(AK21)=0,"",AH21/AK21)
A22: =IF(Setup!B35="","",Setup!A35) | B22: =IF(Setup!B35="","",Setup!B35) | AH22: =IF($B22="","",COUNTIF(C22:AG22,"P")) | AI22: =IF($B22="","",COUNTIF(C22:AG22,"A")) | AJ22: =IF($B22="","",COUNTIF(C22:AG22,"L")) | AK22: =IF($B22="","",AH22+AI22+AJ22) | AL22: =IF(N(AK22)=0,"",AH22/AK22)
A23: =IF(Setup!B36="","",Setup!A36) | B23: =IF(Setup!B36="","",Setup!B36) | AH23: =IF($B23="","",COUNTIF(C23:AG23,"P")) | AI23: =IF($B23="","",COUNTIF(C23:AG23,"A")) | AJ23: =IF($B23="","",COUNTIF(C23:AG23,"L")) | AK23: =IF($B23="","",AH23+AI23+AJ23) | AL23: =IF(N(AK23)=0,"",AH23/AK23)
A24: =IF(Setup!B37="","",Setup!A37) | B24: =IF(Setup!B37="","",Setup!B37) | AH24: =IF($B24="","",COUNTIF(C24:AG24,"P")) | AI24: =IF($B24="","",COUNTIF(C24:AG24,"A")) | AJ24: =IF($B24="","",COUNTIF(C24:AG24,"L")) | AK24: =IF($B24="","",AH24+AI24+AJ24) | AL24: =IF(N(AK24)=0,"",AH24/AK24)
A25: =IF(Setup!B38="","",Setup!A38) | B25: =IF(Setup!B38="","",Setup!B38) | AH25: =IF($B25="","",COUNTIF(C25:AG25,"P")) | AI25: =IF($B25="","",COUNTIF(C25:AG25,"A")) | AJ25: =IF($B25="","",COUNTIF(C25:AG25,"L")) | AK25: =IF($B25="","",AH25+AI25+AJ25) | AL25: =IF(N(AK25)=0,"",AH25/AK25)
... A55: =IF(Setup!B68="","",Setup!A68) | B55: =IF(Setup!B68="","",Setup!B68) | AH55: =IF($B55="","",COUNTIF(C55:AG55,"P")) | AI55: =IF($B55="","",COUNTIF(C55:AG55,"A")) | AJ55: =IF($B55="","",COUNTIF(C55:AG55,"L")) | AK55: =IF($B55="","",AH55+AI55+AJ55) | AL55: =IF(N(AK55)=0,"",AH55/AK55)
A56: Present that day | C56: =IF(C$4="","",COUNTIF(C6:C55,"P")) -> 8 | D56: =IF(D$4="","",COUNTIF(D6:D55,"P")) -> 8 | E56: =IF(E$4="","",COUNTIF(E6:E55,"P")) -> 7 | F56: =IF(F$4="","",COUNTIF(F6:F55,"P")) -> 8 | G56: =IF(G$4="","",COUNTIF(G6:G55,"P")) -> 0 | H56: =IF(H$4="","",COUNTIF(H6:H55,"P")) -> 8 | I56: =IF(I$4="","",COUNTIF(I6:I55,"P")) -> 7 | J56: =IF(J$4="","",COUNTIF(J6:J55,"P")) -> 7 | ... AG56: =IF(AG$4="","",COUNTIF(AG6:AG55,"P"))
A57: Absent or on leave | C57: =IF(C$4="","",COUNTIF(C6:C55,"A")+COUNTIF(C6:C55,"L")) -> 0 | D57: =IF(D$4="","",COUNTIF(D6:D55,"A")+COUNTIF(D6:D55,"L")) -> 0 | E57: =IF(E$4="","",COUNTIF(E6:E55,"A")+COUNTIF(E6:E55,"L")) -> 1 | F57: =IF(F$4="","",COUNTIF(F6:F55,"A")+COUNTIF(F6:F55,"L")) -> 0 | G57: =IF(G$4="","",COUNTIF(G6:G55,"A")+COUNTIF(G6:G55,"L")) -> 0 | H57: =IF(H$4="","",COUNTIF(H6:H55,"A")+COUNTIF(H6:H55,"L")) -> 0 | I57: =IF(I$4="","",COUNTIF(I6:I55,"A")+COUNTIF(I6:I55,"L")) -> 1 | J57: =IF(J$4="","",COUNTIF(J6:J55,"A")+COUNTIF(J6:J55,"L")) -> 1 | ... AG57: =IF(AG$4="","",COUNTIF(AG6:AG55,"A")+COUNTIF(AG6:AG55,"L"))
A59: Free template from proems.in

Sheet May
A1: =Setup!$B$4 -> Demo Public School
A2: ="Class "&Setup!$B$5&" "&Setup!$B$6&" · May "&Setup!$B$8&" · Class teacher: "&Setup!$B$7 -> Class VII A · May 2026 · Class teacher: Ms. R. Iyer | AK2: Minimum | AL2: =Setup!$B$9 -> 0.75
A4: Roll | B4: Student name | C4: =IF(1<=DAY(DATE(Setup!$B$8,5+1,0)),1,"") -> 1 | D4: =IF(2<=DAY(DATE(Setup!$B$8,5+1,0)),2,"") -> 2 | E4: =IF(3<=DAY(DATE(Setup!$B$8,5+1,0)),3,"") -> 3 | F4: =IF(4<=DAY(DATE(Setup!$B$8,5+1,0)),4,"") -> 4 | G4: =IF(5<=DAY(DATE(Setup!$B$8,5+1,0)),5,"") -> 5 | H4: =IF(6<=DAY(DATE(Setup!$B$8,5+1,0)),6,"") -> 6 | I4: =IF(7<=DAY(DATE(Setup!$B$8,5+1,0)),7,"") -> 7 | J4: =IF(8<=DAY(DATE(Setup!$B$8,5+1,0)),8,"") -> 8 | K4: =IF(9<=DAY(DATE(Setup!$B$8,5+1,0)),9,"") -> 9 | L4: =IF(10<=DAY(DATE(Setup!$B$8,5+1,0)),10,"") -> 10 | M4: =IF(11<=DAY(DATE(Setup!$B$8,5+1,0)),11,"") -> 11 | N4: =IF(12<=DAY(DATE(Setup!$B$8,5+1,0)),12,"") -> 12 | O4: =IF(13<=DAY(DATE(Setup!$B$8,5+1,0)),13,"") -> 13 | P4: =IF(14<=DAY(DATE(Setup!$B$8,5+1,0)),14,"") -> 14 | Q4: =IF(15<=DAY(DATE(Setup!$B$8,5+1,0)),15,"") -> 15 | R4: =IF(16<=DAY(DATE(Setup!$B$8,5+1,0)),16,"") -> 16 | S4: =IF(17<=DAY(DATE(Setup!$B$8,5+1,0)),17,"") -> 17 | T4: =IF(18<=DAY(DATE(Setup!$B$8,5+1,0)),18,"") -> 18 | U4: =IF(19<=DAY(DATE(Setup!$B$8,5+1,0)),19,"") -> 19 | V4: =IF(20<=DAY(DATE(Setup!$B$8,5+1,0)),20,"") -> 20 | W4: =IF(21<=DAY(DATE(Setup!$B$8,5+1,0)),21,"") -> 21 | X4: =IF(22<=DAY(DATE(Setup!$B$8,5+1,0)),22,"") -> 22 | Y4: =IF(23<=DAY(DATE(Setup!$B$8,5+1,0)),23,"") -> 23 | Z4: =IF(24<=DAY(DATE(Setup!$B$8,5+1,0)),24,"") -> 24 | AA4: =IF(25<=DAY(DATE(Setup!$B$8,5+1,0)),25,"") -> 25 | AB4: =IF(26<=DAY(DATE(Setup!$B$8,5+1,0)),26,"") -> 26 | AC4: =IF(27<=DAY(DATE(Setup!$B$8,5+1,0)),27,"") -> 27 | AD4: =IF(28<=DAY(DATE(Setup!$B$8,5+1,0)),28,"") -> 28 | AE4: =IF(29<=DAY(DATE(Setup!$B$8,5+1,0)),29,"") -> 29 | AF4: =IF(30<=DAY(DATE(Setup!$B$8,5+1,0)),30,"") -> 30 | AG4: =IF(31<=DAY(DATE(Setup!$B$8,5+1,0)),31,"") -> 31 | AH4: P | AI4: A | AJ4: L | AK4: Days | AL4: %
C5: =IF(C$4="","",CHOOSE(WEEKDAY(DATE(Setup!$B$8,5,C$4)),"Su","Mo","Tu","We","Th","Fr","Sa")) -> Fr | D5: =IF(D$4="","",CHOOSE(WEEKDAY(DATE(Setup!$B$8,5,D$4)),"Su","Mo","Tu","We","Th","Fr","Sa")) -> Sa | E5: =IF(E$4="","",CHOOSE(WEEKDAY(DATE(Setup!$B$8,5,E$4)),"Su","Mo","Tu","We","Th","Fr","Sa")) -> Su | F5: =IF(F$4="","",CHOOSE(WEEKDAY(DATE(Setup!$B$8,5,F$4)),"Su","Mo","Tu","We","Th","Fr","Sa")) -> Mo | G5: =IF(G$4="","",CHOOSE(WEEKDAY(DATE(Setup!$B$8,5,G$4)),"Su","Mo","Tu","We","Th","Fr","Sa")) -> Tu | H5: =IF(H$4="","",CHOOSE(WEEKDAY(DATE(Setup!$B$8,5,H$4)),"Su","Mo","Tu","We","Th","Fr","Sa")) -> We | I5: =IF(I$4="","",CHOOSE(WEEKDAY(DATE(Setup!$B$8,5,I$4)),"Su","Mo","Tu","We","Th","Fr","Sa")) -> Th | J5: =IF(J$4="","",CHOOSE(WEEKDAY(DATE(Setup!$B$8,5,J$4)),"Su","Mo","Tu","We","Th","Fr","Sa")) -> Fr | ... AG5: =IF(AG$4="","",CHOOSE(WEEKDAY(DATE(Setup!$B$8,5,AG$4)),"Su","Mo","Tu","We","Th","Fr","Sa")) -> Su
A6: =IF(Setup!B19="","",Setup!A19) -> 1 | B6: =IF(Setup!B19="","",Setup!B19) -> Aarav Sharma | AH6: =IF($B6="","",COUNTIF(C6:AG6,"P")) -> 0 | AI6: =IF($B6="","",COUNTIF(C6:AG6,"A")) -> 0 | AJ6: =IF($B6="","",COUNTIF(C6:AG6,"L")) -> 0 | AK6: =IF($B6="","",AH6+AI6+AJ6) -> 0 | AL6: =IF(N(AK6)=0,"",AH6/AK6)
A7: =IF(Setup!B20="","",Setup!A20) -> 2 | B7: =IF(Setup!B20="","",Setup!B20) -> Ananya Iyer | AH7: =IF($B7="","",COUNTIF(C7:AG7,"P")) -> 0 | AI7: =IF($B7="","",COUNTIF(C7:AG7,"A")) -> 0 | AJ7: =IF($B7="","",COUNTIF(C7:AG7,"L")) -> 0 | AK7: =IF($B7="","",AH7+AI7+AJ7) -> 0 | AL7: =IF(N(AK7)=0,"",AH7/AK7)
A8: =IF(Setup!B21="","",Setup!A21) -> 3 | B8: =IF(Setup!B21="","",Setup!B21) -> Diya Menon | AH8: =IF($B8="","",COUNTIF(C8:AG8,"P")) -> 0 | AI8: =IF($B8="","",COUNTIF(C8:AG8,"A")) -> 0 | AJ8: =IF($B8="","",COUNTIF(C8:AG8,"L")) -> 0 | AK8: =IF($B8="","",AH8+AI8+AJ8) -> 0 | AL8: =IF(N(AK8)=0,"",AH8/AK8)
A9: =IF(Setup!B22="","",Setup!A22) -> 4 | B9: =IF(Setup!B22="","",Setup!B22) -> Ishaan Patel | AH9: =IF($B9="","",COUNTIF(C9:AG9,"P")) -> 0 | AI9: =IF($B9="","",COUNTIF(C9:AG9,"A")) -> 0 | AJ9: =IF($B9="","",COUNTIF(C9:AG9,"L")) -> 0 | AK9: =IF($B9="","",AH9+AI9+AJ9) -> 0 | AL9: =IF(N(AK9)=0,"",AH9/AK9)
A10: =IF(Setup!B23="","",Setup!A23) -> 5 | B10: =IF(Setup!B23="","",Setup!B23) -> Meera Reddy | AH10: =IF($B10="","",COUNTIF(C10:AG10,"P")) -> 0 | AI10: =IF($B10="","",COUNTIF(C10:AG10,"A")) -> 0 | AJ10: =IF($B10="","",COUNTIF(C10:AG10,"L")) -> 0 | AK10: =IF($B10="","",AH10+AI10+AJ10) -> 0 | AL10: =IF(N(AK10)=0,"",AH10/AK10)
A11: =IF(Setup!B24="","",Setup!A24) -> 6 | B11: =IF(Setup!B24="","",Setup!B24) -> Rohan Das | AH11: =IF($B11="","",COUNTIF(C11:AG11,"P")) -> 0 | AI11: =IF($B11="","",COUNTIF(C11:AG11,"A")) -> 0 | AJ11: =IF($B11="","",COUNTIF(C11:AG11,"L")) -> 0 | AK11: =IF($B11="","",AH11+AI11+AJ11) -> 0 | AL11: =IF(N(AK11)=0,"",AH11/AK11)
A12: =IF(Setup!B25="","",Setup!A25) -> 7 | B12: =IF(Setup!B25="","",Setup!B25) -> Sara Khan | AH12: =IF($B12="","",COUNTIF(C12:AG12,"P")) -> 0 | AI12: =IF($B12="","",COUNTIF(C12:AG12,"A")) -> 0 | AJ12: =IF($B12="","",COUNTIF(C12:AG12,"L")) -> 0 | AK12: =IF($B12="","",AH12+AI12+AJ12) -> 0 | AL12: =IF(N(AK12)=0,"",AH12/AK12)
A13: =IF(Setup!B26="","",Setup!A26) -> 8 | B13: =IF(Setup!B26="","",Setup!B26) -> Vihaan Gupta | AH13: =IF($B13="","",COUNTIF(C13:AG13,"P")) -> 0 | AI13: =IF($B13="","",COUNTIF(C13:AG13,"A")) -> 0 | AJ13: =IF($B13="","",COUNTIF(C13:AG13,"L")) -> 0 | AK13: =IF($B13="","",AH13+AI13+AJ13) -> 0 | AL13: =IF(N(AK13)=0,"",AH13/AK13)
A14: =IF(Setup!B27="","",Setup!A27) | B14: =IF(Setup!B27="","",Setup!B27) | AH14: =IF($B14="","",COUNTIF(C14:AG14,"P")) | AI14: =IF($B14="","",COUNTIF(C14:AG14,"A")) | AJ14: =IF($B14="","",COUNTIF(C14:AG14,"L")) | AK14: =IF($B14="","",AH14+AI14+AJ14) | AL14: =IF(N(AK14)=0,"",AH14/AK14)
A15: =IF(Setup!B28="","",Setup!A28) | B15: =IF(Setup!B28="","",Setup!B28) | AH15: =IF($B15="","",COUNTIF(C15:AG15,"P")) | AI15: =IF($B15="","",COUNTIF(C15:AG15,"A")) | AJ15: =IF($B15="","",COUNTIF(C15:AG15,"L")) | AK15: =IF($B15="","",AH15+AI15+AJ15) | AL15: =IF(N(AK15)=0,"",AH15/AK15)
A16: =IF(Setup!B29="","",Setup!A29) | B16: =IF(Setup!B29="","",Setup!B29) | AH16: =IF($B16="","",COUNTIF(C16:AG16,"P")) | AI16: =IF($B16="","",COUNTIF(C16:AG16,"A")) | AJ16: =IF($B16="","",COUNTIF(C16:AG16,"L")) | AK16: =IF($B16="","",AH16+AI16+AJ16) | AL16: =IF(N(AK16)=0,"",AH16/AK16)
A17: =IF(Setup!B30="","",Setup!A30) | B17: =IF(Setup!B30="","",Setup!B30) | AH17: =IF($B17="","",COUNTIF(C17:AG17,"P")) | AI17: =IF($B17="","",COUNTIF(C17:AG17,"A")) | AJ17: =IF($B17="","",COUNTIF(C17:AG17,"L")) | AK17: =IF($B17="","",AH17+AI17+AJ17) | AL17: =IF(N(AK17)=0,"",AH17/AK17)
... A55: =IF(Setup!B68="","",Setup!A68) | B55: =IF(Setup!B68="","",Setup!B68) | AH55: =IF($B55="","",COUNTIF(C55:AG55,"P")) | AI55: =IF($B55="","",COUNTIF(C55:AG55,"A")) | AJ55: =IF($B55="","",COUNTIF(C55:AG55,"L")) | AK55: =IF($B55="","",AH55+AI55+AJ55) | AL55: =IF(N(AK55)=0,"",AH55/AK55)
A56: Present that day | C56: =IF(C$4="","",COUNTIF(C6:C55,"P")) -> 0 | D56: =IF(D$4="","",COUNTIF(D6:D55,"P")) -> 0 | E56: =IF(E$4="","",COUNTIF(E6:E55,"P")) -> 0 | F56: =IF(F$4="","",COUNTIF(F6:F55,"P")) -> 0 | G56: =IF(G$4="","",COUNTIF(G6:G55,"P")) -> 0 | H56: =IF(H$4="","",COUNTIF(H6:H55,"P")) -> 0 | I56: =IF(I$4="","",COUNTIF(I6:I55,"P")) -> 0 | J56: =IF(J$4="","",COUNTIF(J6:J55,"P")) -> 0 | ... AG56: =IF(AG$4="","",COUNTIF(AG6:AG55,"P")) -> 0
A57: Absent or on leave | C57: =IF(C$4="","",COUNTIF(C6:C55,"A")+COUNTIF(C6:C55,"L")) -> 0 | D57: =IF(D$4="","",COUNTIF(D6:D55,"A")+COUNTIF(D6:D55,"L")) -> 0 | E57: =IF(E$4="","",COUNTIF(E6:E55,"A")+COUNTIF(E6:E55,"L")) -> 0 | F57: =IF(F$4="","",COUNTIF(F6:F55,"A")+COUNTIF(F6:F55,"L")) -> 0 | G57: =IF(G$4="","",COUNTIF(G6:G55,"A")+COUNTIF(G6:G55,"L")) -> 0 | H57: =IF(H$4="","",COUNTIF(H6:H55,"A")+COUNTIF(H6:H55,"L")) -> 0 | I57: =IF(I$4="","",COUNTIF(I6:I55,"A")+COUNTIF(I6:I55,"L")) -> 0 | J57: =IF(J$4="","",COUNTIF(J6:J55,"A")+COUNTIF(J6:J55,"L")) -> 0 | ... AG57: =IF(AG$4="","",COUNTIF(AG6:AG55,"A")+COUNTIF(AG6:AG55,"L")) -> 0
A59: Free template from proems.in

Sheet Jun
A1: =Setup!$B$4 -> Demo Public School
A2: ="Class "&Setup!$B$5&" "&Setup!$B$6&" · June "&Setup!$B$8&" · Class teacher: "&Setup!$B$7 -> Class VII A · June 2026 · Class teacher: Ms. R. Iyer | AK2: Minimum | AL2: =Setup!$B$9 -> 0.75
A4: Roll | B4: Student name | C4: =IF(1<=DAY(DATE(Setup!$B$8,6+1,0)),1,"") -> 1 | D4: =IF(2<=DAY(DATE(Setup!$B$8,6+1,0)),2,"") -> 2 | E4: =IF(3<=DAY(DATE(Setup!$B$8,6+1,0)),3,"") -> 3 | F4: =IF(4<=DAY(DATE(Setup!$B$8,6+1,0)),4,"") -> 4 | G4: =IF(5<=DAY(DATE(Setup!$B$8,6+1,0)),5,"") -> 5 | H4: =IF(6<=DAY(DATE(Setup!$B$8,6+1,0)),6,"") -> 6 | I4: =IF(7<=DAY(DATE(Setup!$B$8,6+1,0)),7,"") -> 7 | J4: =IF(8<=DAY(DATE(Setup!$B$8,6+1,0)),8,"") -> 8 | K4: =IF(9<=DAY(DATE(Setup!$B$8,6+1,0)),9,"") -> 9 | L4: =IF(10<=DAY(DATE(Setup!$B$8,6+1,0)),10,"") -> 10 | M4: =IF(11<=DAY(DATE(Setup!$B$8,6+1,0)),11,"") -> 11 | N4: =IF(12<=DAY(DATE(Setup!$B$8,6+1,0)),12,"") -> 12 | O4: =IF(13<=DAY(DATE(Setup!$B$8,6+1,0)),13,"") -> 13 | P4: =IF(14<=DAY(DATE(Setup!$B$8,6+1,0)),14,"") -> 14 | Q4: =IF(15<=DAY(DATE(Setup!$B$8,6+1,0)),15,"") -> 15 | R4: =IF(16<=DAY(DATE(Setup!$B$8,6+1,0)),16,"") -> 16 | S4: =IF(17<=DAY(DATE(Setup!$B$8,6+1,0)),17,"") -> 17 | T4: =IF(18<=DAY(DATE(Setup!$B$8,6+1,0)),18,"") -> 18 | U4: =IF(19<=DAY(DATE(Setup!$B$8,6+1,0)),19,"") -> 19 | V4: =IF(20<=DAY(DATE(Setup!$B$8,6+1,0)),20,"") -> 20 | W4: =IF(21<=DAY(DATE(Setup!$B$8,6+1,0)),21,"") -> 21 | X4: =IF(22<=DAY(DATE(Setup!$B$8,6+1,0)),22,"") -> 22 | Y4: =IF(23<=DAY(DATE(Setup!$B$8,6+1,0)),23,"") -> 23 | Z4: =IF(24<=DAY(DATE(Setup!$B$8,6+1,0)),24,"") -> 24 | AA4: =IF(25<=DAY(DATE(Setup!$B$8,6+1,0)),25,"") -> 25 | AB4: =IF(26<=DAY(DATE(Setup!$B$8,6+1,0)),26,"") -> 26 | AC4: =IF(27<=DAY(DATE(Setup!$B$8,6+1,0)),27,"") -> 27 | AD4: =IF(28<=DAY(DATE(Setup!$B$8,6+1,0)),28,"") -> 28 | AE4: =IF(29<=DAY(DATE(Setup!$B$8,6+1,0)),29,"") -> 29 | AF4: =IF(30<=DAY(DATE(Setup!$B$8,6+1,0)),30,"") -> 30 | AG4: =IF(31<=DAY(DATE(Setup!$B$8,6+1,0)),31,"") | AH4: P | AI4: A | AJ4: L | AK4: Days | AL4: %
C5: =IF(C$4="","",CHOOSE(WEEKDAY(DATE(Setup!$B$8,6,C$4)),"Su","Mo","Tu","We","Th","Fr","Sa")) -> Mo | D5: =IF(D$4="","",CHOOSE(WEEKDAY(DATE(Setup!$B$8,6,D$4)),"Su","Mo","Tu","We","Th","Fr","Sa")) -> Tu | E5: =IF(E$4="","",CHOOSE(WEEKDAY(DATE(Setup!$B$8,6,E$4)),"Su","Mo","Tu","We","Th","Fr","Sa")) -> We | F5: =IF(F$4="","",CHOOSE(WEEKDAY(DATE(Setup!$B$8,6,F$4)),"Su","Mo","Tu","We","Th","Fr","Sa")) -> Th | G5: =IF(G$4="","",CHOOSE(WEEKDAY(DATE(Setup!$B$8,6,G$4)),"Su","Mo","Tu","We","Th","Fr","Sa")) -> Fr | H5: =IF(H$4="","",CHOOSE(WEEKDAY(DATE(Setup!$B$8,6,H$4)),"Su","Mo","Tu","We","Th","Fr","Sa")) -> Sa | I5: =IF(I$4="","",CHOOSE(WEEKDAY(DATE(Setup!$B$8,6,I$4)),"Su","Mo","Tu","We","Th","Fr","Sa")) -> Su | J5: =IF(J$4="","",CHOOSE(WEEKDAY(DATE(Setup!$B$8,6,J$4)),"Su","Mo","Tu","We","Th","Fr","Sa")) -> Mo | ... AG5: =IF(AG$4="","",CHOOSE(WEEKDAY(DATE(Setup!$B$8,6,AG$4)),"Su","Mo","Tu","We","Th","Fr","Sa"))
A6: =IF(Setup!B19="","",Setup!A19) -> 1 | B6: =IF(Setup!B19="","",Setup!B19) -> Aarav Sharma | AH6: =IF($B6="","",COUNTIF(C6:AG6,"P")) -> 0 | AI6: =IF($B6="","",COUNTIF(C6:AG6,"A")) -> 0 | AJ6: =IF($B6="","",COUNTIF(C6:AG6,"L")) -> 0 | AK6: =IF($B6="","",AH6+AI6+AJ6) -> 0 | AL6: =IF(N(AK6)=0,"",AH6/AK6)
A7: =IF(Setup!B20="","",Setup!A20) -> 2 | B7: =IF(Setup!B20="","",Setup!B20) -> Ananya Iyer | AH7: =IF($B7="","",COUNTIF(C7:AG7,"P")) -> 0 | AI7: =IF($B7="","",COUNTIF(C7:AG7,"A")) -> 0 | AJ7: =IF($B7="","",COUNTIF(C7:AG7,"L")) -> 0 | AK7: =IF($B7="","",AH7+AI7+AJ7) -> 0 | AL7: =IF(N(AK7)=0,"",AH7/AK7)
A8: =IF(Setup!B21="","",Setup!A21) -> 3 | B8: =IF(Setup!B21="","",Setup!B21) -> Diya Menon | AH8: =IF($B8="","",COUNTIF(C8:AG8,"P")) -> 0 | AI8: =IF($B8="","",COUNTIF(C8:AG8,"A")) -> 0 | AJ8: =IF($B8="","",COUNTIF(C8:AG8,"L")) -> 0 | AK8: =IF($B8="","",AH8+AI8+AJ8) -> 0 | AL8: =IF(N(AK8)=0,"",AH8/AK8)
A9: =IF(Setup!B22="","",Setup!A22) -> 4 | B9: =IF(Setup!B22="","",Setup!B22) -> Ishaan Patel | AH9: =IF($B9="","",COUNTIF(C9:AG9,"P")) -> 0 | AI9: =IF($B9="","",COUNTIF(C9:AG9,"A")) -> 0 | AJ9: =IF($B9="","",COUNTIF(C9:AG9,"L")) -> 0 | AK9: =IF($B9="","",AH9+AI9+AJ9) -> 0 | AL9: =IF(N(AK9)=0,"",AH9/AK9)
A10: =IF(Setup!B23="","",Setup!A23) -> 5 | B10: =IF(Setup!B23="","",Setup!B23) -> Meera Reddy | AH10: =IF($B10="","",COUNTIF(C10:AG10,"P")) -> 0 | AI10: =IF($B10="","",COUNTIF(C10:AG10,"A")) -> 0 | AJ10: =IF($B10="","",COUNTIF(C10:AG10,"L")) -> 0 | AK10: =IF($B10="","",AH10+AI10+AJ10) -> 0 | AL10: =IF(N(AK10)=0,"",AH10/AK10)
A11: =IF(Setup!B24="","",Setup!A24) -> 6 | B11: =IF(Setup!B24="","",Setup!B24) -> Rohan Das | AH11: =IF($B11="","",COUNTIF(C11:AG11,"P")) -> 0 | AI11: =IF($B11="","",COUNTIF(C11:AG11,"A")) -> 0 | AJ11: =IF($B11="","",COUNTIF(C11:AG11,"L")) -> 0 | AK11: =IF($B11="","",AH11+AI11+AJ11) -> 0 | AL11: =IF(N(AK11)=0,"",AH11/AK11)
A12: =IF(Setup!B25="","",Setup!A25) -> 7 | B12: =IF(Setup!B25="","",Setup!B25) -> Sara Khan | AH12: =IF($B12="","",COUNTIF(C12:AG12,"P")) -> 0 | AI12: =IF($B12="","",COUNTIF(C12:AG12,"A")) -> 0 | AJ12: =IF($B12="","",COUNTIF(C12:AG12,"L")) -> 0 | AK12: =IF($B12="","",AH12+AI12+AJ12) -> 0 | AL12: =IF(N(AK12)=0,"",AH12/AK12)
A13: =IF(Setup!B26="","",Setup!A26) -> 8 | B13: =IF(Setup!B26="","",Setup!B26) -> Vihaan Gupta | AH13: =IF($B13="","",COUNTIF(C13:AG13,"P")) -> 0 | AI13: =IF($B13="","",COUNTIF(C13:AG13,"A")) -> 0 | AJ13: =IF($B13="","",COUNTIF(C13:AG13,"L")) -> 0 | AK13: =IF($B13="","",AH13+AI13+AJ13) -> 0 | AL13: =IF(N(AK13)=0,"",AH13/AK13)
A14: =IF(Setup!B27="","",Setup!A27) | B14: =IF(Setup!B27="","",Setup!B27) | AH14: =IF($B14="","",COUNTIF(C14:AG14,"P")) | AI14: =IF($B14="","",COUNTIF(C14:AG14,"A")) | AJ14: =IF($B14="","",COUNTIF(C14:AG14,"L")) | AK14: =IF($B14="","",AH14+AI14+AJ14) | AL14: =IF(N(AK14)=0,"",AH14/AK14)
A15: =IF(Setup!B28="","",Setup!A28) | B15: =IF(Setup!B28="","",Setup!B28) | AH15: =IF($B15="","",COUNTIF(C15:AG15,"P")) | AI15: =IF($B15="","",COUNTIF(C15:AG15,"A")) | AJ15: =IF($B15="","",COUNTIF(C15:AG15,"L")) | AK15: =IF($B15="","",AH15+AI15+AJ15) | AL15: =IF(N(AK15)=0,"",AH15/AK15)
A16: =IF(Setup!B29="","",Setup!A29) | B16: =IF(Setup!B29="","",Setup!B29) | AH16: =IF($B16="","",COUNTIF(C16:AG16,"P")) | AI16: =IF($B16="","",COUNTIF(C16:AG16,"A")) | AJ16: =IF($B16="","",COUNTIF(C16:AG16,"L")) | AK16: =IF($B16="","",AH16+AI16+AJ16) | AL16: =IF(N(AK16)=0,"",AH16/AK16)
A17: =IF(Setup!B30="","",Setup!A30) | B17: =IF(Setup!B30="","",Setup!B30) | AH17: =IF($B17="","",COUNTIF(C17:AG17,"P")) | AI17: =IF($B17="","",COUNTIF(C17:AG17,"A")) | AJ17: =IF($B17="","",COUNTIF(C17:AG17,"L")) | AK17: =IF($B17="","",AH17+AI17+AJ17) | AL17: =IF(N(AK17)=0,"",AH17/AK17)
... A55: =IF(Setup!B68="","",Setup!A68) | B55: =IF(Setup!B68="","",Setup!B68) | AH55: =IF($B55="","",COUNTIF(C55:AG55,"P")) | AI55: =IF($B55="","",COUNTIF(C55:AG55,"A")) | AJ55: =IF($B55="","",COUNTIF(C55:AG55,"L")) | AK55: =IF($B55="","",AH55+AI55+AJ55) | AL55: =IF(N(AK55)=0,"",AH55/AK55)
A56: Present that day | C56: =IF(C$4="","",COUNTIF(C6:C55,"P")) -> 0 | D56: =IF(D$4="","",COUNTIF(D6:D55,"P")) -> 0 | E56: =IF(E$4="","",COUNTIF(E6:E55,"P")) -> 0 | F56: =IF(F$4="","",COUNTIF(F6:F55,"P")) -> 0 | G56: =IF(G$4="","",COUNTIF(G6:G55,"P")) -> 0 | H56: =IF(H$4="","",COUNTIF(H6:H55,"P")) -> 0 | I56: =IF(I$4="","",COUNTIF(I6:I55,"P")) -> 0 | J56: =IF(J$4="","",COUNTIF(J6:J55,"P")) -> 0 | ... AG56: =IF(AG$4="","",COUNTIF(AG6:AG55,"P"))
A57: Absent or on leave | C57: =IF(C$4="","",COUNTIF(C6:C55,"A")+COUNTIF(C6:C55,"L")) -> 0 | D57: =IF(D$4="","",COUNTIF(D6:D55,"A")+COUNTIF(D6:D55,"L")) -> 0 | E57: =IF(E$4="","",COUNTIF(E6:E55,"A")+COUNTIF(E6:E55,"L")) -> 0 | F57: =IF(F$4="","",COUNTIF(F6:F55,"A")+COUNTIF(F6:F55,"L")) -> 0 | G57: =IF(G$4="","",COUNTIF(G6:G55,"A")+COUNTIF(G6:G55,"L")) -> 0 | H57: =IF(H$4="","",COUNTIF(H6:H55,"A")+COUNTIF(H6:H55,"L")) -> 0 | I57: =IF(I$4="","",COUNTIF(I6:I55,"A")+COUNTIF(I6:I55,"L")) -> 0 | J57: =IF(J$4="","",COUNTIF(J6:J55,"A")+COUNTIF(J6:J55,"L")) -> 0 | ... AG57: =IF(AG$4="","",COUNTIF(AG6:AG55,"A")+COUNTIF(AG6:AG55,"L"))
A59: Free template from proems.in

Sheet Jul
A1: =Setup!$B$4 -> Demo Public School
A2: ="Class "&Setup!$B$5&" "&Setup!$B$6&" · July "&Setup!$B$8&" · Class teacher: "&Setup!$B$7 -> Class VII A · July 2026 · Class teacher: Ms. R. Iyer | AK2: Minimum | AL2: =Setup!$B$9 -> 0.75
A4: Roll | B4: Student name | C4: =IF(1<=DAY(DATE(Setup!$B$8,7+1,0)),1,"") -> 1 | D4: =IF(2<=DAY(DATE(Setup!$B$8,7+1,0)),2,"") -> 2 | E4: =IF(3<=DAY(DATE(Setup!$B$8,7+1,0)),3,"") -> 3 | F4: =IF(4<=DAY(DATE(Setup!$B$8,7+1,0)),4,"") -> 4 | G4: =IF(5<=DAY(DATE(Setup!$B$8,7+1,0)),5,"") -> 5 | H4: =IF(6<=DAY(DATE(Setup!$B$8,7+1,0)),6,"") -> 6 | I4: =IF(7<=DAY(DATE(Setup!$B$8,7+1,0)),7,"") -> 7 | J4: =IF(8<=DAY(DATE(Setup!$B$8,7+1,0)),8,"") -> 8 | K4: =IF(9<=DAY(DATE(Setup!$B$8,7+1,0)),9,"") -> 9 | L4: =IF(10<=DAY(DATE(Setup!$B$8,7+1,0)),10,"") -> 10 | M4: =IF(11<=DAY(DATE(Setup!$B$8,7+1,0)),11,"") -> 11 | N4: =IF(12<=DAY(DATE(Setup!$B$8,7+1,0)),12,"") -> 12 | O4: =IF(13<=DAY(DATE(Setup!$B$8,7+1,0)),13,"") -> 13 | P4: =IF(14<=DAY(DATE(Setup!$B$8,7+1,0)),14,"") -> 14 | Q4: =IF(15<=DAY(DATE(Setup!$B$8,7+1,0)),15,"") -> 15 | R4: =IF(16<=DAY(DATE(Setup!$B$8,7+1,0)),16,"") -> 16 | S4: =IF(17<=DAY(DATE(Setup!$B$8,7+1,0)),17,"") -> 17 | T4: =IF(18<=DAY(DATE(Setup!$B$8,7+1,0)),18,"") -> 18 | U4: =IF(19<=DAY(DATE(Setup!$B$8,7+1,0)),19,"") -> 19 | V4: =IF(20<=DAY(DATE(Setup!$B$8,7+1,0)),20,"") -> 20 | W4: =IF(21<=DAY(DATE(Setup!$B$8,7+1,0)),21,"") -> 21 | X4: =IF(22<=DAY(DATE(Setup!$B$8,7+1,0)),22,"") -> 22 | Y4: =IF(23<=DAY(DATE(Setup!$B$8,7+1,0)),23,"") -> 23 | Z4: =IF(24<=DAY(DATE(Setup!$B$8,7+1,0)),24,"") -> 24 | AA4: =IF(25<=DAY(DATE(Setup!$B$8,7+1,0)),25,"") -> 25 | AB4: =IF(26<=DAY(DATE(Setup!$B$8,7+1,0)),26,"") -> 26 | AC4: =IF(27<=DAY(DATE(Setup!$B$8,7+1,0)),27,"") -> 27 | AD4: =IF(28<=DAY(DATE(Setup!$B$8,7+1,0)),28,"") -> 28 | AE4: =IF(29<=DAY(DATE(Setup!$B$8,7+1,0)),29,"") -> 29 | AF4: =IF(30<=DAY(DATE(Setup!$B$8,7+1,0)),30,"") -> 30 | AG4: =IF(31<=DAY(DATE(Setup!$B$8,7+1,0)),31,"") -> 31 | AH4: P | AI4: A | AJ4: L | AK4: Days | AL4: %
C5: =IF(C$4="","",CHOOSE(WEEKDAY(DATE(Setup!$B$8,7,C$4)),"Su","Mo","Tu","We","Th","Fr","Sa")) -> We | D5: =IF(D$4="","",CHOOSE(WEEKDAY(DATE(Setup!$B$8,7,D$4)),"Su","Mo","Tu","We","Th","Fr","Sa")) -> Th | E5: =IF(E$4="","",CHOOSE(WEEKDAY(DATE(Setup!$B$8,7,E$4)),"Su","Mo","Tu","We","Th","Fr","Sa")) -> Fr | F5: =IF(F$4="","",CHOOSE(WEEKDAY(DATE(Setup!$B$8,7,F$4)),"Su","Mo","Tu","We","Th","Fr","Sa")) -> Sa | G5: =IF(G$4="","",CHOOSE(WEEKDAY(DATE(Setup!$B$8,7,G$4)),"Su","Mo","Tu","We","Th","Fr","Sa")) -> Su | H5: =IF(H$4="","",CHOOSE(WEEKDAY(DATE(Setup!$B$8,7,H$4)),"Su","Mo","Tu","We","Th","Fr","Sa")) -> Mo | I5: =IF(I$4="","",CHOOSE(WEEKDAY(DATE(Setup!$B$8,7,I$4)),"Su","Mo","Tu","We","Th","Fr","Sa")) -> Tu | J5: =IF(J$4="","",CHOOSE(WEEKDAY(DATE(Setup!$B$8,7,J$4)),"Su","Mo","Tu","We","Th","Fr","Sa")) -> We | ... AG5: =IF(AG$4="","",CHOOSE(WEEKDAY(DATE(Setup!$B$8,7,AG$4)),"Su","Mo","Tu","We","Th","Fr","Sa")) -> Fr
A6: =IF(Setup!B19="","",Setup!A19) -> 1 | B6: =IF(Setup!B19="","",Setup!B19) -> Aarav Sharma | AH6: =IF($B6="","",COUNTIF(C6:AG6,"P")) -> 0 | AI6: =IF($B6="","",COUNTIF(C6:AG6,"A")) -> 0 | AJ6: =IF($B6="","",COUNTIF(C6:AG6,"L")) -> 0 | AK6: =IF($B6="","",AH6+AI6+AJ6) -> 0 | AL6: =IF(N(AK6)=0,"",AH6/AK6)
A7: =IF(Setup!B20="","",Setup!A20) -> 2 | B7: =IF(Setup!B20="","",Setup!B20) -> Ananya Iyer | AH7: =IF($B7="","",COUNTIF(C7:AG7,"P")) -> 0 | AI7: =IF($B7="","",COUNTIF(C7:AG7,"A")) -> 0 | AJ7: =IF($B7="","",COUNTIF(C7:AG7,"L")) -> 0 | AK7: =IF($B7="","",AH7+AI7+AJ7) -> 0 | AL7: =IF(N(AK7)=0,"",AH7/AK7)
A8: =IF(Setup!B21="","",Setup!A21) -> 3 | B8: =IF(Setup!B21="","",Setup!B21) -> Diya Menon | AH8: =IF($B8="","",COUNTIF(C8:AG8,"P")) -> 0 | AI8: =IF($B8="","",COUNTIF(C8:AG8,"A")) -> 0 | AJ8: =IF($B8="","",COUNTIF(C8:AG8,"L")) -> 0 | AK8: =IF($B8="","",AH8+AI8+AJ8) -> 0 | AL8: =IF(N(AK8)=0,"",AH8/AK8)
A9: =IF(Setup!B22="","",Setup!A22) -> 4 | B9: =IF(Setup!B22="","",Setup!B22) -> Ishaan Patel | AH9: =IF($B9="","",COUNTIF(C9:AG9,"P")) -> 0 | AI9: =IF($B9="","",COUNTIF(C9:AG9,"A")) -> 0 | AJ9: =IF($B9="","",COUNTIF(C9:AG9,"L")) -> 0 | AK9: =IF($B9="","",AH9+AI9+AJ9) -> 0 | AL9: =IF(N(AK9)=0,"",AH9/AK9)
A10: =IF(Setup!B23="","",Setup!A23) -> 5 | B10: =IF(Setup!B23="","",Setup!B23) -> Meera Reddy | AH10: =IF($B10="","",COUNTIF(C10:AG10,"P")) -> 0 | AI10: =IF($B10="","",COUNTIF(C10:AG10,"A")) -> 0 | AJ10: =IF($B10="","",COUNTIF(C10:AG10,"L")) -> 0 | AK10: =IF($B10="","",AH10+AI10+AJ10) -> 0 | AL10: =IF(N(AK10)=0,"",AH10/AK10)
A11: =IF(Setup!B24="","",Setup!A24) -> 6 | B11: =IF(Setup!B24="","",Setup!B24) -> Rohan Das | AH11: =IF($B11="","",COUNTIF(C11:AG11,"P")) -> 0 | AI11: =IF($B11="","",COUNTIF(C11:AG11,"A")) -> 0 | AJ11: =IF($B11="","",COUNTIF(C11:AG11,"L")) -> 0 | AK11: =IF($B11="","",AH11+AI11+AJ11) -> 0 | AL11: =IF(N(AK11)=0,"",AH11/AK11)
A12: =IF(Setup!B25="","",Setup!A25) -> 7 | B12: =IF(Setup!B25="","",Setup!B25) -> Sara Khan | AH12: =IF($B12="","",COUNTIF(C12:AG12,"P")) -> 0 | AI12: =IF($B12="","",COUNTIF(C12:AG12,"A")) -> 0 | AJ12: =IF($B12="","",COUNTIF(C12:AG12,"L")) -> 0 | AK12: =IF($B12="","",AH12+AI12+AJ12) -> 0 | AL12: =IF(N(AK12)=0,"",AH12/AK12)
A13: =IF(Setup!B26="","",Setup!A26) -> 8 | B13: =IF(Setup!B26="","",Setup!B26) -> Vihaan Gupta | AH13: =IF($B13="","",COUNTIF(C13:AG13,"P")) -> 0 | AI13: =IF($B13="","",COUNTIF(C13:AG13,"A")) -> 0 | AJ13: =IF($B13="","",COUNTIF(C13:AG13,"L")) -> 0 | AK13: =IF($B13="","",AH13+AI13+AJ13) -> 0 | AL13: =IF(N(AK13)=0,"",AH13/AK13)
A14: =IF(Setup!B27="","",Setup!A27) | B14: =IF(Setup!B27="","",Setup!B27) | AH14: =IF($B14="","",COUNTIF(C14:AG14,"P")) | AI14: =IF($B14="","",COUNTIF(C14:AG14,"A")) | AJ14: =IF($B14="","",COUNTIF(C14:AG14,"L")) | AK14: =IF($B14="","",AH14+AI14+AJ14) | AL14: =IF(N(AK14)=0,"",AH14/AK14)
A15: =IF(Setup!B28="","",Setup!A28) | B15: =IF(Setup!B28="","",Setup!B28) | AH15: =IF($B15="","",COUNTIF(C15:AG15,"P")) | AI15: =IF($B15="","",COUNTIF(C15:AG15,"A")) | AJ15: =IF($B15="","",COUNTIF(C15:AG15,"L")) | AK15: =IF($B15="","",AH15+AI15+AJ15) | AL15: =IF(N(AK15)=0,"",AH15/AK15)
A16: =IF(Setup!B29="","",Setup!A29) | B16: =IF(Setup!B29="","",Setup!B29) | AH16: =IF($B16="","",COUNTIF(C16:AG16,"P")) | AI16: =IF($B16="","",COUNTIF(C16:AG16,"A")) | AJ16: =IF($B16="","",COUNTIF(C16:AG16,"L")) | AK16: =IF($B16="","",AH16+AI16+AJ16) | AL16: =IF(N(AK16)=0,"",AH16/AK16)
A17: =IF(Setup!B30="","",Setup!A30) | B17: =IF(Setup!B30="","",Setup!B30) | AH17: =IF($B17="","",COUNTIF(C17:AG17,"P")) | AI17: =IF($B17="","",COUNTIF(C17:AG17,"A")) | AJ17: =IF($B17="","",COUNTIF(C17:AG17,"L")) | AK17: =IF($B17="","",AH17+AI17+AJ17) | AL17: =IF(N(AK17)=0,"",AH17/AK17)
... A55: =IF(Setup!B68="","",Setup!A68) | B55: =IF(Setup!B68="","",Setup!B68) | AH55: =IF($B55="","",COUNTIF(C55:AG55,"P")) | AI55: =IF($B55="","",COUNTIF(C55:AG55,"A")) | AJ55: =IF($B55="","",COUNTIF(C55:AG55,"L")) | AK55: =IF($B55="","",AH55+AI55+AJ55) | AL55: =IF(N(AK55)=0,"",AH55/AK55)
A56: Present that day | C56: =IF(C$4="","",COUNTIF(C6:C55,"P")) -> 0 | D56: =IF(D$4="","",COUNTIF(D6:D55,"P")) -> 0 | E56: =IF(E$4="","",COUNTIF(E6:E55,"P")) -> 0 | F56: =IF(F$4="","",COUNTIF(F6:F55,"P")) -> 0 | G56: =IF(G$4="","",COUNTIF(G6:G55,"P")) -> 0 | H56: =IF(H$4="","",COUNTIF(H6:H55,"P")) -> 0 | I56: =IF(I$4="","",COUNTIF(I6:I55,"P")) -> 0 | J56: =IF(J$4="","",COUNTIF(J6:J55,"P")) -> 0 | ... AG56: =IF(AG$4="","",COUNTIF(AG6:AG55,"P")) -> 0
A57: Absent or on leave | C57: =IF(C$4="","",COUNTIF(C6:C55,"A")+COUNTIF(C6:C55,"L")) -> 0 | D57: =IF(D$4="","",COUNTIF(D6:D55,"A")+COUNTIF(D6:D55,"L")) -> 0 | E57: =IF(E$4="","",COUNTIF(E6:E55,"A")+COUNTIF(E6:E55,"L")) -> 0 | F57: =IF(F$4="","",COUNTIF(F6:F55,"A")+COUNTIF(F6:F55,"L")) -> 0 | G57: =IF(G$4="","",COUNTIF(G6:G55,"A")+COUNTIF(G6:G55,"L")) -> 0 | H57: =IF(H$4="","",COUNTIF(H6:H55,"A")+COUNTIF(H6:H55,"L")) -> 0 | I57: =IF(I$4="","",COUNTIF(I6:I55,"A")+COUNTIF(I6:I55,"L")) -> 0 | J57: =IF(J$4="","",COUNTIF(J6:J55,"A")+COUNTIF(J6:J55,"L")) -> 0 | ... AG57: =IF(AG$4="","",COUNTIF(AG6:AG55,"A")+COUNTIF(AG6:AG55,"L")) -> 0
A59: Free template from proems.in

Sheet Aug
A1: =Setup!$B$4 -> Demo Public School
A2: ="Class "&Setup!$B$5&" "&Setup!$B$6&" · August "&Setup!$B$8&" · Class teacher: "&Setup!$B$7 -> Class VII A · August 2026 · Class teacher: Ms. R. Iyer | AK2: Minimum | AL2: =Setup!$B$9 -> 0.75
A4: Roll | B4: Student name | C4: =IF(1<=DAY(DATE(Setup!$B$8,8+1,0)),1,"") -> 1 | D4: =IF(2<=DAY(DATE(Setup!$B$8,8+1,0)),2,"") -> 2 | E4: =IF(3<=DAY(DATE(Setup!$B$8,8+1,0)),3,"") -> 3 | F4: =IF(4<=DAY(DATE(Setup!$B$8,8+1,0)),4,"") -> 4 | G4: =IF(5<=DAY(DATE(Setup!$B$8,8+1,0)),5,"") -> 5 | H4: =IF(6<=DAY(DATE(Setup!$B$8,8+1,0)),6,"") -> 6 | I4: =IF(7<=DAY(DATE(Setup!$B$8,8+1,0)),7,"") -> 7 | J4: =IF(8<=DAY(DATE(Setup!$B$8,8+1,0)),8,"") -> 8 | K4: =IF(9<=DAY(DATE(Setup!$B$8,8+1,0)),9,"") -> 9 | L4: =IF(10<=DAY(DATE(Setup!$B$8,8+1,0)),10,"") -> 10 | M4: =IF(11<=DAY(DATE(Setup!$B$8,8+1,0)),11,"") -> 11 | N4: =IF(12<=DAY(DATE(Setup!$B$8,8+1,0)),12,"") -> 12 | O4: =IF(13<=DAY(DATE(Setup!$B$8,8+1,0)),13,"") -> 13 | P4: =IF(14<=DAY(DATE(Setup!$B$8,8+1,0)),14,"") -> 14 | Q4: =IF(15<=DAY(DATE(Setup!$B$8,8+1,0)),15,"") -> 15 | R4: =IF(16<=DAY(DATE(Setup!$B$8,8+1,0)),16,"") -> 16 | S4: =IF(17<=DAY(DATE(Setup!$B$8,8+1,0)),17,"") -> 17 | T4: =IF(18<=DAY(DATE(Setup!$B$8,8+1,0)),18,"") -> 18 | U4: =IF(19<=DAY(DATE(Setup!$B$8,8+1,0)),19,"") -> 19 | V4: =IF(20<=DAY(DATE(Setup!$B$8,8+1,0)),20,"") -> 20 | W4: =IF(21<=DAY(DATE(Setup!$B$8,8+1,0)),21,"") -> 21 | X4: =IF(22<=DAY(DATE(Setup!$B$8,8+1,0)),22,"") -> 22 | Y4: =IF(23<=DAY(DATE(Setup!$B$8,8+1,0)),23,"") -> 23 | Z4: =IF(24<=DAY(DATE(Setup!$B$8,8+1,0)),24,"") -> 24 | AA4: =IF(25<=DAY(DATE(Setup!$B$8,8+1,0)),25,"") -> 25 | AB4: =IF(26<=DAY(DATE(Setup!$B$8,8+1,0)),26,"") -> 26 | AC4: =IF(27<=DAY(DATE(Setup!$B$8,8+1,0)),27,"") -> 27 | AD4: =IF(28<=DAY(DATE(Setup!$B$8,8+1,0)),28,"") -> 28 | AE4: =IF(29<=DAY(DATE(Setup!$B$8,8+1,0)),29,"") -> 29 | AF4: =IF(30<=DAY(DATE(Setup!$B$8,8+1,0)),30,"") -> 30 | AG4: =IF(31<=DAY(DATE(Setup!$B$8,8+1,0)),31,"") -> 31 | AH4: P | AI4: A | AJ4: L | AK4: Days | AL4: %
C5: =IF(C$4="","",CHOOSE(WEEKDAY(DATE(Setup!$B$8,8,C$4)),"Su","Mo","Tu","We","Th","Fr","Sa")) -> Sa | D5: =IF(D$4="","",CHOOSE(WEEKDAY(DATE(Setup!$B$8,8,D$4)),"Su","Mo","Tu","We","Th","Fr","Sa")) -> Su | E5: =IF(E$4="","",CHOOSE(WEEKDAY(DATE(Setup!$B$8,8,E$4)),"Su","Mo","Tu","We","Th","Fr","Sa")) -> Mo | F5: =IF(F$4="","",CHOOSE(WEEKDAY(DATE(Setup!$B$8,8,F$4)),"Su","Mo","Tu","We","Th","Fr","Sa")) -> Tu | G5: =IF(G$4="","",CHOOSE(WEEKDAY(DATE(Setup!$B$8,8,G$4)),"Su","Mo","Tu","We","Th","Fr","Sa")) -> We | H5: =IF(H$4="","",CHOOSE(WEEKDAY(DATE(Setup!$B$8,8,H$4)),"Su","Mo","Tu","We","Th","Fr","Sa")) -> Th | I5: =IF(I$4="","",CHOOSE(WEEKDAY(DATE(Setup!$B$8,8,I$4)),"Su","Mo","Tu","We","Th","Fr","Sa")) -> Fr | J5: =IF(J$4="","",CHOOSE(WEEKDAY(DATE(Setup!$B$8,8,J$4)),"Su","Mo","Tu","We","Th","Fr","Sa")) -> Sa | ... AG5: =IF(AG$4="","",CHOOSE(WEEKDAY(DATE(Setup!$B$8,8,AG$4)),"Su","Mo","Tu","We","Th","Fr","Sa")) -> Mo
A6: =IF(Setup!B19="","",Setup!A19) -> 1 | B6: =IF(Setup!B19="","",Setup!B19) -> Aarav Sharma | AH6: =IF($B6="","",COUNTIF(C6:AG6,"P")) -> 0 | AI6: =IF($B6="","",COUNTIF(C6:AG6,"A")) -> 0 | AJ6: =IF($B6="","",COUNTIF(C6:AG6,"L")) -> 0 | AK6: =IF($B6="","",AH6+AI6+AJ6) -> 0 | AL6: =IF(N(AK6)=0,"",AH6/AK6)
A7: =IF(Setup!B20="","",Setup!A20) -> 2 | B7: =IF(Setup!B20="","",Setup!B20) -> Ananya Iyer | AH7: =IF($B7="","",COUNTIF(C7:AG7,"P")) -> 0 | AI7: =IF($B7="","",COUNTIF(C7:AG7,"A")) -> 0 | AJ7: =IF($B7="","",COUNTIF(C7:AG7,"L")) -> 0 | AK7: =IF($B7="","",AH7+AI7+AJ7) -> 0 | AL7: =IF(N(AK7)=0,"",AH7/AK7)
A8: =IF(Setup!B21="","",Setup!A21) -> 3 | B8: =IF(Setup!B21="","",Setup!B21) -> Diya Menon | AH8: =IF($B8="","",COUNTIF(C8:AG8,"P")) -> 0 | AI8: =IF($B8="","",COUNTIF(C8:AG8,"A")) -> 0 | AJ8: =IF($B8="","",COUNTIF(C8:AG8,"L")) -> 0 | AK8: =IF($B8="","",AH8+AI8+AJ8) -> 0 | AL8: =IF(N(AK8)=0,"",AH8/AK8)
A9: =IF(Setup!B22="","",Setup!A22) -> 4 | B9: =IF(Setup!B22="","",Setup!B22) -> Ishaan Patel | AH9: =IF($B9="","",COUNTIF(C9:AG9,"P")) -> 0 | AI9: =IF($B9="","",COUNTIF(C9:AG9,"A")) -> 0 | AJ9: =IF($B9="","",COUNTIF(C9:AG9,"L")) -> 0 | AK9: =IF($B9="","",AH9+AI9+AJ9) -> 0 | AL9: =IF(N(AK9)=0,"",AH9/AK9)
A10: =IF(Setup!B23="","",Setup!A23) -> 5 | B10: =IF(Setup!B23="","",Setup!B23) -> Meera Reddy | AH10: =IF($B10="","",COUNTIF(C10:AG10,"P")) -> 0 | AI10: =IF($B10="","",COUNTIF(C10:AG10,"A")) -> 0 | AJ10: =IF($B10="","",COUNTIF(C10:AG10,"L")) -> 0 | AK10: =IF($B10="","",AH10+AI10+AJ10) -> 0 | AL10: =IF(N(AK10)=0,"",AH10/AK10)
A11: =IF(Setup!B24="","",Setup!A24) -> 6 | B11: =IF(Setup!B24="","",Setup!B24) -> Rohan Das | AH11: =IF($B11="","",COUNTIF(C11:AG11,"P")) -> 0 | AI11: =IF($B11="","",COUNTIF(C11:AG11,"A")) -> 0 | AJ11: =IF($B11="","",COUNTIF(C11:AG11,"L")) -> 0 | AK11: =IF($B11="","",AH11+AI11+AJ11) -> 0 | AL11: =IF(N(AK11)=0,"",AH11/AK11)
A12: =IF(Setup!B25="","",Setup!A25) -> 7 | B12: =IF(Setup!B25="","",Setup!B25) -> Sara Khan | AH12: =IF($B12="","",COUNTIF(C12:AG12,"P")) -> 0 | AI12: =IF($B12="","",COUNTIF(C12:AG12,"A")) -> 0 | AJ12: =IF($B12="","",COUNTIF(C12:AG12,"L")) -> 0 | AK12: =IF($B12="","",AH12+AI12+AJ12) -> 0 | AL12: =IF(N(AK12)=0,"",AH12/AK12)
A13: =IF(Setup!B26="","",Setup!A26) -> 8 | B13: =IF(Setup!B26="","",Setup!B26) -> Vihaan Gupta | AH13: =IF($B13="","",COUNTIF(C13:AG13,"P")) -> 0 | AI13: =IF($B13="","",COUNTIF(C13:AG13,"A")) -> 0 | AJ13: =IF($B13="","",COUNTIF(C13:AG13,"L")) -> 0 | AK13: =IF($B13="","",AH13+AI13+AJ13) -> 0 | AL13: =IF(N(AK13)=0,"",AH13/AK13)
A14: =IF(Setup!B27="","",Setup!A27) | B14: =IF(Setup!B27="","",Setup!B27) | AH14: =IF($B14="","",COUNTIF(C14:AG14,"P")) | AI14: =IF($B14="","",COUNTIF(C14:AG14,"A")) | AJ14: =IF($B14="","",COUNTIF(C14:AG14,"L")) | AK14: =IF($B14="","",AH14+AI14+AJ14) | AL14: =IF(N(AK14)=0,"",AH14/AK14)
A15: =IF(Setup!B28="","",Setup!A28) | B15: =IF(Setup!B28="","",Setup!B28) | AH15: =IF($B15="","",COUNTIF(C15:AG15,"P")) | AI15: =IF($B15="","",COUNTIF(C15:AG15,"A")) | AJ15: =IF($B15="","",COUNTIF(C15:AG15,"L")) | AK15: =IF($B15="","",AH15+AI15+AJ15) | AL15: =IF(N(AK15)=0,"",AH15/AK15)
A16: =IF(Setup!B29="","",Setup!A29) | B16: =IF(Setup!B29="","",Setup!B29) | AH16: =IF($B16="","",COUNTIF(C16:AG16,"P")) | AI16: =IF($B16="","",COUNTIF(C16:AG16,"A")) | AJ16: =IF($B16="","",COUNTIF(C16:AG16,"L")) | AK16: =IF($B16="","",AH16+AI16+AJ16) | AL16: =IF(N(AK16)=0,"",AH16/AK16)
A17: =IF(Setup!B30="","",Setup!A30) | B17: =IF(Setup!B30="","",Setup!B30) | AH17: =IF($B17="","",COUNTIF(C17:AG17,"P")) | AI17: =IF($B17="","",COUNTIF(C17:AG17,"A")) | AJ17: =IF($B17="","",COUNTIF(C17:AG17,"L")) | AK17: =IF($B17="","",AH17+AI17+AJ17) | AL17: =IF(N(AK17)=0,"",AH17/AK17)
... A55: =IF(Setup!B68="","",Setup!A68) | B55: =IF(Setup!B68="","",Setup!B68) | AH55: =IF($B55="","",COUNTIF(C55:AG55,"P")) | AI55: =IF($B55="","",COUNTIF(C55:AG55,"A")) | AJ55: =IF($B55="","",COUNTIF(C55:AG55,"L")) | AK55: =IF($B55="","",AH55+AI55+AJ55) | AL55: =IF(N(AK55)=0,"",AH55/AK55)
A56: Present that day | C56: =IF(C$4="","",COUNTIF(C6:C55,"P")) -> 0 | D56: =IF(D$4="","",COUNTIF(D6:D55,"P")) -> 0 | E56: =IF(E$4="","",COUNTIF(E6:E55,"P")) -> 0 | F56: =IF(F$4="","",COUNTIF(F6:F55,"P")) -> 0 | G56: =IF(G$4="","",COUNTIF(G6:G55,"P")) -> 0 | H56: =IF(H$4="","",COUNTIF(H6:H55,"P")) -> 0 | I56: =IF(I$4="","",COUNTIF(I6:I55,"P")) -> 0 | J56: =IF(J$4="","",COUNTIF(J6:J55,"P")) -> 0 | ... AG56: =IF(AG$4="","",COUNTIF(AG6:AG55,"P")) -> 0
A57: Absent or on leave | C57: =IF(C$4="","",COUNTIF(C6:C55,"A")+COUNTIF(C6:C55,"L")) -> 0 | D57: =IF(D$4="","",COUNTIF(D6:D55,"A")+COUNTIF(D6:D55,"L")) -> 0 | E57: =IF(E$4="","",COUNTIF(E6:E55,"A")+COUNTIF(E6:E55,"L")) -> 0 | F57: =IF(F$4="","",COUNTIF(F6:F55,"A")+COUNTIF(F6:F55,"L")) -> 0 | G57: =IF(G$4="","",COUNTIF(G6:G55,"A")+COUNTIF(G6:G55,"L")) -> 0 | H57: =IF(H$4="","",COUNTIF(H6:H55,"A")+COUNTIF(H6:H55,"L")) -> 0 | I57: =IF(I$4="","",COUNTIF(I6:I55,"A")+COUNTIF(I6:I55,"L")) -> 0 | J57: =IF(J$4="","",COUNTIF(J6:J55,"A")+COUNTIF(J6:J55,"L")) -> 0 | ... AG57: =IF(AG$4="","",COUNTIF(AG6:AG55,"A")+COUNTIF(AG6:AG55,"L")) -> 0
A59: Free template from proems.in

Sheet Sep
A1: =Setup!$B$4 -> Demo Public School
A2: ="Class "&Setup!$B$5&" "&Setup!$B$6&" · September "&Setup!$B$8&" · Class teacher: "&Setup!$B$7 -> Class VII A · September 2026 · Class teacher: Ms. R. Iyer | AK2: Minimum | AL2: =Setup!$B$9 -> 0.75
A4: Roll | B4: Student name | C4: =IF(1<=DAY(DATE(Setup!$B$8,9+1,0)),1,"") -> 1 | D4: =IF(2<=DAY(DATE(Setup!$B$8,9+1,0)),2,"") -> 2 | E4: =IF(3<=DAY(DATE(Setup!$B$8,9+1,0)),3,"") -> 3 | F4: =IF(4<=DAY(DATE(Setup!$B$8,9+1,0)),4,"") -> 4 | G4: =IF(5<=DAY(DATE(Setup!$B$8,9+1,0)),5,"") -> 5 | H4: =IF(6<=DAY(DATE(Setup!$B$8,9+1,0)),6,"") -> 6 | I4: =IF(7<=DAY(DATE(Setup!$B$8,9+1,0)),7,"") -> 7 | J4: =IF(8<=DAY(DATE(Setup!$B$8,9+1,0)),8,"") -> 8 | K4: =IF(9<=DAY(DATE(Setup!$B$8,9+1,0)),9,"") -> 9 | L4: =IF(10<=DAY(DATE(Setup!$B$8,9+1,0)),10,"") -> 10 | M4: =IF(11<=DAY(DATE(Setup!$B$8,9+1,0)),11,"") -> 11 | N4: =IF(12<=DAY(DATE(Setup!$B$8,9+1,0)),12,"") -> 12 | O4: =IF(13<=DAY(DATE(Setup!$B$8,9+1,0)),13,"") -> 13 | P4: =IF(14<=DAY(DATE(Setup!$B$8,9+1,0)),14,"") -> 14 | Q4: =IF(15<=DAY(DATE(Setup!$B$8,9+1,0)),15,"") -> 15 | R4: =IF(16<=DAY(DATE(Setup!$B$8,9+1,0)),16,"") -> 16 | S4: =IF(17<=DAY(DATE(Setup!$B$8,9+1,0)),17,"") -> 17 | T4: =IF(18<=DAY(DATE(Setup!$B$8,9+1,0)),18,"") -> 18 | U4: =IF(19<=DAY(DATE(Setup!$B$8,9+1,0)),19,"") -> 19 | V4: =IF(20<=DAY(DATE(Setup!$B$8,9+1,0)),20,"") -> 20 | W4: =IF(21<=DAY(DATE(Setup!$B$8,9+1,0)),21,"") -> 21 | X4: =IF(22<=DAY(DATE(Setup!$B$8,9+1,0)),22,"") -> 22 | Y4: =IF(23<=DAY(DATE(Setup!$B$8,9+1,0)),23,"") -> 23 | Z4: =IF(24<=DAY(DATE(Setup!$B$8,9+1,0)),24,"") -> 24 | AA4: =IF(25<=DAY(DATE(Setup!$B$8,9+1,0)),25,"") -> 25 | AB4: =IF(26<=DAY(DATE(Setup!$B$8,9+1,0)),26,"") -> 26 | AC4: =IF(27<=DAY(DATE(Setup!$B$8,9+1,0)),27,"") -> 27 | AD4: =IF(28<=DAY(DATE(Setup!$B$8,9+1,0)),28,"") -> 28 | AE4: =IF(29<=DAY(DATE(Setup!$B$8,9+1,0)),29,"") -> 29 | AF4: =IF(30<=DAY(DATE(Setup!$B$8,9+1,0)),30,"") -> 30 | AG4: =IF(31<=DAY(DATE(Setup!$B$8,9+1,0)),31,"") | AH4: P | AI4: A | AJ4: L | AK4: Days | AL4: %
C5: =IF(C$4="","",CHOOSE(WEEKDAY(DATE(Setup!$B$8,9,C$4)),"Su","Mo","Tu","We","Th","Fr","Sa")) -> Tu | D5: =IF(D$4="","",CHOOSE(WEEKDAY(DATE(Setup!$B$8,9,D$4)),"Su","Mo","Tu","We","Th","Fr","Sa")) -> We | E5: =IF(E$4="","",CHOOSE(WEEKDAY(DATE(Setup!$B$8,9,E$4)),"Su","Mo","Tu","We","Th","Fr","Sa")) -> Th | F5: =IF(F$4="","",CHOOSE(WEEKDAY(DATE(Setup!$B$8,9,F$4)),"Su","Mo","Tu","We","Th","Fr","Sa")) -> Fr | G5: =IF(G$4="","",CHOOSE(WEEKDAY(DATE(Setup!$B$8,9,G$4)),"Su","Mo","Tu","We","Th","Fr","Sa")) -> Sa | H5: =IF(H$4="","",CHOOSE(WEEKDAY(DATE(Setup!$B$8,9,H$4)),"Su","Mo","Tu","We","Th","Fr","Sa")) -> Su | I5: =IF(I$4="","",CHOOSE(WEEKDAY(DATE(Setup!$B$8,9,I$4)),"Su","Mo","Tu","We","Th","Fr","Sa")) -> Mo | J5: =IF(J$4="","",CHOOSE(WEEKDAY(DATE(Setup!$B$8,9,J$4)),"Su","Mo","Tu","We","Th","Fr","Sa")) -> Tu | ... AG5: =IF(AG$4="","",CHOOSE(WEEKDAY(DATE(Setup!$B$8,9,AG$4)),"Su","Mo","Tu","We","Th","Fr","Sa"))
A6: =IF(Setup!B19="","",Setup!A19) -> 1 | B6: =IF(Setup!B19="","",Setup!B19) -> Aarav Sharma | AH6: =IF($B6="","",COUNTIF(C6:AG6,"P")) -> 0 | AI6: =IF($B6="","",COUNTIF(C6:AG6,"A")) -> 0 | AJ6: =IF($B6="","",COUNTIF(C6:AG6,"L")) -> 0 | AK6: =IF($B6="","",AH6+AI6+AJ6) -> 0 | AL6: =IF(N(AK6)=0,"",AH6/AK6)
A7: =IF(Setup!B20="","",Setup!A20) -> 2 | B7: =IF(Setup!B20="","",Setup!B20) -> Ananya Iyer | AH7: =IF($B7="","",COUNTIF(C7:AG7,"P")) -> 0 | AI7: =IF($B7="","",COUNTIF(C7:AG7,"A")) -> 0 | AJ7: =IF($B7="","",COUNTIF(C7:AG7,"L")) -> 0 | AK7: =IF($B7="","",AH7+AI7+AJ7) -> 0 | AL7: =IF(N(AK7)=0,"",AH7/AK7)
A8: =IF(Setup!B21="","",Setup!A21) -> 3 | B8: =IF(Setup!B21="","",Setup!B21) -> Diya Menon | AH8: =IF($B8="","",COUNTIF(C8:AG8,"P")) -> 0 | AI8: =IF($B8="","",COUNTIF(C8:AG8,"A")) -> 0 | AJ8: =IF($B8="","",COUNTIF(C8:AG8,"L")) -> 0 | AK8: =IF($B8="","",AH8+AI8+AJ8) -> 0 | AL8: =IF(N(AK8)=0,"",AH8/AK8)
A9: =IF(Setup!B22="","",Setup!A22) -> 4 | B9: =IF(Setup!B22="","",Setup!B22) -> Ishaan Patel | AH9: =IF($B9="","",COUNTIF(C9:AG9,"P")) -> 0 | AI9: =IF($B9="","",COUNTIF(C9:AG9,"A")) -> 0 | AJ9: =IF($B9="","",COUNTIF(C9:AG9,"L")) -> 0 | AK9: =IF($B9="","",AH9+AI9+AJ9) -> 0 | AL9: =IF(N(AK9)=0,"",AH9/AK9)
A10: =IF(Setup!B23="","",Setup!A23) -> 5 | B10: =IF(Setup!B23="","",Setup!B23) -> Meera Reddy | AH10: =IF($B10="","",COUNTIF(C10:AG10,"P")) -> 0 | AI10: =IF($B10="","",COUNTIF(C10:AG10,"A")) -> 0 | AJ10: =IF($B10="","",COUNTIF(C10:AG10,"L")) -> 0 | AK10: =IF($B10="","",AH10+AI10+AJ10) -> 0 | AL10: =IF(N(AK10)=0,"",AH10/AK10)
A11: =IF(Setup!B24="","",Setup!A24) -> 6 | B11: =IF(Setup!B24="","",Setup!B24) -> Rohan Das | AH11: =IF($B11="","",COUNTIF(C11:AG11,"P")) -> 0 | AI11: =IF($B11="","",COUNTIF(C11:AG11,"A")) -> 0 | AJ11: =IF($B11="","",COUNTIF(C11:AG11,"L")) -> 0 | AK11: =IF($B11="","",AH11+AI11+AJ11) -> 0 | AL11: =IF(N(AK11)=0,"",AH11/AK11)
A12: =IF(Setup!B25="","",Setup!A25) -> 7 | B12: =IF(Setup!B25="","",Setup!B25) -> Sara Khan | AH12: =IF($B12="","",COUNTIF(C12:AG12,"P")) -> 0 | AI12: =IF($B12="","",COUNTIF(C12:AG12,"A")) -> 0 | AJ12: =IF($B12="","",COUNTIF(C12:AG12,"L")) -> 0 | AK12: =IF($B12="","",AH12+AI12+AJ12) -> 0 | AL12: =IF(N(AK12)=0,"",AH12/AK12)
A13: =IF(Setup!B26="","",Setup!A26) -> 8 | B13: =IF(Setup!B26="","",Setup!B26) -> Vihaan Gupta | AH13: =IF($B13="","",COUNTIF(C13:AG13,"P")) -> 0 | AI13: =IF($B13="","",COUNTIF(C13:AG13,"A")) -> 0 | AJ13: =IF($B13="","",COUNTIF(C13:AG13,"L")) -> 0 | AK13: =IF($B13="","",AH13+AI13+AJ13) -> 0 | AL13: =IF(N(AK13)=0,"",AH13/AK13)
A14: =IF(Setup!B27="","",Setup!A27) | B14: =IF(Setup!B27="","",Setup!B27) | AH14: =IF($B14="","",COUNTIF(C14:AG14,"P")) | AI14: =IF($B14="","",COUNTIF(C14:AG14,"A")) | AJ14: =IF($B14="","",COUNTIF(C14:AG14,"L")) | AK14: =IF($B14="","",AH14+AI14+AJ14) | AL14: =IF(N(AK14)=0,"",AH14/AK14)
A15: =IF(Setup!B28="","",Setup!A28) | B15: =IF(Setup!B28="","",Setup!B28) | AH15: =IF($B15="","",COUNTIF(C15:AG15,"P")) | AI15: =IF($B15="","",COUNTIF(C15:AG15,"A")) | AJ15: =IF($B15="","",COUNTIF(C15:AG15,"L")) | AK15: =IF($B15="","",AH15+AI15+AJ15) | AL15: =IF(N(AK15)=0,"",AH15/AK15)
A16: =IF(Setup!B29="","",Setup!A29) | B16: =IF(Setup!B29="","",Setup!B29) | AH16: =IF($B16="","",COUNTIF(C16:AG16,"P")) | AI16: =IF($B16="","",COUNTIF(C16:AG16,"A")) | AJ16: =IF($B16="","",COUNTIF(C16:AG16,"L")) | AK16: =IF($B16="","",AH16+AI16+AJ16) | AL16: =IF(N(AK16)=0,"",AH16/AK16)
A17: =IF(Setup!B30="","",Setup!A30) | B17: =IF(Setup!B30="","",Setup!B30) | AH17: =IF($B17="","",COUNTIF(C17:AG17,"P")) | AI17: =IF($B17="","",COUNTIF(C17:AG17,"A")) | AJ17: =IF($B17="","",COUNTIF(C17:AG17,"L")) | AK17: =IF($B17="","",AH17+AI17+AJ17) | AL17: =IF(N(AK17)=0,"",AH17/AK17)
... A55: =IF(Setup!B68="","",Setup!A68) | B55: =IF(Setup!B68="","",Setup!B68) | AH55: =IF($B55="","",COUNTIF(C55:AG55,"P")) | AI55: =IF($B55="","",COUNTIF(C55:AG55,"A")) | AJ55: =IF($B55="","",COUNTIF(C55:AG55,"L")) | AK55: =IF($B55="","",AH55+AI55+AJ55) | AL55: =IF(N(AK55)=0,"",AH55/AK55)
A56: Present that day | C56: =IF(C$4="","",COUNTIF(C6:C55,"P")) -> 0 | D56: =IF(D$4="","",COUNTIF(D6:D55,"P")) -> 0 | E56: =IF(E$4="","",COUNTIF(E6:E55,"P")) -> 0 | F56: =IF(F$4="","",COUNTIF(F6:F55,"P")) -> 0 | G56: =IF(G$4="","",COUNTIF(G6:G55,"P")) -> 0 | H56: =IF(H$4="","",COUNTIF(H6:H55,"P")) -> 0 | I56: =IF(I$4="","",COUNTIF(I6:I55,"P")) -> 0 | J56: =IF(J$4="","",COUNTIF(J6:J55,"P")) -> 0 | ... AG56: =IF(AG$4="","",COUNTIF(AG6:AG55,"P"))
A57: Absent or on leave | C57: =IF(C$4="","",COUNTIF(C6:C55,"A")+COUNTIF(C6:C55,"L")) -> 0 | D57: =IF(D$4="","",COUNTIF(D6:D55,"A")+COUNTIF(D6:D55,"L")) -> 0 | E57: =IF(E$4="","",COUNTIF(E6:E55,"A")+COUNTIF(E6:E55,"L")) -> 0 | F57: =IF(F$4="","",COUNTIF(F6:F55,"A")+COUNTIF(F6:F55,"L")) -> 0 | G57: =IF(G$4="","",COUNTIF(G6:G55,"A")+COUNTIF(G6:G55,"L")) -> 0 | H57: =IF(H$4="","",COUNTIF(H6:H55,"A")+COUNTIF(H6:H55,"L")) -> 0 | I57: =IF(I$4="","",COUNTIF(I6:I55,"A")+COUNTIF(I6:I55,"L")) -> 0 | J57: =IF(J$4="","",COUNTIF(J6:J55,"A")+COUNTIF(J6:J55,"L")) -> 0 | ... AG57: =IF(AG$4="","",COUNTIF(AG6:AG55,"A")+COUNTIF(AG6:AG55,"L"))
A59: Free template from proems.in

Sheet Oct
A1: =Setup!$B$4 -> Demo Public School
A2: ="Class "&Setup!$B$5&" "&Setup!$B$6&" · October "&Setup!$B$8&" · Class teacher: "&Setup!$B$7 -> Class VII A · October 2026 · Class teacher: Ms. R. Iyer | AK2: Minimum | AL2: =Setup!$B$9 -> 0.75
A4: Roll | B4: Student name | C4: =IF(1<=DAY(DATE(Setup!$B$8,10+1,0)),1,"") -> 1 | D4: =IF(2<=DAY(DATE(Setup!$B$8,10+1,0)),2,"") -> 2 | E4: =IF(3<=DAY(DATE(Setup!$B$8,10+1,0)),3,"") -> 3 | F4: =IF(4<=DAY(DATE(Setup!$B$8,10+1,0)),4,"") -> 4 | G4: =IF(5<=DAY(DATE(Setup!$B$8,10+1,0)),5,"") -> 5 | H4: =IF(6<=DAY(DATE(Setup!$B$8,10+1,0)),6,"") -> 6 | I4: =IF(7<=DAY(DATE(Setup!$B$8,10+1,0)),7,"") -> 7 | J4: =IF(8<=DAY(DATE(Setup!$B$8,10+1,0)),8,"") -> 8 | K4: =IF(9<=DAY(DATE(Setup!$B$8,10+1,0)),9,"") -> 9 | L4: =IF(10<=DAY(DATE(Setup!$B$8,10+1,0)),10,"") -> 10 | M4: =IF(11<=DAY(DATE(Setup!$B$8,10+1,0)),11,"") -> 11 | N4: =IF(12<=DAY(DATE(Setup!$B$8,10+1,0)),12,"") -> 12 | O4: =IF(13<=DAY(DATE(Setup!$B$8,10+1,0)),13,"") -> 13 | P4: =IF(14<=DAY(DATE(Setup!$B$8,10+1,0)),14,"") -> 14 | Q4: =IF(15<=DAY(DATE(Setup!$B$8,10+1,0)),15,"") -> 15 | R4: =IF(16<=DAY(DATE(Setup!$B$8,10+1,0)),16,"") -> 16 | S4: =IF(17<=DAY(DATE(Setup!$B$8,10+1,0)),17,"") -> 17 | T4: =IF(18<=DAY(DATE(Setup!$B$8,10+1,0)),18,"") -> 18 | U4: =IF(19<=DAY(DATE(Setup!$B$8,10+1,0)),19,"") -> 19 | V4: =IF(20<=DAY(DATE(Setup!$B$8,10+1,0)),20,"") -> 20 | W4: =IF(21<=DAY(DATE(Setup!$B$8,10+1,0)),21,"") -> 21 | X4: =IF(22<=DAY(DATE(Setup!$B$8,10+1,0)),22,"") -> 22 | Y4: =IF(23<=DAY(DATE(Setup!$B$8,10+1,0)),23,"") -> 23 | Z4: =IF(24<=DAY(DATE(Setup!$B$8,10+1,0)),24,"") -> 24 | AA4: =IF(25<=DAY(DATE(Setup!$B$8,10+1,0)),25,"") -> 25 | AB4: =IF(26<=DAY(DATE(Setup!$B$8,10+1,0)),26,"") -> 26 | AC4: =IF(27<=DAY(DATE(Setup!$B$8,10+1,0)),27,"") -> 27 | AD4: =IF(28<=DAY(DATE(Setup!$B$8,10+1,0)),28,"") -> 28 | AE4: =IF(29<=DAY(DATE(Setup!$B$8,10+1,0)),29,"") -> 29 | AF4: =IF(30<=DAY(DATE(Setup!$B$8,10+1,0)),30,"") -> 30 | AG4: =IF(31<=DAY(DATE(Setup!$B$8,10+1,0)),31,"") -> 31 | AH4: P | AI4: A | AJ4: L | AK4: Days | AL4: %
C5: =IF(C$4="","",CHOOSE(WEEKDAY(DATE(Setup!$B$8,10,C$4)),"Su","Mo","Tu","We","Th","Fr","Sa")) -> Th | D5: =IF(D$4="","",CHOOSE(WEEKDAY(DATE(Setup!$B$8,10,D$4)),"Su","Mo","Tu","We","Th","Fr","Sa")) -> Fr | E5: =IF(E$4="","",CHOOSE(WEEKDAY(DATE(Setup!$B$8,10,E$4)),"Su","Mo","Tu","We","Th","Fr","Sa")) -> Sa | F5: =IF(F$4="","",CHOOSE(WEEKDAY(DATE(Setup!$B$8,10,F$4)),"Su","Mo","Tu","We","Th","Fr","Sa")) -> Su | G5: =IF(G$4="","",CHOOSE(WEEKDAY(DATE(Setup!$B$8,10,G$4)),"Su","Mo","Tu","We","Th","Fr","Sa")) -> Mo | H5: =IF(H$4="","",CHOOSE(WEEKDAY(DATE(Setup!$B$8,10,H$4)),"Su","Mo","Tu","We","Th","Fr","Sa")) -> Tu | I5: =IF(I$4="","",CHOOSE(WEEKDAY(DATE(Setup!$B$8,10,I$4)),"Su","Mo","Tu","We","Th","Fr","Sa")) -> We | J5: =IF(J$4="","",CHOOSE(WEEKDAY(DATE(Setup!$B$8,10,J$4)),"Su","Mo","Tu","We","Th","Fr","Sa")) -> Th | ... AG5: =IF(AG$4="","",CHOOSE(WEEKDAY(DATE(Setup!$B$8,10,AG$4)),"Su","Mo","Tu","We","Th","Fr","Sa")) -> Sa
A6: =IF(Setup!B19="","",Setup!A19) -> 1 | B6: =IF(Setup!B19="","",Setup!B19) -> Aarav Sharma | AH6: =IF($B6="","",COUNTIF(C6:AG6,"P")) -> 0 | AI6: =IF($B6="","",COUNTIF(C6:AG6,"A")) -> 0 | AJ6: =IF($B6="","",COUNTIF(C6:AG6,"L")) -> 0 | AK6: =IF($B6="","",AH6+AI6+AJ6) -> 0 | AL6: =IF(N(AK6)=0,"",AH6/AK6)
A7: =IF(Setup!B20="","",Setup!A20) -> 2 | B7: =IF(Setup!B20="","",Setup!B20) -> Ananya Iyer | AH7: =IF($B7="","",COUNTIF(C7:AG7,"P")) -> 0 | AI7: =IF($B7="","",COUNTIF(C7:AG7,"A")) -> 0 | AJ7: =IF($B7="","",COUNTIF(C7:AG7,"L")) -> 0 | AK7: =IF($B7="","",AH7+AI7+AJ7) -> 0 | AL7: =IF(N(AK7)=0,"",AH7/AK7)
A8: =IF(Setup!B21="","",Setup!A21) -> 3 | B8: =IF(Setup!B21="","",Setup!B21) -> Diya Menon | AH8: =IF($B8="","",COUNTIF(C8:AG8,"P")) -> 0 | AI8: =IF($B8="","",COUNTIF(C8:AG8,"A")) -> 0 | AJ8: =IF($B8="","",COUNTIF(C8:AG8,"L")) -> 0 | AK8: =IF($B8="","",AH8+AI8+AJ8) -> 0 | AL8: =IF(N(AK8)=0,"",AH8/AK8)
A9: =IF(Setup!B22="","",Setup!A22) -> 4 | B9: =IF(Setup!B22="","",Setup!B22) -> Ishaan Patel | AH9: =IF($B9="","",COUNTIF(C9:AG9,"P")) -> 0 | AI9: =IF($B9="","",COUNTIF(C9:AG9,"A")) -> 0 | AJ9: =IF($B9="","",COUNTIF(C9:AG9,"L")) -> 0 | AK9: =IF($B9="","",AH9+AI9+AJ9) -> 0 | AL9: =IF(N(AK9)=0,"",AH9/AK9)
A10: =IF(Setup!B23="","",Setup!A23) -> 5 | B10: =IF(Setup!B23="","",Setup!B23) -> Meera Reddy | AH10: =IF($B10="","",COUNTIF(C10:AG10,"P")) -> 0 | AI10: =IF($B10="","",COUNTIF(C10:AG10,"A")) -> 0 | AJ10: =IF($B10="","",COUNTIF(C10:AG10,"L")) -> 0 | AK10: =IF($B10="","",AH10+AI10+AJ10) -> 0 | AL10: =IF(N(AK10)=0,"",AH10/AK10)
A11: =IF(Setup!B24="","",Setup!A24) -> 6 | B11: =IF(Setup!B24="","",Setup!B24) -> Rohan Das | AH11: =IF($B11="","",COUNTIF(C11:AG11,"P")) -> 0 | AI11: =IF($B11="","",COUNTIF(C11:AG11,"A")) -> 0 | AJ11: =IF($B11="","",COUNTIF(C11:AG11,"L")) -> 0 | AK11: =IF($B11="","",AH11+AI11+AJ11) -> 0 | AL11: =IF(N(AK11)=0,"",AH11/AK11)
A12: =IF(Setup!B25="","",Setup!A25) -> 7 | B12: =IF(Setup!B25="","",Setup!B25) -> Sara Khan | AH12: =IF($B12="","",COUNTIF(C12:AG12,"P")) -> 0 | AI12: =IF($B12="","",COUNTIF(C12:AG12,"A")) -> 0 | AJ12: =IF($B12="","",COUNTIF(C12:AG12,"L")) -> 0 | AK12: =IF($B12="","",AH12+AI12+AJ12) -> 0 | AL12: =IF(N(AK12)=0,"",AH12/AK12)
A13: =IF(Setup!B26="","",Setup!A26) -> 8 | B13: =IF(Setup!B26="","",Setup!B26) -> Vihaan Gupta | AH13: =IF($B13="","",COUNTIF(C13:AG13,"P")) -> 0 | AI13: =IF($B13="","",COUNTIF(C13:AG13,"A")) -> 0 | AJ13: =IF($B13="","",COUNTIF(C13:AG13,"L")) -> 0 | AK13: =IF($B13="","",AH13+AI13+AJ13) -> 0 | AL13: =IF(N(AK13)=0,"",AH13/AK13)
A14: =IF(Setup!B27="","",Setup!A27) | B14: =IF(Setup!B27="","",Setup!B27) | AH14: =IF($B14="","",COUNTIF(C14:AG14,"P")) | AI14: =IF($B14="","",COUNTIF(C14:AG14,"A")) | AJ14: =IF($B14="","",COUNTIF(C14:AG14,"L")) | AK14: =IF($B14="","",AH14+AI14+AJ14) | AL14: =IF(N(AK14)=0,"",AH14/AK14)
A15: =IF(Setup!B28="","",Setup!A28) | B15: =IF(Setup!B28="","",Setup!B28) | AH15: =IF($B15="","",COUNTIF(C15:AG15,"P")) | AI15: =IF($B15="","",COUNTIF(C15:AG15,"A")) | AJ15: =IF($B15="","",COUNTIF(C15:AG15,"L")) | AK15: =IF($B15="","",AH15+AI15+AJ15) | AL15: =IF(N(AK15)=0,"",AH15/AK15)
A16: =IF(Setup!B29="","",Setup!A29) | B16: =IF(Setup!B29="","",Setup!B29) | AH16: =IF($B16="","",COUNTIF(C16:AG16,"P")) | AI16: =IF($B16="","",COUNTIF(C16:AG16,"A")) | AJ16: =IF($B16="","",COUNTIF(C16:AG16,"L")) | AK16: =IF($B16="","",AH16+AI16+AJ16) | AL16: =IF(N(AK16)=0,"",AH16/AK16)
