Workbook

Sheet Setup
A1: Attendance register
A2: Fill in the green cells. The month sheets and the Year sheet work everything out from them.
A4: School | B4: Demo Public School
A5: Class | B5: VII
A6: Section | B6: A
A7: Class teacher | B7: Ms. R. Iyer
A8: Session starts in April of | B8: 2026 | C8: ="April "&B8&" to March "&(B8+1) -> April 2026 to March 2027
A9: Minimum attendance | B9: 0.75
A11: How to mark each day
A12: P | B12: Present
A13: A | B13: Absent
A14: L | B14: On leave. Not present, so it lowers the percentage
A15: H | B15: Holiday. Not counted
A16: (leave empty) | B16: Sunday or no school. Not counted
A18: Roll no. | B18: Student name | C18: Admission no.
A19: 1 | B19: Aarav Sharma | C19: 2019/0142
A20: 2 | B20: Ananya Iyer | C20: 2019/0157
A21: 3 | B21: Diya Menon | C21: 2020/0031
A22: 4 | B22: Ishaan Patel | C22: 2019/0166
A23: 5 | B23: Meera Reddy | C23: 2021/0012
A24: 6 | B24: Rohan Das | C24: 2019/0171
A25: 7 | B25: Sara Khan | C25: 2019/0180
A26: 8 | B26: Vihaan Gupta | C26: 2022/0058
A27: 9
A28: 10
A29: 11
A30: 12
A31: 13
A32: 14
A33: 15
A34: 16
A35: 17
A36: 18
A37: 19
A38: 20
... A68: 50
A70: Free template from proems.in

Sheet Apr
A1: =Setup!$B$4 -> Demo Public School
A2: ="Class "&Setup!$B$5&" "&Setup!$B$6&" · April "&Setup!$B$8&" · Class teacher: "&Setup!$B$7 -> Class VII A · April 2026 · Class teacher: Ms. R. Iyer | AK2: Minimum | AL2: =Setup!$B$9 -> 0.75
A4: Roll | B4: Student name | C4: =IF(1<=DAY(DATE(Setup!$B$8,4+1,0)),1,"") -> 1 | D4: =IF(2<=DAY(DATE(Setup!$B$8,4+1,0)),2,"") -> 2 | E4: =IF(3<=DAY(DATE(Setup!$B$8,4+1,0)),3,"") -> 3 | F4: =IF(4<=DAY(DATE(Setup!$B$8,4+1,0)),4,"") -> 4 | G4: =IF(5<=DAY(DATE(Setup!$B$8,4+1,0)),5,"") -> 5 | H4: =IF(6<=DAY(DATE(Setup!$B$8,4+1,0)),6,"") -> 6 | I4: =IF(7<=DAY(DATE(Setup!$B$8,4+1,0)),7,"") -> 7 | J4: =IF(8<=DAY(DATE(Setup!$B$8,4+1,0)),8,"") -> 8 | K4: =IF(9<=DAY(DATE(Setup!$B$8,4+1,0)),9,"") -> 9 | L4: =IF(10<=DAY(DATE(Setup!$B$8,4+1,0)),10,"") -> 10 | M4: =IF(11<=DAY(DATE(Setup!$B$8,4+1,0)),11,"") -> 11 | N4: =IF(12<=DAY(DATE(Setup!$B$8,4+1,0)),12,"") -> 12 | O4: =IF(13<=DAY(DATE(Setup!$B$8,4+1,0)),13,"") -> 13 | P4: =IF(14<=DAY(DATE(Setup!$B$8,4+1,0)),14,"") -> 14 | Q4: =IF(15<=DAY(DATE(Setup!$B$8,4+1,0)),15,"") -> 15 | R4: =IF(16<=DAY(DATE(Setup!$B$8,4+1,0)),16,"") -> 16 | S4: =IF(17<=DAY(DATE(Setup!$B$8,4+1,0)),17,"") -> 17 | T4: =IF(18<=DAY(DATE(Setup!$B$8,4+1,0)),18,"") -> 18 | U4: =IF(19<=DAY(DATE(Setup!$B$8,4+1,0)),19,"") -> 19 | V4: =IF(20<=DAY(DATE(Setup!$B$8,4+1,0)),20,"") -> 20 | W4: =IF(21<=DAY(DATE(Setup!$B$8,4+1,0)),21,"") -> 21 | X4: =IF(22<=DAY(DATE(Setup!$B$8,4+1,0)),22,"") -> 22 | Y4: =IF(23<=DAY(DATE(Setup!$B$8,4+1,0)),23,"") -> 23 | Z4: =IF(24<=DAY(DATE(Setup!$B$8,4+1,0)),24,"") -> 24 | AA4: =IF(25<=DAY(DATE(Setup!$B$8,4+1,0)),25,"") -> 25 | AB4: =IF(26<=DAY(DATE(Setup!$B$8,4+1,0)),26,"") -> 26 | AC4: =IF(27<=DAY(DATE(Setup!$B$8,4+1,0)),27,"") -> 27 | AD4: =IF(28<=DAY(DATE(Setup!$B$8,4+1,0)),28,"") -> 28 | AE4: =IF(29<=DAY(DATE(Setup!$B$8,4+1,0)),29,"") -> 29 | AF4: =IF(30<=DAY(DATE(Setup!$B$8,4+1,0)),30,"") -> 30 | AG4: =IF(31<=DAY(DATE(Setup!$B$8,4+1,0)),31,"") | AH4: P | AI4: A | AJ4: L | AK4: Days | AL4: %
C5: =IF(C$4="","",CHOOSE(WEEKDAY(DATE(Setup!$B$8,4,C$4)),"Su","Mo","Tu","We","Th","Fr","Sa")) -> We | D5: =IF(D$4="","",CHOOSE(WEEKDAY(DATE(Setup!$B$8,4,D$4)),"Su","Mo","Tu","We","Th","Fr","Sa")) -> Th | E5: =IF(E$4="","",CHOOSE(WEEKDAY(DATE(Setup!$B$8,4,E$4)),"Su","Mo","Tu","We","Th","Fr","Sa")) -> Fr | F5: =IF(F$4="","",CHOOSE(WEEKDAY(DATE(Setup!$B$8,4,F$4)),"Su","Mo","Tu","We","Th","Fr","Sa")) -> Sa | G5: =IF(G$4="","",CHOOSE(WEEKDAY(DATE(Setup!$B$8,4,G$4)),"Su","Mo","Tu","We","Th","Fr","Sa")) -> Su | H5: =IF(H$4="","",CHOOSE(WEEKDAY(DATE(Setup!$B$8,4,H$4)),"Su","Mo","Tu","We","Th","Fr","Sa")) -> Mo | I5: =IF(I$4="","",CHOOSE(WEEKDAY(DATE(Setup!$B$8,4,I$4)),"Su","Mo","Tu","We","Th","Fr","Sa")) -> Tu | J5: =IF(J$4="","",CHOOSE(WEEKDAY(DATE(Setup!$B$8,4,J$4)),"Su","Mo","Tu","We","Th","Fr","Sa")) -> We | ... AG5: =IF(AG$4="","",CHOOSE(WEEKDAY(DATE(Setup!$B$8,4,AG$4)),"Su","Mo","Tu","We","Th","Fr","Sa"))
A6: =IF(Setup!B19="","",Setup!A19) -> 1 | B6: =IF(Setup!B19="","",Setup!B19) -> Aarav Sharma | C6: P | D6: P | E6: P | F6: P | H6: P | I6: P | J6: P | K6: P | L6: P | M6: P | O6: P | P6: P | Q6: P | R6: P | S6: P | T6: P | V6: P | W6: P | X6: P | Y6: P | Z6: P | AA6: P | AC6: P | AD6: P | AE6: P | AF6: P | AH6: =IF($B6="","",COUNTIF(C6:AG6,"P")) -> 26 | AI6: =IF($B6="","",COUNTIF(C6:AG6,"A")) -> 0 | AJ6: =IF($B6="","",COUNTIF(C6:AG6,"L")) -> 0 | AK6: =IF($B6="","",AH6+AI6+AJ6) -> 26 | AL6: =IF(N(AK6)=0,"",AH6/AK6) -> 1
A7: =IF(Setup!B20="","",Setup!A20) -> 2 | B7: =IF(Setup!B20="","",Setup!B20) -> Ananya Iyer | C7: P | D7: P | E7: P | F7: P | H7: P | I7: A | J7: A | K7: P | L7: P | M7: P | O7: P | P7: P | Q7: P | R7: P | S7: P | T7: P | V7: P | W7: P | X7: P | Y7: P | Z7: P | AA7: P | AC7: P | AD7: P | AE7: P | AF7: P | AH7: =IF($B7="","",COUNTIF(C7:AG7,"P")) -> 24 | AI7: =IF($B7="","",COUNTIF(C7:AG7,"A")) -> 2 | AJ7: =IF($B7="","",COUNTIF(C7:AG7,"L")) -> 0 | AK7: =IF($B7="","",AH7+AI7+AJ7) -> 26 | AL7: =IF(N(AK7)=0,"",AH7/AK7) -> 0.92307692
A8: =IF(Setup!B21="","",Setup!A21) -> 3 | B8: =IF(Setup!B21="","",Setup!B21) -> Diya Menon | C8: P | D8: P | E8: P | F8: P | H8: P | I8: P | J8: P | K8: P | L8: P | M8: P | O8: P | P8: L | Q8: L | R8: L | S8: P | T8: P | V8: P | W8: P | X8: P | Y8: P | Z8: P | AA8: P | AC8: P | AD8: P | AE8: P | AF8: P | AH8: =IF($B8="","",COUNTIF(C8:AG8,"P")) -> 23 | AI8: =IF($B8="","",COUNTIF(C8:AG8,"A")) -> 0 | AJ8: =IF($B8="","",COUNTIF(C8:AG8,"L")) -> 3 | AK8: =IF($B8="","",AH8+AI8+AJ8) -> 26 | AL8: =IF(N(AK8)=0,"",AH8/AK8) -> 0.88461538
A9: =IF(Setup!B22="","",Setup!A22) -> 4 | B9: =IF(Setup!B22="","",Setup!B22) -> Ishaan Patel | C9: P | D9: P | E9: A | F9: P | H9: P | I9: P | J9: P | K9: P | L9: P | M9: P | O9: P | P9: P | Q9: P | R9: P | S9: P | T9: P | V9: P | W9: P | X9: P | Y9: P | Z9: P | AA9: P | AC9: P | AD9: P | AE9: P | AF9: P | AH9: =IF($B9="","",COUNTIF(C9:AG9,"P")) -> 25 | AI9: =IF($B9="","",COUNTIF(C9:AG9,"A")) -> 1 | AJ9: =IF($B9="","",COUNTIF(C9:AG9,"L")) -> 0 | AK9: =IF($B9="","",AH9+AI9+AJ9) -> 26 | AL9: =IF(N(AK9)=0,"",AH9/AK9) -> 0.96153846
A10: =IF(Setup!B23="","",Setup!A23) -> 5 | B10: =IF(Setup!B23="","",Setup!B23) -> Meera Reddy | C10: P | D10: P | E10: P | F10: P | H10: P | I10: P | J10: P | K10: P | L10: P | M10: P | O10: P | P10: P | Q10: P | R10: P | S10: P | T10: P | V10: A | W10: A | X10: A | Y10: A | Z10: A | AA10: A | AC10: A | AD10: P | AE10: P | AF10: P | AH10: =IF($B10="","",COUNTIF(C10:AG10,"P")) -> 19 | AI10: =IF($B10="","",COUNTIF(C10:AG10,"A")) -> 7 | AJ10: =IF($B10="","",COUNTIF(C10:AG10,"L")) -> 0 | AK10: =IF($B10="","",AH10+AI10+AJ10) -> 26 | AL10: =IF(N(AK10)=0,"",AH10/AK10) -> 0.73076923
A11: =IF(Setup!B24="","",Setup!A24) -> 6 | B11: =IF(Setup!B24="","",Setup!B24) -> Rohan Das | C11: P | D11: P | E11: P | F11: P | H11: P | I11: P | J11: P | K11: A | L11: P | M11: P | O11: P | P11: P | Q11: P | R11: P | S11: P | T11: P | V11: P | W11: P | X11: P | Y11: P | Z11: P | AA11: P | AC11: P | AD11: P | AE11: P | AF11: P | AH11: =IF($B11="","",COUNTIF(C11:AG11,"P")) -> 25 | AI11: =IF($B11="","",COUNTIF(C11:AG11,"A")) -> 1 | AJ11: =IF($B11="","",COUNTIF(C11:AG11,"L")) -> 0 | AK11: =IF($B11="","",AH11+AI11+AJ11) -> 26 | AL11: =IF(N(AK11)=0,"",AH11/AK11) -> 0.96153846
A12: =IF(Setup!B25="","",Setup!A25) -> 7 | B12: =IF(Setup!B25="","",Setup!B25) -> Sara Khan | C12: P | D12: P | E12: P | F12: P | H12: P | I12: P | J12: P | K12: P | L12: P | M12: P | O12: P | P12: P | Q12: P | R12: P | S12: P | T12: P | V12: P | W12: P | X12: P | Y12: P | Z12: P | AA12: P | AC12: P | AD12: P | AE12: P | AF12: P | AH12: =IF($B12="","",COUNTIF(C12:AG12,"P")) -> 26 | AI12: =IF($B12="","",COUNTIF(C12:AG12,"A")) -> 0 | AJ12: =IF($B12="","",COUNTIF(C12:AG12,"L")) -> 0 | AK12: =IF($B12="","",AH12+AI12+AJ12) -> 26 | AL12: =IF(N(AK12)=0,"",AH12/AK12) -> 1
A13: =IF(Setup!B26="","",Setup!A26) -> 8 | B13: =IF(Setup!B26="","",Setup!B26) -> Vihaan Gupta | C13: P | D13: P | E13: P | F13: P | H13: P | I13: P | J13: P | K13: P | L13: P | M13: P | O13: P | P13: P | Q13: P | R13: P | S13: P | T13: P | V13: P | W13: P | X13: P | Y13: P | Z13: P | AA13: P | AC13: P | AD13: L | AE13: L | AF13: P | AH13: =IF($B13="","",COUNTIF(C13:AG13,"P")) -> 24 | AI13: =IF($B13="","",COUNTIF(C13:AG13,"A")) -> 0 | AJ13: =IF($B13="","",COUNTIF(C13:AG13,"L")) -> 2 | AK13: =IF($B13="","",AH13+AI13+AJ13) -> 26 | AL13: =IF(N(AK13)=0,"",AH13/AK13) -> 0.92307692
A14: =IF(Setup!B27="","",Setup!A27) | B14: =IF(Setup!B27="","",Setup!B27) | AH14: =IF($B14="","",COUNTIF(C14:AG14,"P")) | AI14: =IF($B14="","",COUNTIF(C14:AG14,"A")) | AJ14: =IF($B14="","",COUNTIF(C14:AG14,"L")) | AK14: =IF($B14="","",AH14+AI14+AJ14) | AL14: =IF(N(AK14)=0,"",AH14/AK14)
A15: =IF(Setup!B28="","",Setup!A28) | B15: =IF(Setup!B28="","",Setup!B28) | AH15: =IF($B15="","",COUNTIF(C15:AG15,"P")) | AI15: =IF($B15="","",COUNTIF(C15:AG15,"A")) | AJ15: =IF($B15="","",COUNTIF(C15:AG15,"L")) | AK15: =IF($B15="","",AH15+AI15+AJ15) | AL15: =IF(N(AK15)=0,"",AH15/AK15)
A16: =IF(Setup!B29="","",Setup!A29) | B16: =IF(Setup!B29="","",Setup!B29) | AH16: =IF($B16="","",COUNTIF(C16:AG16,"P")) | AI16: =IF($B16="","",COUNTIF(C16:AG16,"A")) | AJ16: =IF($B16="","",COUNTIF(C16:AG16,"L")) | AK16: =IF($B16="","",AH16+AI16+AJ16) | AL16: =IF(N(AK16)=0,"",AH16/AK16)
A17: =IF(Setup!B30="","",Setup!A30) | B17: =IF(Setup!B30="","",Setup!B30) | AH17: =IF($B17="","",COUNTIF(C17:AG17,"P")) | AI17: =IF($B17="","",COUNTIF(C17:AG17,"A")) | AJ17: =IF($B17="","",COUNTIF(C17:AG17,"L")) | AK17: =IF($B17="","",AH17+AI17+AJ17) | AL17: =IF(N(AK17)=0,"",AH17/AK17)
A18: =IF(Setup!B31="","",Setup!A31) | B18: =IF(Setup!B31="","",Setup!B31) | AH18: =IF($B18="","",COUNTIF(C18:AG18,"P")) | AI18: =IF($B18="","",COUNTIF(C18:AG18,"A")) | AJ18: =IF($B18="","",COUNTIF(C18:AG18,"L")) | AK18: =IF($B18="","",AH18+AI18+AJ18) | AL18: =IF(N(AK18)=0,"",AH18/AK18)
A19: =IF(Setup!B32="","",Setup!A32) | B19: =IF(Setup!B32="","",Setup!B32) | AH19: =IF($B19="","",COUNTIF(C19:AG19,"P")) | AI19: =IF($B19="","",COUNTIF(C19:AG19,"A")) | AJ19: =IF($B19="","",COUNTIF(C19:AG19,"L")) | AK19: =IF($B19="","",AH19+AI19+AJ19) | AL19: =IF(N(AK19)=0,"",AH19/AK19)
A20: =IF(Setup!B33="","",Setup!A33) | B20: =IF(Setup!B33="","",Setup!B33) | AH20: =IF($B20="","",COUNTIF(C20:AG20,"P")) | AI20: =IF($B20="","",COUNTIF(C20:AG20,"A")) | AJ20: =IF($B20="","",COUNTIF(C20:AG20,"L")) | AK20: =IF($B20="","",AH20+AI20+AJ20) | AL20: =IF(N(AK20)=0,"",AH20/AK20)
A21: =IF(Setup!B34="","",Setup!A34) | B21: =IF(Setup!B34="","",Setup!B34) | AH21: =IF($B21="","",COUNTIF(C21:AG21,"P")) | AI21: =IF($B21="","",COUNTIF(C21:AG21,"A")) | AJ21: =IF($B21="","",COUNTIF(C21:AG21,"L")) | AK21: =IF($B21="","",AH21+AI21+AJ21) | AL21: =IF(N(AK21)=0,"",AH21/AK21)
A22: =IF(Setup!B35="","",Setup!A35) | B22: =IF(Setup!B35="","",Setup!B35) | AH22: =IF($B22="","",COUNTIF(C22:AG22,"P")) | AI22: =IF($B22="","",COUNTIF(C22:AG22,"A")) | AJ22: =IF($B22="","",COUNTIF(C22:AG22,"L")) | AK22: =IF($B22="","",AH22+AI22+AJ22) | AL22: =IF(N(AK22)=0,"",AH22/AK22)
A23: =IF(Setup!B36="","",Setup!A36) | B23: =IF(Setup!B36="","",Setup!B36) | AH23: =IF($B23="","",COUNTIF(C23:AG23,"P")) | AI23: =IF($B23="","",COUNTIF(C23:AG23,"A")) | AJ23: =IF($B23="","",COUNTIF(C23:AG23,"L")) | AK23: =IF($B23="","",AH23+AI23+AJ23) | AL23: =IF(N(AK23)=0,"",AH23/AK23)
A24: =IF(Setup!B37="","",Setup!A37) | B24: =IF(Setup!B37="","",Setup!B37) | AH24: =IF($B24="","",COUNTIF(C24:AG24,"P")) | AI24: =IF($B24="","",COUNTIF(C24:AG24,"A")) | AJ24: =IF($B24="","",COUNTIF(C24:AG24,"L")) | AK24: =IF($B24="","",AH24+AI24+AJ24) | AL24: =IF(N(AK24)=0,"",AH24/AK24)
A25: =IF(Setup!B38="","",Setup!A38) | B25: =IF(Setup!B38="","",Setup!B38) | AH25: =IF($B25="","",COUNTIF(C25:AG25,"P")) | AI25: =IF($B25="","",COUNTIF(C25:AG25,"A")) | AJ25: =IF($B25="","",COUNTIF(C25:AG25,"L")) | AK25: =IF($B25="","",AH25+AI25+AJ25) | AL25: =IF(N(AK25)=0,"",AH25/AK25)
... A55: =IF(Setup!B68="","",Setup!A68) | B55: =IF(Setup!B68="","",Setup!B68) | AH55: =IF($B55="","",COUNTIF(C55:AG55,"P")) | AI55: =IF($B55="","",COUNTIF(C55:AG55,"A")) | AJ55: =IF($B55="","",COUNTIF(C55:AG55,"L")) | AK55: =IF($B55="","",AH55+AI55+AJ55) | AL55: =IF(N(AK55)=0,"",AH55/AK55)
A56: Present that day | C56: =IF(C$4="","",COUNTIF(C6:C55,"P")) -> 8 | D56: =IF(D$4="","",COUNTIF(D6:D55,"P")) -> 8 | E56: =IF(E$4="","",COUNTIF(E6:E55,"P")) -> 7 | F56: =IF(F$4="","",COUNTIF(F6:F55,"P")) -> 8 | G56: =IF(G$4="","",COUNTIF(G6:G55,"P")) -> 0 | H56: =IF(H$4="","",COUNTIF(H6:H55,"P")) -> 8 | I56: =IF(I$4="","",COUNTIF(I6:I55,"P")) -> 7 | J56: =IF(J$4="","",COUNTIF(J6:J55,"P")) -> 7 | ... AG56: =IF(AG$4="","",COUNTIF(AG6:AG55,"P"))
A57: Absent or on leave | C57: =IF(C$4="","",COUNTIF(C6:C55,"A")+COUNTIF(C6:C55,"L")) -> 0 | D57: =IF(D$4="","",COUNTIF(D6:D55,"A")+COUNTIF(D6:D55,"L")) -> 0 | E57: =IF(E$4="","",COUNTIF(E6:E55,"A")+COUNTIF(E6:E55,"L")) -> 1 | F57: =IF(F$4="","",COUNTIF(F6:F55,"A")+COUNTIF(F6:F55,"L")) -> 0 | G57: =IF(G$4="","",COUNTIF(G6:G55,"A")+COUNTIF(G6:G55,"L")) -> 0 | H57: =IF(H$4="","",COUNTIF(H6:H55,"A")+COUNTIF(H6:H55,"L")) -> 0 | I57: =IF(I$4="","",COUNTIF(I6:I55,"A")+COUNTIF(I6:I55,"L")) -> 1 | J57: =IF(J$4="","",COUNTIF(J6:J55,"A")+COUNTIF(J6:J55,"L")) -> 1 | ... AG57: =IF(AG$4="","",COUNTIF(AG6:AG55,"A")+COUNTIF(AG6:AG55,"L"))
A59: Free template from proems.in

Sheet May
A1: =Setup!$B$4 -> Demo Public School
A2: ="Class "&Setup!$B$5&" "&Setup!$B$6&" · May "&Setup!$B$8&" · Class teacher: "&Setup!$B$7 -> Class VII A · May 2026 · Class teacher: Ms. R. Iyer | AK2: Minimum | AL2: =Setup!$B$9 -> 0.75
A4: Roll | B4: Student name | C4: =IF(1<=DAY(DATE(Setup!$B$8,5+1,0)),1,"") -> 1 | D4: =IF(2<=DAY(DATE(Setup!$B$8,5+1,0)),2,"") -> 2 | E4: =IF(3<=DAY(DATE(Setup!$B$8,5+1,0)),3,"") -> 3 | F4: =IF(4<=DAY(DATE(Setup!$B$8,5+1,0)),4,"") -> 4 | G4: =IF(5<=DAY(DATE(Setup!$B$8,5+1,0)),5,"") -> 5 | H4: =IF(6<=DAY(DATE(Setup!$B$8,5+1,0)),6,"") -> 6 | I4: =IF(7<=DAY(DATE(Setup!$B$8,5+1,0)),7,"") -> 7 | J4: =IF(8<=DAY(DATE(Setup!$B$8,5+1,0)),8,"") -> 8 | K4: =IF(9<=DAY(DATE(Setup!$B$8,5+1,0)),9,"") -> 9 | L4: =IF(10<=DAY(DATE(Setup!$B$8,5+1,0)),10,"") -> 10 | M4: =IF(11<=DAY(DATE(Setup!$B$8,5+1,0)),11,"") -> 11 | N4: =IF(12<=DAY(DATE(Setup!$B$8,5+1,0)),12,"") -> 12 | O4: =IF(13<=DAY(DATE(Setup!$B$8,5+1,0)),13,"") -> 13 | P4: =IF(14<=DAY(DATE(Setup!$B$8,5+1,0)),14,"") -> 14 | Q4: =IF(15<=DAY(DATE(Setup!$B$8,5+1,0)),15,"") -> 15 | R4: =IF(16<=DAY(DATE(Setup!$B$8,5+1,0)),16,"") -> 16 | S4: =IF(17<=DAY(DATE(Setup!$B$8,5+1,0)),17,"") -> 17 | T4: =IF(18<=DAY(DATE(Setup!$B$8,5+1,0)),18,"") -> 18 | U4: =IF(19<=DAY(DATE(Setup!$B$8,5+1,0)),19,"") -> 19 | V4: =IF(20<=DAY(DATE(Setup!$B$8,5+1,0)),20,"") -> 20 | W4: =IF(21<=DAY(DATE(Setup!$B$8,5+1,0)),21,"") -> 21 | X4: =IF(22<=DAY(DATE(Setup!$B$8,5+1,0)),22,"") -> 22 | Y4: =IF(23<=DAY(DATE(Setup!$B$8,5+1,0)),23,"") -> 23 | Z4: =IF(24<=DAY(DATE(Setup!$B$8,5+1,0)),24,"") -> 24 | AA4: =IF(25<=DAY(DATE(Setup!$B$8,5+1,0)),25,"") -> 25 | AB4: =IF(26<=DAY(DATE(Setup!$B$8,5+1,0)),26,"") -> 26 | AC4: =IF(27<=DAY(DATE(Setup!$B$8,5+1,0)),27,"") -> 27 | AD4: =IF(28<=DAY(DATE(Setup!$B$8,5+1,0)),28,"") -> 28 | AE4: =IF(29<=DAY(DATE(Setup!$B$8,5+1,0)),29,"") -> 29 | AF4: =IF(30<=DAY(DATE(Setup!$B$8,5+1,0)),30,"") -> 30 | AG4: =IF(31<=DAY(DATE(Setup!$B$8,5+1,0)),31,"") -> 31 | AH4: P | AI4: A | AJ4: L | AK4: Days | AL4: %
C5: =IF(C$4="","",CHOOSE(WEEKDAY(DATE(Setup!$B$8,5,C$4)),"Su","Mo","Tu","We","Th","Fr","Sa")) -> Fr | D5: =IF(D$4="","",CHOOSE(WEEKDAY(DATE(Setup!$B$8,5,D$4)),"Su","Mo","Tu","We","Th","Fr","Sa")) -> Sa | E5: =IF(E$4="","",CHOOSE(WEEKDAY(DATE(Setup!$B$8,5,E$4)),"Su","Mo","Tu","We","Th","Fr","Sa")) -> Su | F5: =IF(F$4="","",CHOOSE(WEEKDAY(DATE(Setup!$B$8,5,F$4)),"Su","Mo","Tu","We","Th","Fr","Sa")) -> Mo | G5: =IF(G$4="","",CHOOSE(WEEKDAY(DATE(Setup!$B$8,5,G$4)),"Su","Mo","Tu","We","Th","Fr","Sa")) -> Tu | H5: =IF(H$4="","",CHOOSE(WEEKDAY(DATE(Setup!$B$8,5,H$4)),"Su","Mo","Tu","We","Th","Fr","Sa")) -> We | I5: =IF(I$4="","",CHOOSE(WEEKDAY(DATE(Setup!$B$8,5,I$4)),"Su","Mo","Tu","We","Th","Fr","Sa")) -> Th | J5: =IF(J$4="","",CHOOSE(WEEKDAY(DATE(Setup!$B$8,5,J$4)),"Su","Mo","Tu","We","Th","Fr","Sa")) -> Fr | ... AG5: =IF(AG$4="","",CHOOSE(WEEKDAY(DATE(Setup!$B$8,5,AG$4)),"Su","Mo","Tu","We","Th","Fr","Sa")) -> Su
A6: =IF(Setup!B19="","",Setup!A19) -> 1 | B6: =IF(Setup!B19="","",Setup!B19) -> Aarav Sharma | AH6: =IF($B6="","",COUNTIF(C6:AG6,"P")) -> 0 | AI6: =IF($B6="","",COUNTIF(C6:AG6,"A")) -> 0 | AJ6: =IF($B6="","",COUNTIF(C6:AG6,"L")) -> 0 | AK6: =IF($B6="","",AH6+AI6+AJ6) -> 0 | AL6: =IF(N(AK6)=0,"",AH6/AK6)
A7: =IF(Setup!B20="","",Setup!A20) -> 2 | B7: =IF(Setup!B20="","",Setup!B20) -> Ananya Iyer | AH7: =IF($B7="","",COUNTIF(C7:AG7,"P")) -> 0 | AI7: =IF($B7="","",COUNTIF(C7:AG7,"A")) -> 0 | AJ7: =IF($B7="","",COUNTIF(C7:AG7,"L")) -> 0 | AK7: =IF($B7="","",AH7+AI7+AJ7) -> 0 | AL7: =IF(N(AK7)=0,"",AH7/AK7)
A8: =IF(Setup!B21="","",Setup!A21) -> 3 | B8: =IF(Setup!B21="","",Setup!B21) -> Diya Menon | AH8: =IF($B8="","",COUNTIF(C8:AG8,"P")) -> 0 | AI8: =IF($B8="","",COUNTIF(C8:AG8,"A")) -> 0 | AJ8: =IF($B8="","",COUNTIF(C8:AG8,"L")) -> 0 | AK8: =IF($B8="","",AH8+AI8+AJ8) -> 0 | AL8: =IF(N(AK8)=0,"",AH8/AK8)
A9: =IF(Setup!B22="","",Setup!A22) -> 4 | B9: =IF(Setup!B22="","",Setup!B22) -> Ishaan Patel | AH9: =IF($B9="","",COUNTIF(C9:AG9,"P")) -> 0 | AI9: =IF($B9="","",COUNTIF(C9:AG9,"A")) -> 0 | AJ9: =IF($B9="","",COUNTIF(C9:AG9,"L")) -> 0 | AK9: =IF($B9="","",AH9+AI9+AJ9) -> 0 | AL9: =IF(N(AK9)=0,"",AH9/AK9)
A10: =IF(Setup!B23="","",Setup!A23) -> 5 | B10: =IF(Setup!B23="","",Setup!B23) -> Meera Reddy | AH10: =IF($B10="","",COUNTIF(C10:AG10,"P")) -> 0 | AI10: =IF($B10="","",COUNTIF(C10:AG10,"A")) -> 0 | AJ10: =IF($B10="","",COUNTIF(C10:AG10,"L")) -> 0 | AK10: =IF($B10="","",AH10+AI10+AJ10) -> 0 | AL10: =IF(N(AK10)=0,"",AH10/AK10)
A11: =IF(Setup!B24="","",Setup!A24) -> 6 | B11: =IF(Setup!B24="","",Setup!B24) -> Rohan Das | AH11: =IF($B11="","",COUNTIF(C11:AG11,"P")) -> 0 | AI11: =IF($B11="","",COUNTIF(C11:AG11,"A")) -> 0 | AJ11: =IF($B11="","",COUNTIF(C11:AG11,"L")) -> 0 | AK11: =IF($B11="","",AH11+AI11+AJ11) -> 0 | AL11: =IF(N(AK11)=0,"",AH11/AK11)
A12: =IF(Setup!B25="","",Setup!A25) -> 7 | B12: =IF(Setup!B25="","",Setup!B25) -> Sara Khan | AH12: =IF($B12="","",COUNTIF(C12:AG12,"P")) -> 0 | AI12: =IF($B12="","",COUNTIF(C12:AG12,"A")) -> 0 | AJ12: =IF($B12="","",COUNTIF(C12:AG12,"L")) -> 0 | AK12: =IF($B12="","",AH12+AI12+AJ12) -> 0 | AL12: =IF(N(AK12)=0,"",AH12/AK12)
A13: =IF(Setup!B26="","",Setup!A26) -> 8 | B13: =IF(Setup!B26="","",Setup!B26) -> Vihaan Gupta | AH13: =IF($B13="","",COUNTIF(C13:AG13,"P")) -> 0 | AI13: =IF($B13="","",COUNTIF(C13:AG13,"A")) -> 0 | AJ13: =IF($B13="","",COUNTIF(C13:AG13,"L")) -> 0 | AK13: =IF($B13="","",AH13+AI13+AJ13) -> 0 | AL13: =IF(N(AK13)=0,"",AH13/AK13)
A14: =IF(Setup!B27="","",Setup!A27) | B14: =IF(Setup!B27="","",Setup!B27) | AH14: =IF($B14="","",COUNTIF(C14:AG14,"P")) | AI14: =IF($B14="","",COUNTIF(C14:AG14,"A")) | AJ14: =IF($B14="","",COUNTIF(C14:AG14,"L")) | AK14: =IF($B14="","",AH14+AI14+AJ14) | AL14: =IF(N(AK14)=0,"",AH14/AK14)
A15: =IF(Setup!B28="","",Setup!A28) | B15: =IF(Setup!B28="","",Setup!B28) | AH15: =IF($B15="","",COUNTIF(C15:AG15,"P")) | AI15: =IF($B15="","",COUNTIF(C15:AG15,"A")) | AJ15: =IF($B15="","",COUNTIF(C15:AG15,"L")) | AK15: =IF($B15="","",AH15+AI15+AJ15) | AL15: =IF(N(AK15)=0,"",AH15/AK15)
A16: =IF(Setup!B29="","",Setup!A29) | B16: =IF(Setup!B29="","",Setup!B29) | AH16: =IF($B16="","",COUNTIF(C16:AG16,"P")) | AI16: =IF($B16="","",COUNTIF(C16:AG16,"A")) | AJ16: =IF($B16="","",COUNTIF(C16:AG16,"L")) | AK16: =IF($B16="","",AH16+AI16+AJ16) | AL16: =IF(N(AK16)=0,"",AH16/AK16)
A17: =IF(Setup!B30="","",Setup!A30) | B17: =IF(Setup!B30="","",Setup!B30) | AH17: =IF($B17="","",COUNTIF(C17:AG17,"P")) | AI17: =IF($B17="","",COUNTIF(C17:AG17,"A")) | AJ17: =IF($B17="","",COUNTIF(C17:AG17,"L")) | AK17: =IF($B17="","",AH17+AI17+AJ17) | AL17: =IF(N(AK17)=0,"",AH17/AK17)
... A55: =IF(Setup!B68="","",Setup!A68) | B55: =IF(Setup!B68="","",Setup!B68) | AH55: =IF($B55="","",COUNTIF(C55:AG55,"P")) | AI55: =IF($B55="","",COUNTIF(C55:AG55,"A")) | AJ55: =IF($B55="","",COUNTIF(C55:AG55,"L")) | AK55: =IF($B55="","",AH55+AI55+AJ55) | AL55: =IF(N(AK55)=0,"",AH55/AK55)
A56: Present that day | C56: =IF(C$4="","",COUNTIF(C6:C55,"P")) -> 0 | D56: =IF(D$4="","",COUNTIF(D6:D55,"P")) -> 0 | E56: =IF(E$4="","",COUNTIF(E6:E55,"P")) -> 0 | F56: =IF(F$4="","",COUNTIF(F6:F55,"P")) -> 0 | G56: =IF(G$4="","",COUNTIF(G6:G55,"P")) -> 0 | H56: =IF(H$4="","",COUNTIF(H6:H55,"P")) -> 0 | I56: =IF(I$4="","",COUNTIF(I6:I55,"P")) -> 0 | J56: =IF(J$4="","",COUNTIF(J6:J55,"P")) -> 0 | ... AG56: =IF(AG$4="","",COUNTIF(AG6:AG55,"P")) -> 0
A57: Absent or on leave | C57: =IF(C$4="","",COUNTIF(C6:C55,"A")+COUNTIF(C6:C55,"L")) -> 0 | D57: =IF(D$4="","",COUNTIF(D6:D55,"A")+COUNTIF(D6:D55,"L")) -> 0 | E57: =IF(E$4="","",COUNTIF(E6:E55,"A")+COUNTIF(E6:E55,"L")) -> 0 | F57: =IF(F$4="","",COUNTIF(F6:F55,"A")+COUNTIF(F6:F55,"L")) -> 0 | G57: =IF(G$4="","",COUNTIF(G6:G55,"A")+COUNTIF(G6:G55,"L")) -> 0 | H57: =IF(H$4="","",COUNTIF(H6:H55,"A")+COUNTIF(H6:H55,"L")) -> 0 | I57: =IF(I$4="","",COUNTIF(I6:I55,"A")+COUNTIF(I6:I55,"L")) -> 0 | J57: =IF(J$4="","",COUNTIF(J6:J55,"A")+COUNTIF(J6:J55,"L")) -> 0 | ... AG57: =IF(AG$4="","",COUNTIF(AG6:AG55,"A")+COUNTIF(AG6:AG55,"L")) -> 0
A59: Free template from proems.in

Sheet Jun
A1: =Setup!$B$4 -> Demo Public School
A2: ="Class "&Setup!$B$5&" "&Setup!$B$6&" · June "&Setup!$B$8&" · Class teacher: "&Setup!$B$7 -> Class VII A · June 2026 · Class teacher: Ms. R. Iyer | AK2: Minimum | AL2: =Setup!$B$9 -> 0.75
A4: Roll | B4: Student name | C4: =IF(1<=DAY(DATE(Setup!$B$8,6+1,0)),1,"") -> 1 | D4: =IF(2<=DAY(DATE(Setup!$B$8,6+1,0)),2,"") -> 2 | E4: =IF(3<=DAY(DATE(Setup!$B$8,6+1,0)),3,"") -> 3 | F4: =IF(4<=DAY(DATE(Setup!$B$8,6+1,0)),4,"") -> 4 | G4: =IF(5<=DAY(DATE(Setup!$B$8,6+1,0)),5,"") -> 5 | H4: =IF(6<=DAY(DATE(Setup!$B$8,6+1,0)),6,"") -> 6 | I4: =IF(7<=DAY(DATE(Setup!$B$8,6+1,0)),7,"") -> 7 | J4: =IF(8<=DAY(DATE(Setup!$B$8,6+1,0)),8,"") -> 8 | K4: =IF(9<=DAY(DATE(Setup!$B$8,6+1,0)),9,"") -> 9 | L4: =IF(10<=DAY(DATE(Setup!$B$8,6+1,0)),10,"") -> 10 | M4: =IF(11<=DAY(DATE(Setup!$B$8,6+1,0)),11,"") -> 11 | N4: =IF(12<=DAY(DATE(Setup!$B$8,6+1,0)),12,"") -> 12 | O4: =IF(13<=DAY(DATE(Setup!$B$8,6+1,0)),13,"") -> 13 | P4: =IF(14<=DAY(DATE(Setup!$B$8,6+1,0)),14,"") -> 14 | Q4: =IF(15<=DAY(DATE(Setup!$B$8,6+1,0)),15,"") -> 15 | R4: =IF(16<=DAY(DATE(Setup!$B$8,6+1,0)),16,"") -> 16 | S4: =IF(17<=DAY(DATE(Setup!$B$8,6+1,0)),17,"") -> 17 | T4: =IF(18<=DAY(DATE(Setup!$B$8,6+1,0)),18,"") -> 18 | U4: =IF(19<=DAY(DATE(Setup!$B$8,6+1,0)),19,"") -> 19 | V4: =IF(20<=DAY(DATE(Setup!$B$8,6+1,0)),20,"") -> 20 | W4: =IF(21<=DAY(DATE(Setup!$B$8,6+1,0)),21,"") -> 21 | X4: =IF(22<=DAY(DATE(Setup!$B$8,6+1,0)),22,"") -> 22 | Y4: =IF(23<=DAY(DATE(Setup!$B$8,6+1,0)),23,"") -> 23 | Z4: =IF(24<=DAY(DATE(Setup!$B$8,6+1,0)),24,"") -> 24 | AA4: =IF(25<=DAY(DATE(Setup!$B$8,6+1,0)),25,"") -> 25 | AB4: =IF(26<=DAY(DATE(Setup!$B$8,6+1,0)),26,"") -> 26 | AC4: =IF(27<=DAY(DATE(Setup!$B$8,6+1,0)),27,"") -> 27 | AD4: =IF(28<=DAY(DATE(Setup!$B$8,6+1,0)),28,"") -> 28 | AE4: =IF(29<=DAY(DATE(Setup!$B$8,6+1,0)),29,"") -> 29 | AF4: =IF(30<=DAY(DATE(Setup!$B$8,6+1,0)),30,"") -> 30 | AG4: =IF(31<=DAY(DATE(Setup!$B$8,6+1,0)),31,"") | AH4: P | AI4: A | AJ4: L | AK4: Days | AL4: %
C5: =IF(C$4="","",CHOOSE(WEEKDAY(DATE(Setup!$B$8,6,C$4)),"Su","Mo","Tu","We","Th","Fr","Sa")) -> Mo | D5: =IF(D$4="","",CHOOSE(WEEKDAY(DATE(Setup!$B$8,6,D$4)),"Su","Mo","Tu","We","Th","Fr","Sa")) -> Tu | E5: =IF(E$4="","",CHOOSE(WEEKDAY(DATE(Setup!$B$8,6,E$4)),"Su","Mo","Tu","We","Th","Fr","Sa")) -> We | F5: =IF(F$4="","",CHOOSE(WEEKDAY(DATE(Setup!$B$8,6,F$4)),"Su","Mo","Tu","We","Th","Fr","Sa")) -> Th | G5: =IF(G$4="","",CHOOSE(WEEKDAY(DATE(Setup!$B$8,6,G$4)),"Su","Mo","Tu","We","Th","Fr","Sa")) -> Fr | H5: =IF(H$4="","",CHOOSE(WEEKDAY(DATE(Setup!$B$8,6,H$4)),"Su","Mo","Tu","We","Th","Fr","Sa")) -> Sa | I5: =IF(I$4="","",CHOOSE(WEEKDAY(DATE(Setup!$B$8,6,I$4)),"Su","Mo","Tu","We","Th","Fr","Sa")) -> Su | J5: =IF(J$4="","",CHOOSE(WEEKDAY(DATE(Setup!$B$8,6,J$4)),"Su","Mo","Tu","We","Th","Fr","Sa")) -> Mo | ... AG5: =IF(AG$4="","",CHOOSE(WEEKDAY(DATE(Setup!$B$8,6,AG$4)),"Su","Mo","Tu","We","Th","Fr","Sa"))
A6: =IF(Setup!B19="","",Setup!A19) -> 1 | B6: =IF(Setup!B19="","",Setup!B19) -> Aarav Sharma | AH6: =IF($B6="","",COUNTIF(C6:AG6,"P")) -> 0 | AI6: =IF($B6="","",COUNTIF(C6:AG6,"A")) -> 0 | AJ6: =IF($B6="","",COUNTIF(C6:AG6,"L")) -> 0 | AK6: =IF($B6="","",AH6+AI6+AJ6) -> 0 | AL6: =IF(N(AK6)=0,"",AH6/AK6)
A7: =IF(Setup!B20="","",Setup!A20) -> 2 | B7: =IF(Setup!B20="","",Setup!B20) -> Ananya Iyer | AH7: =IF($B7="","",COUNTIF(C7:AG7,"P")) -> 0 | AI7: =IF($B7="","",COUNTIF(C7:AG7,"A")) -> 0 | AJ7: =IF($B7="","",COUNTIF(C7:AG7,"L")) -> 0 | AK7: =IF($B7="","",AH7+AI7+AJ7) -> 0 | AL7: =IF(N(AK7)=0,"",AH7/AK7)
A8: =IF(Setup!B21="","",Setup!A21) -> 3 | B8: =IF(Setup!B21="","",Setup!B21) -> Diya Menon | AH8: =IF($B8="","",COUNTIF(C8:AG8,"P")) -> 0 | AI8: =IF($B8="","",COUNTIF(C8:AG8,"A")) -> 0 | AJ8: =IF($B8="","",COUNTIF(C8:AG8,"L")) -> 0 | AK8: =IF($B8="","",AH8+AI8+AJ8) -> 0 | AL8: =IF(N(AK8)=0,"",AH8/AK8)
A9: =IF(Setup!B22="","",Setup!A22) -> 4 | B9: =IF(Setup!B22="","",Setup!B22) -> Ishaan Patel | AH9: =IF($B9="","",COUNTIF(C9:AG9,"P")) -> 0 | AI9: =IF($B9="","",COUNTIF(C9:AG9,"A")) -> 0 | AJ9: =IF($B9="","",COUNTIF(C9:AG9,"L")) -> 0 | AK9: =IF($B9="","",AH9+AI9+AJ9) -> 0 | AL9: =IF(N(AK9)=0,"",AH9/AK9)
A10: =IF(Setup!B23="","",Setup!A23) -> 5 | B10: =IF(Setup!B23="","",Setup!B23) -> Meera Reddy | AH10: =IF($B10="","",COUNTIF(C10:AG10,"P")) -> 0 | AI10: =IF($B10="","",COUNTIF(C10:AG10,"A")) -> 0 | AJ10: =IF($B10="","",COUNTIF(C10:AG10,"L")) -> 0 | AK10: =IF($B10="","",AH10+AI10+AJ10) -> 0 | AL10: =IF(N(AK10)=0,"",AH10/AK10)
A11: =IF(Setup!B24="","",Setup!A24) -> 6 | B11: =IF(Setup!B24="","",Setup!B24) -> Rohan Das | AH11: =IF($B11="","",COUNTIF(C11:AG11,"P")) -> 0 | AI11: =IF($B11="","",COUNTIF(C11:AG11,"A")) -> 0 | AJ11: =IF($B11="","",COUNTIF(C11:AG11,"L")) -> 0 | AK11: =IF($B11="","",AH11+AI11+AJ11) -> 0 | AL11: =IF(N(AK11)=0,"",AH11/AK11)
A12: =IF(Setup!B25="","",Setup!A25) -> 7 | B12: =IF(Setup!B25="","",Setup!B25) -> Sara Khan | AH12: =IF($B12="","",COUNTIF(C12:AG12,"P")) -> 0 | AI12: =IF($B12="","",COUNTIF(C12:AG12,"A")) -> 0 | AJ12: =IF($B12="","",COUNTIF(C12:AG12,"L")) -> 0 | AK12: =IF($B12="","",AH12+AI12+AJ12) -> 0 | AL12: =IF(N(AK12)=0,"",AH12/AK12)
A13: =IF(Setup!B26="","",Setup!A26) -> 8 | B13: =IF(Setup!B26="","",Setup!B26) -> Vihaan Gupta | AH13: =IF($B13="","",COUNTIF(C13:AG13,"P")) -> 0 | AI13: =IF($B13="","",COUNTIF(C13:AG13,"A")) -> 0 | AJ13: =IF($B13="","",COUNTIF(C13:AG13,"L")) -> 0 | AK13: =IF($B13="","",AH13+AI13+AJ13) -> 0 | AL13: =IF(N(AK13)=0,"",AH13/AK13)
A14: =IF(Setup!B27="","",Setup!A27) | B14: =IF(Setup!B27="","",Setup!B27) | AH14: =IF($B14="","",COUNTIF(C14:AG14,"P")) | AI14: =IF($B14="","",COUNTIF(C14:AG14,"A")) | AJ14: =IF($B14="","",COUNTIF(C14:AG14,"L")) | AK14: =IF($B14="","",AH14+AI14+AJ14) | AL14: =IF(N(AK14)=0,"",AH14/AK14)
A15: =IF(Setup!B28="","",Setup!A28) | B15: =IF(Setup!B28="","",Setup!B28) | AH15: =IF($B15="","",COUNTIF(C15:AG15,"P")) | AI15: =IF($B15="","",COUNTIF(C15:AG15,"A")) | AJ15: =IF($B15="","",COUNTIF(C15:AG15,"L")) | AK15: =IF($B15="","",AH15+AI15+AJ15) | AL15: =IF(N(AK15)=0,"",AH15/AK15)
A16: =IF(Setup!B29="","",Setup!A29) | B16: =IF(Setup!B29="","",Setup!B29) | AH16: =IF($B16="","",COUNTIF(C16:AG16,"P")) | AI16: =IF($B16="","",COUNTIF(C16:AG16,"A")) | AJ16: =IF($B16="","",COUNTIF(C16:AG16,"L")) | AK16: =IF($B16="","",AH16+AI16+AJ16) | AL16: =IF(N(AK16)=0,"",AH16/AK16)
A17: =IF(Setup!B30="","",Setup!A30) | B17: =IF(Setup!B30="","",Setup!B30) | AH17: =IF($B17="","",COUNTIF(C17:AG17,"P")) | AI17: =IF($B17="","",COUNTIF(C17:AG17,"A")) | AJ17: =IF($B17="","",COUNTIF(C17:AG17,"L")) | AK17: =IF($B17="","",AH17+AI17+AJ17) | AL17: =IF(N(AK17)=0,"",AH17/AK17)
... A55: =IF(Setup!B68="","",Setup!A68) | B55: =IF(Setup!B68="","",Setup!B68) | AH55: =IF($B55="","",COUNTIF(C55:AG55,"P")) | AI55: =IF($B55="","",COUNTIF(C55:AG55,"A")) | AJ55: =IF($B55="","",COUNTIF(C55:AG55,"L")) | AK55: =IF($B55="","",AH55+AI55+AJ55) | AL55: =IF(N(AK55)=0,"",AH55/AK55)
A56: Present that day | C56: =IF(C$4="","",COUNTIF(C6:C55,"P")) -> 0 | D56: =IF(D$4="","",COUNTIF(D6:D55,"P")) -> 0 | E56: =IF(E$4="","",COUNTIF(E6:E55,"P")) -> 0 | F56: =IF(F$4="","",COUNTIF(F6:F55,"P")) -> 0 | G56: =IF(G$4="","",COUNTIF(G6:G55,"P")) -> 0 | H56: =IF(H$4="","",COUNTIF(H6:H55,"P")) -> 0 | I56: =IF(I$4="","",COUNTIF(I6:I55,"P")) -> 0 | J56: =IF(J$4="","",COUNTIF(J6:J55,"P")) -> 0 | ... AG56: =IF(AG$4="","",COUNTIF(AG6:AG55,"P"))
A57: Absent or on leave | C57: =IF(C$4="","",COUNTIF(C6:C55,"A")+COUNTIF(C6:C55,"L")) -> 0 | D57: =IF(D$4="","",COUNTIF(D6:D55,"A")+COUNTIF(D6:D55,"L")) -> 0 | E57: =IF(E$4="","",COUNTIF(E6:E55,"A")+COUNTIF(E6:E55,"L")) -> 0 | F57: =IF(F$4="","",COUNTIF(F6:F55,"A")+COUNTIF(F6:F55,"L")) -> 0 | G57: =IF(G$4="","",COUNTIF(G6:G55,"A")+COUNTIF(G6:G55,"L")) -> 0 | H57: =IF(H$4="","",COUNTIF(H6:H55,"A")+COUNTIF(H6:H55,"L")) -> 0 | I57: =IF(I$4="","",COUNTIF(I6:I55,"A")+COUNTIF(I6:I55,"L")) -> 0 | J57: =IF(J$4="","",COUNTIF(J6:J55,"A")+COUNTIF(J6:J55,"L")) -> 0 | ... AG57: =IF(AG$4="","",COUNTIF(AG6:AG55,"A")+COUNTIF(AG6:AG55,"L"))
A59: Free template from proems.in

Sheet Jul
A1: =Setup!$B$4 -> Demo Public School
A2: ="Class "&Setup!$B$5&" "&Setup!$B$6&" · July "&Setup!$B$8&" · Class teacher: "&Setup!$B$7 -> Class VII A · July 2026 · Class teacher: Ms. R. Iyer | AK2: Minimum | AL2: =Setup!$B$9 -> 0.75
A4: Roll | B4: Student name | C4: =IF(1<=DAY(DATE(Setup!$B$8,7+1,0)),1,"") -> 1 | D4: =IF(2<=DAY(DATE(Setup!$B$8,7+1,0)),2,"") -> 2 | E4: =IF(3<=DAY(DATE(Setup!$B$8,7+1,0)),3,"") -> 3 | F4: =IF(4<=DAY(DATE(Setup!$B$8,7+1,0)),4,"") -> 4 | G4: =IF(5<=DAY(DATE(Setup!$B$8,7+1,0)),5,"") -> 5 | H4: =IF(6<=DAY(DATE(Setup!$B$8,7+1,0)),6,"") -> 6 | I4: =IF(7<=DAY(DATE(Setup!$B$8,7+1,0)),7,"") -> 7 | J4: =IF(8<=DAY(DATE(Setup!$B$8,7+1,0)),8,"") -> 8 | K4: =IF(9<=DAY(DATE(Setup!$B$8,7+1,0)),9,"") -> 9 | L4: =IF(10<=DAY(DATE(Setup!$B$8,7+1,0)),10,"") -> 10 | M4: =IF(11<=DAY(DATE(Setup!$B$8,7+1,0)),11,"") -> 11 | N4: =IF(12<=DAY(DATE(Setup!$B$8,7+1,0)),12,"") -> 12 | O4: =IF(13<=DAY(DATE(Setup!$B$8,7+1,0)),13,"") -> 13 | P4: =IF(14<=DAY(DATE(Setup!$B$8,7+1,0)),14,"") -> 14 | Q4: =IF(15<=DAY(DATE(Setup!$B$8,7+1,0)),15,"") -> 15 | R4: =IF(16<=DAY(DATE(Setup!$B$8,7+1,0)),16,"") -> 16 | S4: =IF(17<=DAY(DATE(Setup!$B$8,7+1,0)),17,"") -> 17 | T4: =IF(18<=DAY(DATE(Setup!$B$8,7+1,0)),18,"") -> 18 | U4: =IF(19<=DAY(DATE(Setup!$B$8,7+1,0)),19,"") -> 19 | V4: =IF(20<=DAY(DATE(Setup!$B$8,7+1,0)),20,"") -> 20 | W4: =IF(21<=DAY(DATE(Setup!$B$8,7+1,0)),21,"") -> 21 | X4: =IF(22<=DAY(DATE(Setup!$B$8,7+1,0)),22,"") -> 22 | Y4: =IF(23<=DAY(DATE(Setup!$B$8,7+1,0)),23,"") -> 23 | Z4: =IF(24<=DAY(DATE(Setup!$B$8,7+1,0)),24,"") -> 24 | AA4: =IF(25<=DAY(DATE(Setup!$B$8,7+1,0)),25,"") -> 25 | AB4: =IF(26<=DAY(DATE(Setup!$B$8,7+1,0)),26,"") -> 26 | AC4: =IF(27<=DAY(DATE(Setup!$B$8,7+1,0)),27,"") -> 27 | AD4: =IF(28<=DAY(DATE(Setup!$B$8,7+1,0)),28,"") -> 28 | AE4: =IF(29<=DAY(DATE(Setup!$B$8,7+1,0)),29,"") -> 29 | AF4: =IF(30<=DAY(DATE(Setup!$B$8,7+1,0)),30,"") -> 30 | AG4: =IF(31<=DAY(DATE(Setup!$B$8,7+1,0)),31,"") -> 31 | AH4: P | AI4: A | AJ4: L | AK4: Days | AL4: %
C5: =IF(C$4="","",CHOOSE(WEEKDAY(DATE(Setup!$B$8,7,C$4)),"Su","Mo","Tu","We","Th","Fr","Sa")) -> We | D5: =IF(D$4="","",CHOOSE(WEEKDAY(DATE(Setup!$B$8,7,D$4)),"Su","Mo","Tu","We","Th","Fr","Sa")) -> Th | E5: =IF(E$4="","",CHOOSE(WEEKDAY(DATE(Setup!$B$8,7,E$4)),"Su","Mo","Tu","We","Th","Fr","Sa")) -> Fr | F5: =IF(F$4="","",CHOOSE(WEEKDAY(DATE(Setup!$B$8,7,F$4)),"Su","Mo","Tu","We","Th","Fr","Sa")) -> Sa | G5: =IF(G$4="","",CHOOSE(WEEKDAY(DATE(Setup!$B$8,7,G$4)),"Su","Mo","Tu","We","Th","Fr","Sa")) -> Su | H5: =IF(H$4="","",CHOOSE(WEEKDAY(DATE(Setup!$B$8,7,H$4)),"Su","Mo","Tu","We","Th","Fr","Sa")) -> Mo | I5: =IF(I$4="","",CHOOSE(WEEKDAY(DATE(Setup!$B$8,7,I$4)),"Su","Mo","Tu","We","Th","Fr","Sa")) -> Tu | J5: =IF(J$4="","",CHOOSE(WEEKDAY(DATE(Setup!$B$8,7,J$4)),"Su","Mo","Tu","We","Th","Fr","Sa")) -> We | ... AG5: =IF(AG$4="","",CHOOSE(WEEKDAY(DATE(Setup!$B$8,7,AG$4)),"Su","Mo","Tu","We","Th","Fr","Sa")) -> Fr
A6: =IF(Setup!B19="","",Setup!A19) -> 1 | B6: =IF(Setup!B19="","",Setup!B19) -> Aarav Sharma | AH6: =IF($B6="","",COUNTIF(C6:AG6,"P")) -> 0 | AI6: =IF($B6="","",COUNTIF(C6:AG6,"A")) -> 0 | AJ6: =IF($B6="","",COUNTIF(C6:AG6,"L")) -> 0 | AK6: =IF($B6="","",AH6+AI6+AJ6) -> 0 | AL6: =IF(N(AK6)=0,"",AH6/AK6)
A7: =IF(Setup!B20="","",Setup!A20) -> 2 | B7: =IF(Setup!B20="","",Setup!B20) -> Ananya Iyer | AH7: =IF($B7="","",COUNTIF(C7:AG7,"P")) -> 0 | AI7: =IF($B7="","",COUNTIF(C7:AG7,"A")) -> 0 | AJ7: =IF($B7="","",COUNTIF(C7:AG7,"L")) -> 0 | AK7: =IF($B7="","",AH7+AI7+AJ7) -> 0 | AL7: =IF(N(AK7)=0,"",AH7/AK7)
A8: =IF(Setup!B21="","",Setup!A21) -> 3 | B8: =IF(Setup!B21="","",Setup!B21) -> Diya Menon | AH8: =IF($B8="","",COUNTIF(C8:AG8,"P")) -> 0 | AI8: =IF($B8="","",COUNTIF(C8:AG8,"A")) -> 0 | AJ8: =IF($B8="","",COUNTIF(C8:AG8,"L")) -> 0 | AK8: =IF($B8="","",AH8+AI8+AJ8) -> 0 | AL8: =IF(N(AK8)=0,"",AH8/AK8)
A9: =IF(Setup!B22="","",Setup!A22) -> 4 | B9: =IF(Setup!B22="","",Setup!B22) -> Ishaan Patel | AH9: =IF($B9="","",COUNTIF(C9:AG9,"P")) -> 0 | AI9: =IF($B9="","",COUNTIF(C9:AG9,"A")) -> 0 | AJ9: =IF($B9="","",COUNTIF(C9:AG9,"L")) -> 0 | AK9: =IF($B9="","",AH9+AI9+AJ9) -> 0 | AL9: =IF(N(AK9)=0,"",AH9/AK9)
A10: =IF(Setup!B23="","",Setup!A23) -> 5 | B10: =IF(Setup!B23="","",Setup!B23) -> Meera Reddy | AH10: =IF($B10="","",COUNTIF(C10:AG10,"P")) -> 0 | AI10: =IF($B10="","",COUNTIF(C10:AG10,"A")) -> 0 | AJ10: =IF($B10="","",COUNTIF(C10:AG10,"L")) -> 0 | AK10: =IF($B10="","",AH10+AI10+AJ10) -> 0 | AL10: =IF(N(AK10)=0,"",AH10/AK10)
A11: =IF(Setup!B24="","",Setup!A24) -> 6 | B11: =IF(Setup!B24="","",Setup!B24) -> Rohan Das | AH11: =IF($B11="","",COUNTIF(C11:AG11,"P")) -> 0 | AI11: =IF($B11="","",COUNTIF(C11:AG11,"A")) -> 0 | AJ11: =IF($B11="","",COUNTIF(C11:AG11,"L")) -> 0 | AK11: =IF($B11="","",AH11+AI11+AJ11) -> 0 | AL11: =IF(N(AK11)=0,"",AH11/AK11)
A12: =IF(Setup!B25="","",Setup!A25) -> 7 | B12: =IF(Setup!B25="","",Setup!B25) -> Sara Khan | AH12: =IF($B12="","",COUNTIF(C12:AG12,"P")) -> 0 | AI12: =IF($B12="","",COUNTIF(C12:AG12,"A")) -> 0 | AJ12: =IF($B12="","",COUNTIF(C12:AG12,"L")) -> 0 | AK12: =IF($B12="","",AH12+AI12+AJ12) -> 0 | AL12: =IF(N(AK12)=0,"",AH12/AK12)
A13: =IF(Setup!B26="","",Setup!A26) -> 8 | B13: =IF(Setup!B26="","",Setup!B26) -> Vihaan Gupta | AH13: =IF($B13="","",COUNTIF(C13:AG13,"P")) -> 0 | AI13: =IF($B13="","",COUNTIF(C13:AG13,"A")) -> 0 | AJ13: =IF($B13="","",COUNTIF(C13:AG13,"L")) -> 0 | AK13: =IF($B13="","",AH13+AI13+AJ13) -> 0 | AL13: =IF(N(AK13)=0,"",AH13/AK13)
A14: =IF(Setup!B27="","",Setup!A27) | B14: =IF(Setup!B27="","",Setup!B27) | AH14: =IF($B14="","",COUNTIF(C14:AG14,"P")) | AI14: =IF($B14="","",COUNTIF(C14:AG14,"A")) | AJ14: =IF($B14="","",COUNTIF(C14:AG14,"L")) | AK14: =IF($B14="","",AH14+AI14+AJ14) | AL14: =IF(N(AK14)=0,"",AH14/AK14)
A15: =IF(Setup!B28="","",Setup!A28) | B15: =IF(Setup!B28="","",Setup!B28) | AH15: =IF($B15="","",COUNTIF(C15:AG15,"P")) | AI15: =IF($B15="","",COUNTIF(C15:AG15,"A")) | AJ15: =IF($B15="","",COUNTIF(C15:AG15,"L")) | AK15: =IF($B15="","",AH15+AI15+AJ15) | AL15: =IF(N(AK15)=0,"",AH15/AK15)
A16: =IF(Setup!B29="","",Setup!A29) | B16: =IF(Setup!B29="","",Setup!B29) | AH16: =IF($B16="","",COUNTIF(C16:AG16,"P")) | AI16: =IF($B16="","",COUNTIF(C16:AG16,"A")) | AJ16: =IF($B16="","",COUNTIF(C16:AG16,"L")) | AK16: =IF($B16="","",AH16+AI16+AJ16) | AL16: =IF(N(AK16)=0,"",AH16/AK16)
A17: =IF(Setup!B30="","",Setup!A30) | B17: =IF(Setup!B30="","",Setup!B30) | AH17: =IF($B17="","",COUNTIF(C17:AG17,"P")) | AI17: =IF($B17="","",COUNTIF(C17:AG17,"A")) | AJ17: =IF($B17="","",COUNTIF(C17:AG17,"L")) | AK17: =IF($B17="","",AH17+AI17+AJ17) | AL17: =IF(N(AK17)=0,"",AH17/AK17)
... A55: =IF(Setup!B68="","",Setup!A68) | B55: =IF(Setup!B68="","",Setup!B68) | AH55: =IF($B55="","",COUNTIF(C55:AG55,"P")) | AI55: =IF($B55="","",COUNTIF(C55:AG55,"A")) | AJ55: =IF($B55="","",COUNTIF(C55:AG55,"L")) | AK55: =IF($B55="","",AH55+AI55+AJ55) | AL55: =IF(N(AK55)=0,"",AH55/AK55)
A56: Present that day | C56: =IF(C$4="","",COUNTIF(C6:C55,"P")) -> 0 | D56: =IF(D$4="","",COUNTIF(D6:D55,"P")) -> 0 | E56: =IF(E$4="","",COUNTIF(E6:E55,"P")) -> 0 | F56: =IF(F$4="","",COUNTIF(F6:F55,"P")) -> 0 | G56: =IF(G$4="","",COUNTIF(G6:G55,"P")) -> 0 | H56: =IF(H$4="","",COUNTIF(H6:H55,"P")) -> 0 | I56: =IF(I$4="","",COUNTIF(I6:I55,"P")) -> 0 | J56: =IF(J$4="","",COUNTIF(J6:J55,"P")) -> 0 | ... AG56: =IF(AG$4="","",COUNTIF(AG6:AG55,"P")) -> 0
A57: Absent or on leave | C57: =IF(C$4="","",COUNTIF(C6:C55,"A")+COUNTIF(C6:C55,"L")) -> 0 | D57: =IF(D$4="","",COUNTIF(D6:D55,"A")+COUNTIF(D6:D55,"L")) -> 0 | E57: =IF(E$4="","",COUNTIF(E6:E55,"A")+COUNTIF(E6:E55,"L")) -> 0 | F57: =IF(F$4="","",COUNTIF(F6:F55,"A")+COUNTIF(F6:F55,"L")) -> 0 | G57: =IF(G$4="","",COUNTIF(G6:G55,"A")+COUNTIF(G6:G55,"L")) -> 0 | H57: =IF(H$4="","",COUNTIF(H6:H55,"A")+COUNTIF(H6:H55,"L")) -> 0 | I57: =IF(I$4="","",COUNTIF(I6:I55,"A")+COUNTIF(I6:I55,"L")) -> 0 | J57: =IF(J$4="","",COUNTIF(J6:J55,"A")+COUNTIF(J6:J55,"L")) -> 0 | ... AG57: =IF(AG$4="","",COUNTIF(AG6:AG55,"A")+COUNTIF(AG6:AG55,"L")) -> 0
A59: Free template from proems.in

Sheet Aug
A1: =Setup!$B$4 -> Demo Public School
A2: ="Class "&Setup!$B$5&" "&Setup!$B$6&" · August "&Setup!$B$8&" · Class teacher: "&Setup!$B$7 -> Class VII A · August 2026 · Class teacher: Ms. R. Iyer | AK2: Minimum | AL2: =Setup!$B$9 -> 0.75
A4: Roll | B4: Student name | C4: =IF(1<=DAY(DATE(Setup!$B$8,8+1,0)),1,"") -> 1 | D4: =IF(2<=DAY(DATE(Setup!$B$8,8+1,0)),2,"") -> 2 | E4: =IF(3<=DAY(DATE(Setup!$B$8,8+1,0)),3,"") -> 3 | F4: =IF(4<=DAY(DATE(Setup!$B$8,8+1,0)),4,"") -> 4 | G4: =IF(5<=DAY(DATE(Setup!$B$8,8+1,0)),5,"") -> 5 | H4: =IF(6<=DAY(DATE(Setup!$B$8,8+1,0)),6,"") -> 6 | I4: =IF(7<=DAY(DATE(Setup!$B$8,8+1,0)),7,"") -> 7 | J4: =IF(8<=DAY(DATE(Setup!$B$8,8+1,0)),8,"") -> 8 | K4: =IF(9<=DAY(DATE(Setup!$B$8,8+1,0)),9,"") -> 9 | L4: =IF(10<=DAY(DATE(Setup!$B$8,8+1,0)),10,"") -> 10 | M4: =IF(11<=DAY(DATE(Setup!$B$8,8+1,0)),11,"") -> 11 | N4: =IF(12<=DAY(DATE(Setup!$B$8,8+1,0)),12,"") -> 12 | O4: =IF(13<=DAY(DATE(Setup!$B$8,8+1,0)),13,"") -> 13 | P4: =IF(14<=DAY(DATE(Setup!$B$8,8+1,0)),14,"") -> 14 | Q4: =IF(15<=DAY(DATE(Setup!$B$8,8+1,0)),15,"") -> 15 | R4: =IF(16<=DAY(DATE(Setup!$B$8,8+1,0)),16,"") -> 16 | S4: =IF(17<=DAY(DATE(Setup!$B$8,8+1,0)),17,"") -> 17 | T4: =IF(18<=DAY(DATE(Setup!$B$8,8+1,0)),18,"") -> 18 | U4: =IF(19<=DAY(DATE(Setup!$B$8,8+1,0)),19,"") -> 19 | V4: =IF(20<=DAY(DATE(Setup!$B$8,8+1,0)),20,"") -> 20 | W4: =IF(21<=DAY(DATE(Setup!$B$8,8+1,0)),21,"") -> 21 | X4: =IF(22<=DAY(DATE(Setup!$B$8,8+1,0)),22,"") -> 22 | Y4: =IF(23<=DAY(DATE(Setup!$B$8,8+1,0)),23,"") -> 23 | Z4: =IF(24<=DAY(DATE(Setup!$B$8,8+1,0)),24,"") -> 24 | AA4: =IF(25<=DAY(DATE(Setup!$B$8,8+1,0)),25,"") -> 25 | AB4: =IF(26<=DAY(DATE(Setup!$B$8,8+1,0)),26,"") -> 26 | AC4: =IF(27<=DAY(DATE(Setup!$B$8,8+1,0)),27,"") -> 27 | AD4: =IF(28<=DAY(DATE(Setup!$B$8,8+1,0)),28,"") -> 28 | AE4: =IF(29<=DAY(DATE(Setup!$B$8,8+1,0)),29,"") -> 29 | AF4: =IF(30<=DAY(DATE(Setup!$B$8,8+1,0)),30,"") -> 30 | AG4: =IF(31<=DAY(DATE(Setup!$B$8,8+1,0)),31,"") -> 31 | AH4: P | AI4: A | AJ4: L | AK4: Days | AL4: %
C5: =IF(C$4="","",CHOOSE(WEEKDAY(DATE(Setup!$B$8,8,C$4)),"Su","Mo","Tu","We","Th","Fr","Sa")) -> Sa | D5: =IF(D$4="","",CHOOSE(WEEKDAY(DATE(Setup!$B$8,8,D$4)),"Su","Mo","Tu","We","Th","Fr","Sa")) -> Su | E5: =IF(E$4="","",CHOOSE(WEEKDAY(DATE(Setup!$B$8,8,E$4)),"Su","Mo","Tu","We","Th","Fr","Sa")) -> Mo | F5: =IF(F$4="","",CHOOSE(WEEKDAY(DATE(Setup!$B$8,8,F$4)),"Su","Mo","Tu","We","Th","Fr","Sa")) -> Tu | G5: =IF(G$4="","",CHOOSE(WEEKDAY(DATE(Setup!$B$8,8,G$4)),"Su","Mo","Tu","We","Th","Fr","Sa")) -> We | H5: =IF(H$4="","",CHOOSE(WEEKDAY(DATE(Setup!$B$8,8,H$4)),"Su","Mo","Tu","We","Th","Fr","Sa")) -> Th | I5: =IF(I$4="","",CHOOSE(WEEKDAY(DATE(Setup!$B$8,8,I$4)),"Su","Mo","Tu","We","Th","Fr","Sa")) -> Fr | J5: =IF(J$4="","",CHOOSE(WEEKDAY(DATE(Setup!$B$8,8,J$4)),"Su","Mo","Tu","We","Th","Fr","Sa")) -> Sa | ... AG5: =IF(AG$4="","",CHOOSE(WEEKDAY(DATE(Setup!$B$8,8,AG$4)),"Su","Mo","Tu","We","Th","Fr","Sa")) -> Mo
A6: =IF(Setup!B19="","",Setup!A19) -> 1 | B6: =IF(Setup!B19="","",Setup!B19) -> Aarav Sharma | AH6: =IF($B6="","",COUNTIF(C6:AG6,"P")) -> 0 | AI6: =IF($B6="","",COUNTIF(C6:AG6,"A")) -> 0 | AJ6: =IF($B6="","",COUNTIF(C6:AG6,"L")) -> 0 | AK6: =IF($B6="","",AH6+AI6+AJ6) -> 0 | AL6: =IF(N(AK6)=0,"",AH6/AK6)
A7: =IF(Setup!B20="","",Setup!A20) -> 2 | B7: =IF(Setup!B20="","",Setup!B20) -> Ananya Iyer | AH7: =IF($B7="","",COUNTIF(C7:AG7,"P")) -> 0 | AI7: =IF($B7="","",COUNTIF(C7:AG7,"A")) -> 0 | AJ7: =IF($B7="","",COUNTIF(C7:AG7,"L")) -> 0 | AK7: =IF($B7="","",AH7+AI7+AJ7) -> 0 | AL7: =IF(N(AK7)=0,"",AH7/AK7)
A8: =IF(Setup!B21="","",Setup!A21) -> 3 | B8: =IF(Setup!B21="","",Setup!B21) -> Diya Menon | AH8: =IF($B8="","",COUNTIF(C8:AG8,"P")) -> 0 | AI8: =IF($B8="","",COUNTIF(C8:AG8,"A")) -> 0 | AJ8: =IF($B8="","",COUNTIF(C8:AG8,"L")) -> 0 | AK8: =IF($B8="","",AH8+AI8+AJ8) -> 0 | AL8: =IF(N(AK8)=0,"",AH8/AK8)
A9: =IF(Setup!B22="","",Setup!A22) -> 4 | B9: =IF(Setup!B22="","",Setup!B22) -> Ishaan Patel | AH9: =IF($B9="","",COUNTIF(C9:AG9,"P")) -> 0 | AI9: =IF($B9="","",COUNTIF(C9:AG9,"A")) -> 0 | AJ9: =IF($B9="","",COUNTIF(C9:AG9,"L")) -> 0 | AK9: =IF($B9="","",AH9+AI9+AJ9) -> 0 | AL9: =IF(N(AK9)=0,"",AH9/AK9)
A10: =IF(Setup!B23="","",Setup!A23) -> 5 | B10: =IF(Setup!B23="","",Setup!B23) -> Meera Reddy | AH10: =IF($B10="","",COUNTIF(C10:AG10,"P")) -> 0 | AI10: =IF($B10="","",COUNTIF(C10:AG10,"A")) -> 0 | AJ10: =IF($B10="","",COUNTIF(C10:AG10,"L")) -> 0 | AK10: =IF($B10="","",AH10+AI10+AJ10) -> 0 | AL10: =IF(N(AK10)=0,"",AH10/AK10)
A11: =IF(Setup!B24="","",Setup!A24) -> 6 | B11: =IF(Setup!B24="","",Setup!B24) -> Rohan Das | AH11: =IF($B11="","",COUNTIF(C11:AG11,"P")) -> 0 | AI11: =IF($B11="","",COUNTIF(C11:AG11,"A")) -> 0 | AJ11: =IF($B11="","",COUNTIF(C11:AG11,"L")) -> 0 | AK11: =IF($B11="","",AH11+AI11+AJ11) -> 0 | AL11: =IF(N(AK11)=0,"",AH11/AK11)
A12: =IF(Setup!B25="","",Setup!A25) -> 7 | B12: =IF(Setup!B25="","",Setup!B25) -> Sara Khan | AH12: =IF($B12="","",COUNTIF(C12:AG12,"P")) -> 0 | AI12: =IF($B12="","",COUNTIF(C12:AG12,"A")) -> 0 | AJ12: =IF($B12="","",COUNTIF(C12:AG12,"L")) -> 0 | AK12: =IF($B12="","",AH12+AI12+AJ12) -> 0 | AL12: =IF(N(AK12)=0,"",AH12/AK12)
A13: =IF(Setup!B26="","",Setup!A26) -> 8 | B13: =IF(Setup!B26="","",Setup!B26) -> Vihaan Gupta | AH13: =IF($B13="","",COUNTIF(C13:AG13,"P")) -> 0 | AI13: =IF($B13="","",COUNTIF(C13:AG13,"A")) -> 0 | AJ13: =IF($B13="","",COUNTIF(C13:AG13,"L")) -> 0 | AK13: =IF($B13="","",AH13+AI13+AJ13) -> 0 | AL13: =IF(N(AK13)=0,"",AH13/AK13)
A14: =IF(Setup!B27="","",Setup!A27) | B14: =IF(Setup!B27="","",Setup!B27) | AH14: =IF($B14="","",COUNTIF(C14:AG14,"P")) | AI14: =IF($B14="","",COUNTIF(C14:AG14,"A")) | AJ14: =IF($B14="","",COUNTIF(C14:AG14,"L")) | AK14: =IF($B14="","",AH14+AI14+AJ14) | AL14: =IF(N(AK14)=0,"",AH14/AK14)
A15: =IF(Setup!B28="","",Setup!A28) | B15: =IF(Setup!B28="","",Setup!B28) | AH15: =IF($B15="","",COUNTIF(C15:AG15,"P")) | AI15: =IF($B15="","",COUNTIF(C15:AG15,"A")) | AJ15: =IF($B15="","",COUNTIF(C15:AG15,"L")) | AK15: =IF($B15="","",AH15+AI15+AJ15) | AL15: =IF(N(AK15)=0,"",AH15/AK15)
A16: =IF(Setup!B29="","",Setup!A29) | B16: =IF(Setup!B29="","",Setup!B29) | AH16: =IF($B16="","",COUNTIF(C16:AG16,"P")) | AI16: =IF($B16="","",COUNTIF(C16:AG16,"A")) | AJ16: =IF($B16="","",COUNTIF(C16:AG16,"L")) | AK16: =IF($B16="","",AH16+AI16+AJ16) | AL16: =IF(N(AK16)=0,"",AH16/AK16)
A17: =IF(Setup!B30="","",Setup!A30) | B17: =IF(Setup!B30="","",Setup!B30) | AH17: =IF($B17="","",COUNTIF(C17:AG17,"P")) | AI17: =IF($B17="","",COUNTIF(C17:AG17,"A")) | AJ17: =IF($B17="","",COUNTIF(C17:AG17,"L")) | AK17: =IF($B17="","",AH17+AI17+AJ17) | AL17: =IF(N(AK17)=0,"",AH17/AK17)
... A55: =IF(Setup!B68="","",Setup!A68) | B55: =IF(Setup!B68="","",Setup!B68) | AH55: =IF($B55="","",COUNTIF(C55:AG55,"P")) | AI55: =IF($B55="","",COUNTIF(C55:AG55,"A")) | AJ55: =IF($B55="","",COUNTIF(C55:AG55,"L")) | AK55: =IF($B55="","",AH55+AI55+AJ55) | AL55: =IF(N(AK55)=0,"",AH55/AK55)
A56: Present that day | C56: =IF(C$4="","",COUNTIF(C6:C55,"P")) -> 0 | D56: =IF(D$4="","",COUNTIF(D6:D55,"P")) -> 0 | E56: =IF(E$4="","",COUNTIF(E6:E55,"P")) -> 0 | F56: =IF(F$4="","",COUNTIF(F6:F55,"P")) -> 0 | G56: =IF(G$4="","",COUNTIF(G6:G55,"P")) -> 0 | H56: =IF(H$4="","",COUNTIF(H6:H55,"P")) -> 0 | I56: =IF(I$4="","",COUNTIF(I6:I55,"P")) -> 0 | J56: =IF(J$4="","",COUNTIF(J6:J55,"P")) -> 0 | ... AG56: =IF(AG$4="","",COUNTIF(AG6:AG55,"P")) -> 0
A57: Absent or on leave | C57: =IF(C$4="","",COUNTIF(C6:C55,"A")+COUNTIF(C6:C55,"L")) -> 0 | D57: =IF(D$4="","",COUNTIF(D6:D55,"A")+COUNTIF(D6:D55,"L")) -> 0 | E57: =IF(E$4="","",COUNTIF(E6:E55,"A")+COUNTIF(E6:E55,"L")) -> 0 | F57: =IF(F$4="","",COUNTIF(F6:F55,"A")+COUNTIF(F6:F55,"L")) -> 0 | G57: =IF(G$4="","",COUNTIF(G6:G55,"A")+COUNTIF(G6:G55,"L")) -> 0 | H57: =IF(H$4="","",COUNTIF(H6:H55,"A")+COUNTIF(H6:H55,"L")) -> 0 | I57: =IF(I$4="","",COUNTIF(I6:I55,"A")+COUNTIF(I6:I55,"L")) -> 0 | J57: =IF(J$4="","",COUNTIF(J6:J55,"A")+COUNTIF(J6:J55,"L")) -> 0 | ... AG57: =IF(AG$4="","",COUNTIF(AG6:AG55,"A")+COUNTIF(AG6:AG55,"L")) -> 0
A59: Free template from proems.in

Sheet Sep
A1: =Setup!$B$4 -> Demo Public School
A2: ="Class "&Setup!$B$5&" "&Setup!$B$6&" · September "&Setup!$B$8&" · Class teacher: "&Setup!$B$7 -> Class VII A · September 2026 · Class teacher: Ms. R. Iyer | AK2: Minimum | AL2: =Setup!$B$9 -> 0.75
A4: Roll | B4: Student name | C4: =IF(1<=DAY(DATE(Setup!$B$8,9+1,0)),1,"") -> 1 | D4: =IF(2<=DAY(DATE(Setup!$B$8,9+1,0)),2,"") -> 2 | E4: =IF(3<=DAY(DATE(Setup!$B$8,9+1,0)),3,"") -> 3 | F4: =IF(4<=DAY(DATE(Setup!$B$8,9+1,0)),4,"") -> 4 | G4: =IF(5<=DAY(DATE(Setup!$B$8,9+1,0)),5,"") -> 5 | H4: =IF(6<=DAY(DATE(Setup!$B$8,9+1,0)),6,"") -> 6 | I4: =IF(7<=DAY(DATE(Setup!$B$8,9+1,0)),7,"") -> 7 | J4: =IF(8<=DAY(DATE(Setup!$B$8,9+1,0)),8,"") -> 8 | K4: =IF(9<=DAY(DATE(Setup!$B$8,9+1,0)),9,"") -> 9 | L4: =IF(10<=DAY(DATE(Setup!$B$8,9+1,0)),10,"") -> 10 | M4: =IF(11<=DAY(DATE(Setup!$B$8,9+1,0)),11,"") -> 11 | N4: =IF(12<=DAY(DATE(Setup!$B$8,9+1,0)),12,"") -> 12 | O4: =IF(13<=DAY(DATE(Setup!$B$8,9+1,0)),13,"") -> 13 | P4: =IF(14<=DAY(DATE(Setup!$B$8,9+1,0)),14,"") -> 14 | Q4: =IF(15<=DAY(DATE(Setup!$B$8,9+1,0)),15,"") -> 15 | R4: =IF(16<=DAY(DATE(Setup!$B$8,9+1,0)),16,"") -> 16 | S4: =IF(17<=DAY(DATE(Setup!$B$8,9+1,0)),17,"") -> 17 | T4: =IF(18<=DAY(DATE(Setup!$B$8,9+1,0)),18,"") -> 18 | U4: =IF(19<=DAY(DATE(Setup!$B$8,9+1,0)),19,"") -> 19 | V4: =IF(20<=DAY(DATE(Setup!$B$8,9+1,0)),20,"") -> 20 | W4: =IF(21<=DAY(DATE(Setup!$B$8,9+1,0)),21,"") -> 21 | X4: =IF(22<=DAY(DATE(Setup!$B$8,9+1,0)),22,"") -> 22 | Y4: =IF(23<=DAY(DATE(Setup!$B$8,9+1,0)),23,"") -> 23 | Z4: =IF(24<=DAY(DATE(Setup!$B$8,9+1,0)),24,"") -> 24 | AA4: =IF(25<=DAY(DATE(Setup!$B$8,9+1,0)),25,"") -> 25 | AB4: =IF(26<=DAY(DATE(Setup!$B$8,9+1,0)),26,"") -> 26 | AC4: =IF(27<=DAY(DATE(Setup!$B$8,9+1,0)),27,"") -> 27 | AD4: =IF(28<=DAY(DATE(Setup!$B$8,9+1,0)),28,"") -> 28 | AE4: =IF(29<=DAY(DATE(Setup!$B$8,9+1,0)),29,"") -> 29 | AF4: =IF(30<=DAY(DATE(Setup!$B$8,9+1,0)),30,"") -> 30 | AG4: =IF(31<=DAY(DATE(Setup!$B$8,9+1,0)),31,"") | AH4: P | AI4: A | AJ4: L | AK4: Days | AL4: %
C5: =IF(C$4="","",CHOOSE(WEEKDAY(DATE(Setup!$B$8,9,C$4)),"Su","Mo","Tu","We","Th","Fr","Sa")) -> Tu | D5: =IF(D$4="","",CHOOSE(WEEKDAY(DATE(Setup!$B$8,9,D$4)),"Su","Mo","Tu","We","Th","Fr","Sa")) -> We | E5: =IF(E$4="","",CHOOSE(WEEKDAY(DATE(Setup!$B$8,9,E$4)),"Su","Mo","Tu","We","Th","Fr","Sa")) -> Th | F5: =IF(F$4="","",CHOOSE(WEEKDAY(DATE(Setup!$B$8,9,F$4)),"Su","Mo","Tu","We","Th","Fr","Sa")) -> Fr | G5: =IF(G$4="","",CHOOSE(WEEKDAY(DATE(Setup!$B$8,9,G$4)),"Su","Mo","Tu","We","Th","Fr","Sa")) -> Sa | H5: =IF(H$4="","",CHOOSE(WEEKDAY(DATE(Setup!$B$8,9,H$4)),"Su","Mo","Tu","We","Th","Fr","Sa")) -> Su | I5: =IF(I$4="","",CHOOSE(WEEKDAY(DATE(Setup!$B$8,9,I$4)),"Su","Mo","Tu","We","Th","Fr","Sa")) -> Mo | J5: =IF(J$4="","",CHOOSE(WEEKDAY(DATE(Setup!$B$8,9,J$4)),"Su","Mo","Tu","We","Th","Fr","Sa")) -> Tu | ... AG5: =IF(AG$4="","",CHOOSE(WEEKDAY(DATE(Setup!$B$8,9,AG$4)),"Su","Mo","Tu","We","Th","Fr","Sa"))
A6: =IF(Setup!B19="","",Setup!A19) -> 1 | B6: =IF(Setup!B19="","",Setup!B19) -> Aarav Sharma | AH6: =IF($B6="","",COUNTIF(C6:AG6,"P")) -> 0 | AI6: =IF($B6="","",COUNTIF(C6:AG6,"A")) -> 0 | AJ6: =IF($B6="","",COUNTIF(C6:AG6,"L")) -> 0 | AK6: =IF($B6="","",AH6+AI6+AJ6) -> 0 | AL6: =IF(N(AK6)=0,"",AH6/AK6)
A7: =IF(Setup!B20="","",Setup!A20) -> 2 | B7: =IF(Setup!B20="","",Setup!B20) -> Ananya Iyer | AH7: =IF($B7="","",COUNTIF(C7:AG7,"P")) -> 0 | AI7: =IF($B7="","",COUNTIF(C7:AG7,"A")) -> 0 | AJ7: =IF($B7="","",COUNTIF(C7:AG7,"L")) -> 0 | AK7: =IF($B7="","",AH7+AI7+AJ7) -> 0 | AL7: =IF(N(AK7)=0,"",AH7/AK7)
A8: =IF(Setup!B21="","",Setup!A21) -> 3 | B8: =IF(Setup!B21="","",Setup!B21) -> Diya Menon | AH8: =IF($B8="","",COUNTIF(C8:AG8,"P")) -> 0 | AI8: =IF($B8="","",COUNTIF(C8:AG8,"A")) -> 0 | AJ8: =IF($B8="","",COUNTIF(C8:AG8,"L")) -> 0 | AK8: =IF($B8="","",AH8+AI8+AJ8) -> 0 | AL8: =IF(N(AK8)=0,"",AH8/AK8)
A9: =IF(Setup!B22="","",Setup!A22) -> 4 | B9: =IF(Setup!B22="","",Setup!B22) -> Ishaan Patel | AH9: =IF($B9="","",COUNTIF(C9:AG9,"P")) -> 0 | AI9: =IF($B9="","",COUNTIF(C9:AG9,"A")) -> 0 | AJ9: =IF($B9="","",COUNTIF(C9:AG9,"L")) -> 0 | AK9: =IF($B9="","",AH9+AI9+AJ9) -> 0 | AL9: =IF(N(AK9)=0,"",AH9/AK9)
A10: =IF(Setup!B23="","",Setup!A23) -> 5 | B10: =IF(Setup!B23="","",Setup!B23) -> Meera Reddy | AH10: =IF($B10="","",COUNTIF(C10:AG10,"P")) -> 0 | AI10: =IF($B10="","",COUNTIF(C10:AG10,"A")) -> 0 | AJ10: =IF($B10="","",COUNTIF(C10:AG10,"L")) -> 0 | AK10: =IF($B10="","",AH10+AI10+AJ10) -> 0 | AL10: =IF(N(AK10)=0,"",AH10/AK10)
A11: =IF(Setup!B24="","",Setup!A24) -> 6 | B11: =IF(Setup!B24="","",Setup!B24) -> Rohan Das | AH11: =IF($B11="","",COUNTIF(C11:AG11,"P")) -> 0 | AI11: =IF($B11="","",COUNTIF(C11:AG11,"A")) -> 0 | AJ11: =IF($B11="","",COUNTIF(C11:AG11,"L")) -> 0 | AK11: =IF($B11="","",AH11+AI11+AJ11) -> 0 | AL11: =IF(N(AK11)=0,"",AH11/AK11)
A12: =IF(Setup!B25="","",Setup!A25) -> 7 | B12: =IF(Setup!B25="","",Setup!B25) -> Sara Khan | AH12: =IF($B12="","",COUNTIF(C12:AG12,"P")) -> 0 | AI12: =IF($B12="","",COUNTIF(C12:AG12,"A")) -> 0 | AJ12: =IF($B12="","",COUNTIF(C12:AG12,"L")) -> 0 | AK12: =IF($B12="","",AH12+AI12+AJ12) -> 0 | AL12: =IF(N(AK12)=0,"",AH12/AK12)
A13: =IF(Setup!B26="","",Setup!A26) -> 8 | B13: =IF(Setup!B26="","",Setup!B26) -> Vihaan Gupta | AH13: =IF($B13="","",COUNTIF(C13:AG13,"P")) -> 0 | AI13: =IF($B13="","",COUNTIF(C13:AG13,"A")) -> 0 | AJ13: =IF($B13="","",COUNTIF(C13:AG13,"L")) -> 0 | AK13: =IF($B13="","",AH13+AI13+AJ13) -> 0 | AL13: =IF(N(AK13)=0,"",AH13/AK13)
A14: =IF(Setup!B27="","",Setup!A27) | B14: =IF(Setup!B27="","",Setup!B27) | AH14: =IF($B14="","",COUNTIF(C14:AG14,"P")) | AI14: =IF($B14="","",COUNTIF(C14:AG14,"A")) | AJ14: =IF($B14="","",COUNTIF(C14:AG14,"L")) | AK14: =IF($B14="","",AH14+AI14+AJ14) | AL14: =IF(N(AK14)=0,"",AH14/AK14)
A15: =IF(Setup!B28="","",Setup!A28) | B15: =IF(Setup!B28="","",Setup!B28) | AH15: =IF($B15="","",COUNTIF(C15:AG15,"P")) | AI15: =IF($B15="","",COUNTIF(C15:AG15,"A")) | AJ15: =IF($B15="","",COUNTIF(C15:AG15,"L")) | AK15: =IF($B15="","",AH15+AI15+AJ15) | AL15: =IF(N(AK15)=0,"",AH15/AK15)
A16: =IF(Setup!B29="","",Setup!A29) | B16: =IF(Setup!B29="","",Setup!B29) | AH16: =IF($B16="","",COUNTIF(C16:AG16,"P")) | AI16: =IF($B16="","",COUNTIF(C16:AG16,"A")) | AJ16: =IF($B16="","",COUNTIF(C16:AG16,"L")) | AK16: =IF($B16="","",AH16+AI16+AJ16) | AL16: =IF(N(AK16)=0,"",AH16/AK16)
A17: =IF(Setup!B30="","",Setup!A30) | B17: =IF(Setup!B30="","",Setup!B30) | AH17: =IF($B17="","",COUNTIF(C17:AG17,"P")) | AI17: =IF($B17="","",COUNTIF(C17:AG17,"A")) | AJ17: =IF($B17="","",COUNTIF(C17:AG17,"L")) | AK17: =IF($B17="","",AH17+AI17+AJ17) | AL17: =IF(N(AK17)=0,"",AH17/AK17)
... A55: =IF(Setup!B68="","",Setup!A68) | B55: =IF(Setup!B68="","",Setup!B68) | AH55: =IF($B55="","",COUNTIF(C55:AG55,"P")) | AI55: =IF($B55="","",COUNTIF(C55:AG55,"A")) | AJ55: =IF($B55="","",COUNTIF(C55:AG55,"L")) | AK55: =IF($B55="","",AH55+AI55+AJ55) | AL55: =IF(N(AK55)=0,"",AH55/AK55)
A56: Present that day | C56: =IF(C$4="","",COUNTIF(C6:C55,"P")) -> 0 | D56: =IF(D$4="","",COUNTIF(D6:D55,"P")) -> 0 | E56: =IF(E$4="","",COUNTIF(E6:E55,"P")) -> 0 | F56: =IF(F$4="","",COUNTIF(F6:F55,"P")) -> 0 | G56: =IF(G$4="","",COUNTIF(G6:G55,"P")) -> 0 | H56: =IF(H$4="","",COUNTIF(H6:H55,"P")) -> 0 | I56: =IF(I$4="","",COUNTIF(I6:I55,"P")) -> 0 | J56: =IF(J$4="","",COUNTIF(J6:J55,"P")) -> 0 | ... AG56: =IF(AG$4="","",COUNTIF(AG6:AG55,"P"))
A57: Absent or on leave | C57: =IF(C$4="","",COUNTIF(C6:C55,"A")+COUNTIF(C6:C55,"L")) -> 0 | D57: =IF(D$4="","",COUNTIF(D6:D55,"A")+COUNTIF(D6:D55,"L")) -> 0 | E57: =IF(E$4="","",COUNTIF(E6:E55,"A")+COUNTIF(E6:E55,"L")) -> 0 | F57: =IF(F$4="","",COUNTIF(F6:F55,"A")+COUNTIF(F6:F55,"L")) -> 0 | G57: =IF(G$4="","",COUNTIF(G6:G55,"A")+COUNTIF(G6:G55,"L")) -> 0 | H57: =IF(H$4="","",COUNTIF(H6:H55,"A")+COUNTIF(H6:H55,"L")) -> 0 | I57: =IF(I$4="","",COUNTIF(I6:I55,"A")+COUNTIF(I6:I55,"L")) -> 0 | J57: =IF(J$4="","",COUNTIF(J6:J55,"A")+COUNTIF(J6:J55,"L")) -> 0 | ... AG57: =IF(AG$4="","",COUNTIF(AG6:AG55,"A")+COUNTIF(AG6:AG55,"L"))
A59: Free template from proems.in

Sheet Oct
A1: =Setup!$B$4 -> Demo Public School
A2: ="Class "&Setup!$B$5&" "&Setup!$B$6&" · October "&Setup!$B$8&" · Class teacher: "&Setup!$B$7 -> Class VII A · October 2026 · Class teacher: Ms. R. Iyer | AK2: Minimum | AL2: =Setup!$B$9 -> 0.75
A4: Roll | B4: Student name | C4: =IF(1<=DAY(DATE(Setup!$B$8,10+1,0)),1,"") -> 1 | D4: =IF(2<=DAY(DATE(Setup!$B$8,10+1,0)),2,"") -> 2 | E4: =IF(3<=DAY(DATE(Setup!$B$8,10+1,0)),3,"") -> 3 | F4: =IF(4<=DAY(DATE(Setup!$B$8,10+1,0)),4,"") -> 4 | G4: =IF(5<=DAY(DATE(Setup!$B$8,10+1,0)),5,"") -> 5 | H4: =IF(6<=DAY(DATE(Setup!$B$8,10+1,0)),6,"") -> 6 | I4: =IF(7<=DAY(DATE(Setup!$B$8,10+1,0)),7,"") -> 7 | J4: =IF(8<=DAY(DATE(Setup!$B$8,10+1,0)),8,"") -> 8 | K4: =IF(9<=DAY(DATE(Setup!$B$8,10+1,0)),9,"") -> 9 | L4: =IF(10<=DAY(DATE(Setup!$B$8,10+1,0)),10,"") -> 10 | M4: =IF(11<=DAY(DATE(Setup!$B$8,10+1,0)),11,"") -> 11 | N4: =IF(12<=DAY(DATE(Setup!$B$8,10+1,0)),12,"") -> 12 | O4: =IF(13<=DAY(DATE(Setup!$B$8,10+1,0)),13,"") -> 13 | P4: =IF(14<=DAY(DATE(Setup!$B$8,10+1,0)),14,"") -> 14 | Q4: =IF(15<=DAY(DATE(Setup!$B$8,10+1,0)),15,"") -> 15 | R4: =IF(16<=DAY(DATE(Setup!$B$8,10+1,0)),16,"") -> 16 | S4: =IF(17<=DAY(DATE(Setup!$B$8,10+1,0)),17,"") -> 17 | T4: =IF(18<=DAY(DATE(Setup!$B$8,10+1,0)),18,"") -> 18 | U4: =IF(19<=DAY(DATE(Setup!$B$8,10+1,0)),19,"") -> 19 | V4: =IF(20<=DAY(DATE(Setup!$B$8,10+1,0)),20,"") -> 20 | W4: =IF(21<=DAY(DATE(Setup!$B$8,10+1,0)),21,"") -> 21 | X4: =IF(22<=DAY(DATE(Setup!$B$8,10+1,0)),22,"") -> 22 | Y4: =IF(23<=DAY(DATE(Setup!$B$8,10+1,0)),23,"") -> 23 | Z4: =IF(24<=DAY(DATE(Setup!$B$8,10+1,0)),24,"") -> 24 | AA4: =IF(25<=DAY(DATE(Setup!$B$8,10+1,0)),25,"") -> 25 | AB4: =IF(26<=DAY(DATE(Setup!$B$8,10+1,0)),26,"") -> 26 | AC4: =IF(27<=DAY(DATE(Setup!$B$8,10+1,0)),27,"") -> 27 | AD4: =IF(28<=DAY(DATE(Setup!$B$8,10+1,0)),28,"") -> 28 | AE4: =IF(29<=DAY(DATE(Setup!$B$8,10+1,0)),29,"") -> 29 | AF4: =IF(30<=DAY(DATE(Setup!$B$8,10+1,0)),30,"") -> 30 | AG4: =IF(31<=DAY(DATE(Setup!$B$8,10+1,0)),31,"") -> 31 | AH4: P | AI4: A | AJ4: L | AK4: Days | AL4: %
C5: =IF(C$4="","",CHOOSE(WEEKDAY(DATE(Setup!$B$8,10,C$4)),"Su","Mo","Tu","We","Th","Fr","Sa")) -> Th | D5: =IF(D$4="","",CHOOSE(WEEKDAY(DATE(Setup!$B$8,10,D$4)),"Su","Mo","Tu","We","Th","Fr","Sa")) -> Fr | E5: =IF(E$4="","",CHOOSE(WEEKDAY(DATE(Setup!$B$8,10,E$4)),"Su","Mo","Tu","We","Th","Fr","Sa")) -> Sa | F5: =IF(F$4="","",CHOOSE(WEEKDAY(DATE(Setup!$B$8,10,F$4)),"Su","Mo","Tu","We","Th","Fr","Sa")) -> Su | G5: =IF(G$4="","",CHOOSE(WEEKDAY(DATE(Setup!$B$8,10,G$4)),"Su","Mo","Tu","We","Th","Fr","Sa")) -> Mo | H5: =IF(H$4="","",CHOOSE(WEEKDAY(DATE(Setup!$B$8,10,H$4)),"Su","Mo","Tu","We","Th","Fr","Sa")) -> Tu | I5: =IF(I$4="","",CHOOSE(WEEKDAY(DATE(Setup!$B$8,10,I$4)),"Su","Mo","Tu","We","Th","Fr","Sa")) -> We | J5: =IF(J$4="","",CHOOSE(WEEKDAY(DATE(Setup!$B$8,10,J$4)),"Su","Mo","Tu","We","Th","Fr","Sa")) -> Th | ... AG5: =IF(AG$4="","",CHOOSE(WEEKDAY(DATE(Setup!$B$8,10,AG$4)),"Su","Mo","Tu","We","Th","Fr","Sa")) -> Sa
A6: =IF(Setup!B19="","",Setup!A19) -> 1 | B6: =IF(Setup!B19="","",Setup!B19) -> Aarav Sharma | AH6: =IF($B6="","",COUNTIF(C6:AG6,"P")) -> 0 | AI6: =IF($B6="","",COUNTIF(C6:AG6,"A")) -> 0 | AJ6: =IF($B6="","",COUNTIF(C6:AG6,"L")) -> 0 | AK6: =IF($B6="","",AH6+AI6+AJ6) -> 0 | AL6: =IF(N(AK6)=0,"",AH6/AK6)
A7: =IF(Setup!B20="","",Setup!A20) -> 2 | B7: =IF(Setup!B20="","",Setup!B20) -> Ananya Iyer | AH7: =IF($B7="","",COUNTIF(C7:AG7,"P")) -> 0 | AI7: =IF($B7="","",COUNTIF(C7:AG7,"A")) -> 0 | AJ7: =IF($B7="","",COUNTIF(C7:AG7,"L")) -> 0 | AK7: =IF($B7="","",AH7+AI7+AJ7) -> 0 | AL7: =IF(N(AK7)=0,"",AH7/AK7)
A8: =IF(Setup!B21="","",Setup!A21) -> 3 | B8: =IF(Setup!B21="","",Setup!B21) -> Diya Menon | AH8: =IF($B8="","",COUNTIF(C8:AG8,"P")) -> 0 | AI8: =IF($B8="","",COUNTIF(C8:AG8,"A")) -> 0 | AJ8: =IF($B8="","",COUNTIF(C8:AG8,"L")) -> 0 | AK8: =IF($B8="","",AH8+AI8+AJ8) -> 0 | AL8: =IF(N(AK8)=0,"",AH8/AK8)
A9: =IF(Setup!B22="","",Setup!A22) -> 4 | B9: =IF(Setup!B22="","",Setup!B22) -> Ishaan Patel | AH9: =IF($B9="","",COUNTIF(C9:AG9,"P")) -> 0 | AI9: =IF($B9="","",COUNTIF(C9:AG9,"A")) -> 0 | AJ9: =IF($B9="","",COUNTIF(C9:AG9,"L")) -> 0 | AK9: =IF($B9="","",AH9+AI9+AJ9) -> 0 | AL9: =IF(N(AK9)=0,"",AH9/AK9)
A10: =IF(Setup!B23="","",Setup!A23) -> 5 | B10: =IF(Setup!B23="","",Setup!B23) -> Meera Reddy | AH10: =IF($B10="","",COUNTIF(C10:AG10,"P")) -> 0 | AI10: =IF($B10="","",COUNTIF(C10:AG10,"A")) -> 0 | AJ10: =IF($B10="","",COUNTIF(C10:AG10,"L")) -> 0 | AK10: =IF($B10="","",AH10+AI10+AJ10) -> 0 | AL10: =IF(N(AK10)=0,"",AH10/AK10)
A11: =IF(Setup!B24="","",Setup!A24) -> 6 | B11: =IF(Setup!B24="","",Setup!B24) -> Rohan Das | AH11: =IF($B11="","",COUNTIF(C11:AG11,"P")) -> 0 | AI11: =IF($B11="","",COUNTIF(C11:AG11,"A")) -> 0 | AJ11: =IF($B11="","",COUNTIF(C11:AG11,"L")) -> 0 | AK11: =IF($B11="","",AH11+AI11+AJ11) -> 0 | AL11: =IF(N(AK11)=0,"",AH11/AK11)
A12: =IF(Setup!B25="","",Setup!A25) -> 7 | B12: =IF(Setup!B25="","",Setup!B25) -> Sara Khan | AH12: =IF($B12="","",COUNTIF(C12:AG12,"P")) -> 0 | AI12: =IF($B12="","",COUNTIF(C12:AG12,"A")) -> 0 | AJ12: =IF($B12="","",COUNTIF(C12:AG12,"L")) -> 0 | AK12: =IF($B12="","",AH12+AI12+AJ12) -> 0 | AL12: =IF(N(AK12)=0,"",AH12/AK12)
A13: =IF(Setup!B26="","",Setup!A26) -> 8 | B13: =IF(Setup!B26="","",Setup!B26) -> Vihaan Gupta | AH13: =IF($B13="","",COUNTIF(C13:AG13,"P")) -> 0 | AI13: =IF($B13="","",COUNTIF(C13:AG13,"A")) -> 0 | AJ13: =IF($B13="","",COUNTIF(C13:AG13,"L")) -> 0 | AK13: =IF($B13="","",AH13+AI13+AJ13) -> 0 | AL13: =IF(N(AK13)=0,"",AH13/AK13)
A14: =IF(Setup!B27="","",Setup!A27) | B14: =IF(Setup!B27="","",Setup!B27) | AH14: =IF($B14="","",COUNTIF(C14:AG14,"P")) | AI14: =IF($B14="","",COUNTIF(C14:AG14,"A")) | AJ14: =IF($B14="","",COUNTIF(C14:AG14,"L")) | AK14: =IF($B14="","",AH14+AI14+AJ14) | AL14: =IF(N(AK14)=0,"",AH14/AK14)
A15: =IF(Setup!B28="","",Setup!A28) | B15: =IF(Setup!B28="","",Setup!B28) | AH15: =IF($B15="","",COUNTIF(C15:AG15,"P")) | AI15: =IF($B15="","",COUNTIF(C15:AG15,"A")) | AJ15: =IF($B15="","",COUNTIF(C15:AG15,"L")) | AK15: =IF($B15="","",AH15+AI15+AJ15) | AL15: =IF(N(AK15)=0,"",AH15/AK15)
A16: =IF(Setup!B29="","",Setup!A29) | B16: =IF(Setup!B29="","",Setup!B29) | AH16: =IF($B16="","",COUNTIF(C16:AG16,"P")) | AI16: =IF($B16="","",COUNTIF(C16:AG16,"A")) | AJ16: =IF($B16="","",COUNTIF(C16:AG16,"L")) | AK16: =IF($B16="","",AH16+AI16+AJ16) | AL16: =IF(N(AK16)=0,"",AH16/AK16)
A17: =IF(Setup!B30="","",Setup!A30) | B17: =IF(Setup!B30="","",Setup!B30) | AH17: =IF($B17="","",COUNTIF(C17:AG17,"P")) | AI17: =IF($B17="","",COUNTIF(C17:AG17,"A")) | AJ17: =IF($B17="","",COUNTIF(C17:AG17,"L")) | AK17: =IF($B17="","",AH17+AI17+AJ17) | AL17: =IF(N(AK17)=0,"",AH17/AK17)
... A55: =IF(Setup!B68="","",Setup!A68) | B55: =IF(Setup!B68="","",Setup!B68) | AH55: =IF($B55="","",COUNTIF(C55:AG55,"P")) | AI55: =IF($B55="","",COUNTIF(C55:AG55,"A")) | AJ55: =IF($B55="","",COUNTIF(C55:AG55,"L")) | AK55: =IF($B55="","",AH55+AI55+AJ55) | AL55: =IF(N(AK55)=0,"",AH55/AK55)
A56: Present that day | C56: =IF(C$4="","",COUNTIF(C6:C55,"P")) -> 0 | D56: =IF(D$4="","",COUNTIF(D6:D55,"P")) -> 0 | E56: =IF(E$4="","",COUNTIF(E6:E55,"P")) -> 0 | F56: =IF(F$4="","",COUNTIF(F6:F55,"P")) -> 0 | G56: =IF(G$4="","",COUNTIF(G6:G55,"P")) -> 0 | H56: =IF(H$4="","",COUNTIF(H6:H55,"P")) -> 0 | I56: =IF(I$4="","",COUNTIF(I6:I55,"P")) -> 0 | J56: =IF(J$4="","",COUNTIF(J6:J55,"P")) -> 0 | ... AG56: =IF(AG$4="","",COUNTIF(AG6:AG55,"P")) -> 0
A57: Absent or on leave | C57: =IF(C$4="","",COUNTIF(C6:C55,"A")+COUNTIF(C6:C55,"L")) -> 0 | D57: =IF(D$4="","",COUNTIF(D6:D55,"A")+COUNTIF(D6:D55,"L")) -> 0 | E57: =IF(E$4="","",COUNTIF(E6:E55,"A")+COUNTIF(E6:E55,"L")) -> 0 | F57: =IF(F$4="","",COUNTIF(F6:F55,"A")+COUNTIF(F6:F55,"L")) -> 0 | G57: =IF(G$4="","",COUNTIF(G6:G55,"A")+COUNTIF(G6:G55,"L")) -> 0 | H57: =IF(H$4="","",COUNTIF(H6:H55,"A")+COUNTIF(H6:H55,"L")) -> 0 | I57: =IF(I$4="","",COUNTIF(I6:I55,"A")+COUNTIF(I6:I55,"L")) -> 0 | J57: =IF(J$4="","",COUNTIF(J6:J55,"A")+COUNTIF(J6:J55,"L")) -> 0 | ... AG57: =IF(AG$4="","",COUNTIF(AG6:AG55,"A")+COUNTIF(AG6:AG55,"L")) -> 0
A59: Free template from proems.in

Sheet Nov
A1: =Setup!$B$4 -> Demo Public School
A2: ="Class "&Setup!$B$5&" "&Setup!$B$6&" · November "&Setup!$B$8&" · Class teacher: "&Setup!$B$7 -> Class VII A · November 2026 · Class teacher: Ms. R. Iyer | AK2: Minimum | AL2: =Setup!$B$9 -> 0.75
A4: Roll | B4: Student name | C4: =IF(1<=DAY(DATE(Setup!$B$8,11+1,0)),1,"") -> 1 | D4: =IF(2<=DAY(DATE(Setup!$B$8,11+1,0)),2,"") -> 2 | E4: =IF(3<=DAY(DATE(Setup!$B$8,11+1,0)),3,"") -> 3 | F4: =IF(4<=DAY(DATE(Setup!$B$8,11+1,0)),4,"") -> 4 | G4: =IF(5<=DAY(DATE(Setup!$B$8,11+1,0)),5,"") -> 5 | H4: =IF(6<=DAY(DATE(Setup!$B$8,11+1,0)),6,"") -> 6 | I4: =IF(7<=DAY(DATE(Setup!$B$8,11+1,0)),7,"") -> 7 | J4: =IF(8<=DAY(DATE(Setup!$B$8,11+1,0)),8,"") -> 8 | K4: =IF(9<=DAY(DATE(Setup!$B$8,11+1,0)),9,"") -> 9 | L4: =IF(10<=DAY(DATE(Setup!$B$8,11+1,0)),10,"") -> 10 | M4: =IF(11<=DAY(DATE(Setup!$B$8,11+1,0)),11,"") -> 11 | N4: =IF(12<=DAY(DATE(Setup!$B$8,11+1,0)),12,"") -> 12 | O4: =IF(13<=DAY(DATE(Setup!$B$8,11+1,0)),13,"") -> 13 | P4: =IF(14<=DAY(DATE(Setup!$B$8,11+1,0)),14,"") -> 14 | Q4: =IF(15<=DAY(DATE(Setup!$B$8,11+1,0)),15,"") -> 15 | R4: =IF(16<=DAY(DATE(Setup!$B$8,11+1,0)),16,"") -> 16 | S4: =IF(17<=DAY(DATE(Setup!$B$8,11+1,0)),17,"") -> 17 | T4: =IF(18<=DAY(DATE(Setup!$B$8,11+1,0)),18,"") -> 18 | U4: =IF(19<=DAY(DATE(Setup!$B$8,11+1,0)),19,"") -> 19 | V4: =IF(20<=DAY(DATE(Setup!$B$8,11+1,0)),20,"") -> 20 | W4: =IF(21<=DAY(DATE(Setup!$B$8,11+1,0)),21,"") -> 21 | X4: =IF(22<=DAY(DATE(Setup!$B$8,11+1,0)),22,"") -> 22 | Y4: =IF(23<=DAY(DATE(Setup!$B$8,11+1,0)),23,"") -> 23 | Z4: =IF(24<=DAY(DATE(Setup!$B$8,11+1,0)),24,"") -> 24 | AA4: =IF(25<=DAY(DATE(Setup!$B$8,11+1,0)),25,"") -> 25 | AB4: =IF(26<=DAY(DATE(Setup!$B$8,11+1,0)),26,"") -> 26 | AC4: =IF(27<=DAY(DATE(Setup!$B$8,11+1,0)),27,"") -> 27 | AD4: =IF(28<=DAY(DATE(Setup!$B$8,11+1,0)),28,"") -> 28 | AE4: =IF(29<=DAY(DATE(Setup!$B$8,11+1,0)),29,"") -> 29 | AF4: =IF(30<=DAY(DATE(Setup!$B$8,11+1,0)),30,"") -> 30 | AG4: =IF(31<=DAY(DATE(Setup!$B$8,11+1,0)),31,"") | AH4: P | AI4: A | AJ4: L | AK4: Days | AL4: %
C5: =IF(C$4="","",CHOOSE(WEEKDAY(DATE(Setup!$B$8,11,C$4)),"Su","Mo","Tu","We","Th","Fr","Sa")) -> Su | D5: =IF(D$4="","",CHOOSE(WEEKDAY(DATE(Setup!$B$8,11,D$4)),"Su","Mo","Tu","We","Th","Fr","Sa")) -> Mo | E5: =IF(E$4="","",CHOOSE(WEEKDAY(DATE(Setup!$B$8,11,E$4)),"Su","Mo","Tu","We","Th","Fr","Sa")) -> Tu | F5: =IF(F$4="","",CHOOSE(WEEKDAY(DATE(Setup!$B$8,11,F$4)),"Su","Mo","Tu","We","Th","Fr","Sa")) -> We | G5: =IF(G$4="","",CHOOSE(WEEKDAY(DATE(Setup!$B$8,11,G$4)),"Su","Mo","Tu","We","Th","Fr","Sa")) -> Th | H5: =IF(H$4="","",CHOOSE(WEEKDAY(DATE(Setup!$B$8,11,H$4)),"Su","Mo","Tu","We","Th","Fr","Sa")) -> Fr | I5: =IF(I$4="","",CHOOSE(WEEKDAY(DATE(Setup!$B$8,11,I$4)),"Su","Mo","Tu","We","Th","Fr","Sa")) -> Sa | J5: =IF(J$4="","",CHOOSE(WEEKDAY(DATE(Setup!$B$8,11,J$4)),"Su","Mo","Tu","We","Th","Fr","Sa")) -> Su | ... AG5: =IF(AG$4="","",CHOOSE(WEEKDAY(DATE(Setup!$B$8,11,AG$4)),"Su","Mo","Tu","We","Th","Fr","Sa"))
A6: =IF(Setup!B19="","",Setup!A19) -> 1 | B6: =IF(Setup!B19="","",Setup!B19) -> Aarav Sharma | AH6: =IF($B6="","",COUNTIF(C6:AG6,"P")) -> 0 | AI6: =IF($B6="","",COUNTIF(C6:AG6,"A")) -> 0 | AJ6: =IF($B6="","",COUNTIF(C6:AG6,"L")) -> 0 | AK6: =IF($B6="","",AH6+AI6+AJ6) -> 0 | AL6: =IF(N(AK6)=0,"",AH6/AK6)
A7: =IF(Setup!B20="","",Setup!A20) -> 2 | B7: =IF(Setup!B20="","",Setup!B20) -> Ananya Iyer | AH7: =IF($B7="","",COUNTIF(C7:AG7,"P")) -> 0 | AI7: =IF($B7="","",COUNTIF(C7:AG7,"A")) -> 0 | AJ7: =IF($B7="","",COUNTIF(C7:AG7,"L")) -> 0 | AK7: =IF($B7="","",AH7+AI7+AJ7) -> 0 | AL7: =IF(N(AK7)=0,"",AH7/AK7)
A8: =IF(Setup!B21="","",Setup!A21) -> 3 | B8: =IF(Setup!B21="","",Setup!B21) -> Diya Menon | AH8: =IF($B8="","",COUNTIF(C8:AG8,"P")) -> 0 | AI8: =IF($B8="","",COUNTIF(C8:AG8,"A")) -> 0 | AJ8: =IF($B8="","",COUNTIF(C8:AG8,"L")) -> 0 | AK8: =IF($B8="","",AH8+AI8+AJ8) -> 0 | AL8: =IF(N(AK8)=0,"",AH8/AK8)
A9: =IF(Setup!B22="","",Setup!A22) -> 4 | B9: =IF(Setup!B22="","",Setup!B22) -> Ishaan Patel | AH9: =IF($B9="","",COUNTIF(C9:AG9,"P")) -> 0 | AI9: =IF($B9="","",COUNTIF(C9:AG9,"A")) -> 0 | AJ9: =IF($B9="","",COUNTIF(C9:AG9,"L")) -> 0 | AK9: =IF($B9="","",AH9+AI9+AJ9) -> 0 | AL9: =IF(N(AK9)=0,"",AH9/AK9)
A10: =IF(Setup!B23="","",Setup!A23) -> 5 | B10: =IF(Setup!B23="","",Setup!B23) -> Meera Reddy | AH10: =IF($B10="","",COUNTIF(C10:AG10,"P")) -> 0 | AI10: =IF($B10="","",COUNTIF(C10:AG10,"A")) -> 0 | AJ10: =IF($B10="","",COUNTIF(C10:AG10,"L")) -> 0 | AK10: =IF($B10="","",AH10+AI10+AJ10) -> 0 | AL10: =IF(N(AK10)=0,"",AH10/AK10)
A11: =IF(Setup!B24="","",Setup!A24) -> 6 | B11: =IF(Setup!B24="","",Setup!B24) -> Rohan Das | AH11: =IF($B11="","",COUNTIF(C11:AG11,"P")) -> 0 | AI11: =IF($B11="","",COUNTIF(C11:AG11,"A")) -> 0 | AJ11: =IF($B11="","",COUNTIF(C11:AG11,"L")) -> 0 | AK11: =IF($B11="","",AH11+AI11+AJ11) -> 0 | AL11: =IF(N(AK11)=0,"",AH11/AK11)
A12: =IF(Setup!B25="","",Setup!A25) -> 7 | B12: =IF(Setup!B25="","",Setup!B25) -> Sara Khan | AH12: =IF($B12="","",COUNTIF(C12:AG12,"P")) -> 0 | AI12: =IF($B12="","",COUNTIF(C12:AG12,"A")) -> 0 | AJ12: =IF($B12="","",COUNTIF(C12:AG12,"L")) -> 0 | AK12: =IF($B12="","",AH12+AI12+AJ12) -> 0 | AL12: =IF(N(AK12)=0,"",AH12/AK12)
A13: =IF(Setup!B26="","",Setup!A26) -> 8 | B13: =IF(Setup!B26="","",Setup!B26) -> Vihaan Gupta | AH13: =IF($B13="","",COUNTIF(C13:AG13,"P")) -> 0 | AI13: =IF($B13="","",COUNTIF(C13:AG13,"A")) -> 0 | AJ13: =IF($B13="","",COUNTIF(C13:AG13,"L")) -> 0 | AK13: =IF($B13="","",AH13+AI13+AJ13) -> 0 | AL13: =IF(N(AK13)=0,"",AH13/AK13)
A14: =IF(Setup!B27="","",Setup!A27) | B14: =IF(Setup!B27="","",Setup!B27) | AH14: =IF($B14="","",COUNTIF(C14:AG14,"P")) | AI14: =IF($B14="","",COUNTIF(C14:AG14,"A")) | AJ14: =IF($B14="","",COUNTIF(C14:AG14,"L")) | AK14: =IF($B14="","",AH14+AI14+AJ14) | AL14: =IF(N(AK14)=0,"",AH14/AK14)
A15: =IF(Setup!B28="","",Setup!A28) | B15: =IF(Setup!B28="","",Setup!B28) | AH15: =IF($B15="","",COUNTIF(C15:AG15,"P")) | AI15: =IF($B15="","",COUNTIF(C15:AG15,"A")) | AJ15: =IF($B15="","",COUNTIF(C15:AG15,"L")) | AK15: =IF($B15="","",AH15+AI15+AJ15) | AL15: =IF(N(AK15)=0,"",AH15/AK15)
A16: =IF(Setup!B29="","",Setup!A29) | B16: =IF(Setup!B29="","",Setup!B29) | AH16: =IF($B16="","",COUNTIF(C16:AG16,"P")) | AI16: =IF($B16="","",COUNTIF(C16:AG16,"A")) | AJ16: =IF($B16="","",COUNTIF(C16:AG16,"L")) | AK16: =IF($B16="","",AH16+AI16+AJ16) | AL16: =IF(N(AK16)=0,"",AH16/AK16)
A17: =IF(Setup!B30="","",Setup!A30) | B17: =IF(Setup!B30="","",Setup!B30) | AH17: =IF($B17="","",COUNTIF(C17:AG17,"P")) | AI17: =IF($B17="","",COUNTIF(C17:AG17,"A")) | AJ17: =IF($B17="","",COUNTIF(C17:AG17,"L")) | AK17: =IF($B17="","",AH17+AI17+AJ17) | AL17: =IF(N(AK17)=0,"",AH17/AK17)
... A55: =IF(Setup!B68="","",Setup!A68) | B55: =IF(Setup!B68="","",Setup!B68) | AH55: =IF($B55="","",COUNTIF(C55:AG55,"P")) | AI55: =IF($B55="","",COUNTIF(C55:AG55,"A")) | AJ55: =IF($B55="","",COUNTIF(C55:AG55,"L")) | AK55: =IF($B55="","",AH55+AI55+AJ55) | AL55: =IF(N(AK55)=0,"",AH55/AK55)
A56: Present that day | C56: =IF(C$4="","",COUNTIF(C6:C55,"P")) -> 0 | D56: =IF(D$4="","",COUNTIF(D6:D55,"P")) -> 0 | E56: =IF(E$4="","",COUNTIF(E6:E55,"P")) -> 0 | F56: =IF(F$4="","",COUNTIF(F6:F55,"P")) -> 0 | G56: =IF(G$4="","",COUNTIF(G6:G55,"P")) -> 0 | H56: =IF(H$4="","",COUNTIF(H6:H55,"P")) -> 0 | I56: =IF(I$4="","",COUNTIF(I6:I55,"P")) -> 0 | J56: =IF(J$4="","",COUNTIF(J6:J55,"P")) -> 0 | ... AG56: =IF(AG$4="","",COUNTIF(AG6:AG55,"P"))
A57: Absent or on leave | C57: =IF(C$4="","",COUNTIF(C6:C55,"A")+COUNTIF(C6:C55,"L")) -> 0 | D57: =IF(D$4="","",COUNTIF(D6:D55,"A")+COUNTIF(D6:D55,"L")) -> 0 | E57: =IF(E$4="","",COUNTIF(E6:E55,"A")+COUNTIF(E6:E55,"L")) -> 0 | F57: =IF(F$4="","",COUNTIF(F6:F55,"A")+COUNTIF(F6:F55,"L")) -> 0 | G57: =IF(G$4="","",COUNTIF(G6:G55,"A")+COUNTIF(G6:G55,"L")) -> 0 | H57: =IF(H$4="","",COUNTIF(H6:H55,"A")+COUNTIF(H6:H55,"L")) -> 0 | I57: =IF(I$4="","",COUNTIF(I6:I55,"A")+COUNTIF(I6:I55,"L")) -> 0 | J57: =IF(J$4="","",COUNTIF(J6:J55,"A")+COUNTIF(J6:J55,"L")) -> 0 | ... AG57: =IF(AG$4="","",COUNTIF(AG6:AG55,"A")+COUNTIF(AG6:AG55,"L"))
A59: Free template from proems.in

Sheet Dec
A1: =Setup!$B$4 -> Demo Public School
A2: ="Class "&Setup!$B$5&" "&Setup!$B$6&" · December "&Setup!$B$8&" · Class teacher: "&Setup!$B$7 -> Class VII A · December 2026 · Class teacher: Ms. R. Iyer | AK2: Minimum | AL2: =Setup!$B$9 -> 0.75
A4: Roll | B4: Student name | C4: =IF(1<=DAY(DATE(Setup!$B$8,12+1,0)),1,"") -> 1 | D4: =IF(2<=DAY(DATE(Setup!$B$8,12+1,0)),2,"") -> 2 | E4: =IF(3<=DAY(DATE(Setup!$B$8,12+1,0)),3,"") -> 3 | F4: =IF(4<=DAY(DATE(Setup!$B$8,12+1,0)),4,"") -> 4 | G4: =IF(5<=DAY(DATE(Setup!$B$8,12+1,0)),5,"") -> 5 | H4: =IF(6<=DAY(DATE(Setup!$B$8,12+1,0)),6,"") -> 6 | I4: =IF(7<=DAY(DATE(Setup!$B$8,12+1,0)),7,"") -> 7 | J4: =IF(8<=DAY(DATE(Setup!$B$8,12+1,0)),8,"") -> 8 | K4: =IF(9<=DAY(DATE(Setup!$B$8,12+1,0)),9,"") -> 9 | L4: =IF(10<=DAY(DATE(Setup!$B$8,12+1,0)),10,"") -> 10 | M4: =IF(11<=DAY(DATE(Setup!$B$8,12+1,0)),11,"") -> 11 | N4: =IF(12<=DAY(DATE(Setup!$B$8,12+1,0)),12,"") -> 12 | O4: =IF(13<=DAY(DATE(Setup!$B$8,12+1,0)),13,"") -> 13 | P4: =IF(14<=DAY(DATE(Setup!$B$8,12+1,0)),14,"") -> 14 | Q4: =IF(15<=DAY(DATE(Setup!$B$8,12+1,0)),15,"") -> 15 | R4: =IF(16<=DAY(DATE(Setup!$B$8,12+1,0)),16,"") -> 16 | S4: =IF(17<=DAY(DATE(Setup!$B$8,12+1,0)),17,"") -> 17 | T4: =IF(18<=DAY(DATE(Setup!$B$8,12+1,0)),18,"") -> 18 | U4: =IF(19<=DAY(DATE(Setup!$B$8,12+1,0)),19,"") -> 19 | V4: =IF(20<=DAY(DATE(Setup!$B$8,12+1,0)),20,"") -> 20 | W4: =IF(21<=DAY(DATE(Setup!$B$8,12+1,0)),21,"") -> 21 | X4: =IF(22<=DAY(DATE(Setup!$B$8,12+1,0)),22,"") -> 22 | Y4: =IF(23<=DAY(DATE(Setup!$B$8,12+1,0)),23,"") -> 23 | Z4: =IF(24<=DAY(DATE(Setup!$B$8,12+1,0)),24,"") -> 24 | AA4: =IF(25<=DAY(DATE(Setup!$B$8,12+1,0)),25,"") -> 25 | AB4: =IF(26<=DAY(DATE(Setup!$B$8,12+1,0)),26,"") -> 26 | AC4: =IF(27<=DAY(DATE(Setup!$B$8,12+1,0)),27,"") -> 27 | AD4: =IF(28<=DAY(DATE(Setup!$B$8,12+1,0)),28,"") -> 28 | AE4: =IF(29<=DAY(DATE(Setup!$B$8,12+1,0)),29,"") -> 29 | AF4: =IF(30<=DAY(DATE(Setup!$B$8,12+1,0)),30,"") -> 30 | AG4: =IF(31<=DAY(DATE(Setup!$B$8,12+1,0)),31,"") -> 31 | AH4: P | AI4: A | AJ4: L | AK4: Days | AL4: %
C5: =IF(C$4="","",CHOOSE(WEEKDAY(DATE(Setup!$B$8,12,C$4)),"Su","Mo","Tu","We","Th","Fr","Sa")) -> Tu | D5: =IF(D$4="","",CHOOSE(WEEKDAY(DATE(Setup!$B$8,12,D$4)),"Su","Mo","Tu","We","Th","Fr","Sa")) -> We | E5: =IF(E$4="","",CHOOSE(WEEKDAY(DATE(Setup!$B$8,12,E$4)),"Su","Mo","Tu","We","Th","Fr","Sa")) -> Th | F5: =IF(F$4="","",CHOOSE(WEEKDAY(DATE(Setup!$B$8,12,F$4)),"Su","Mo","Tu","We","Th","Fr","Sa")) -> Fr | G5: =IF(G$4="","",CHOOSE(WEEKDAY(DATE(Setup!$B$8,12,G$4)),"Su","Mo","Tu","We","Th","Fr","Sa")) -> Sa | H5: =IF(H$4="","",CHOOSE(WEEKDAY(DATE(Setup!$B$8,12,H$4)),"Su","Mo","Tu","We","Th","Fr","Sa")) -> Su | I5: =IF(I$4="","",CHOOSE(WEEKDAY(DATE(Setup!$B$8,12,I$4)),"Su","Mo","Tu","We","Th","Fr","Sa")) -> Mo | J5: =IF(J$4="","",CHOOSE(WEEKDAY(DATE(Setup!$B$8,12,J$4)),"Su","Mo","Tu","We","Th","Fr","Sa")) -> Tu | ... AG5: =IF(AG$4="","",CHOOSE(WEEKDAY(DATE(Setup!$B$8,12,AG$4)),"Su","Mo","Tu","We","Th","Fr","Sa")) -> Th
A6: =IF(Setup!B19="","",Setup!A19) -> 1 | B6: =IF(Setup!B19="","",Setup!B19) -> Aarav Sharma | AH6: =IF($B6="","",COUNTIF(C6:AG6,"P")) -> 0 | AI6: =IF($B6="","",COUNTIF(C6:AG6,"A")) -> 0 | AJ6: =IF($B6="","",COUNTIF(C6:AG6,"L")) -> 0 | AK6: =IF($B6="","",AH6+AI6+AJ6) -> 0 | AL6: =IF(N(AK6)=0,"",AH6/AK6)
A7: =IF(Setup!B20="","",Setup!A20) -> 2 | B7: =IF(Setup!B20="","",Setup!B20) -> Ananya Iyer | AH7: =IF($B7="","",COUNTIF(C7:AG7,"P")) -> 0 | AI7: =IF($B7="","",COUNTIF(C7:AG7,"A")) -> 0 | AJ7: =IF($B7="","",COUNTIF(C7:AG7,"L")) -> 0 | AK7: =IF($B7="","",AH7+AI7+AJ7) -> 0 | AL7: =IF(N(AK7)=0,"",AH7/AK7)
A8: =IF(Setup!B21="","",Setup!A21) -> 3 | B8: =IF(Setup!B21="","",Setup!B21) -> Diya Menon | AH8: =IF($B8="","",COUNTIF(C8:AG8,"P")) -> 0 | AI8: =IF($B8="","",COUNTIF(C8:AG8,"A")) -> 0 | AJ8: =IF($B8="","",COUNTIF(C8:AG8,"L")) -> 0 | AK8: =IF($B8="","",AH8+AI8+AJ8) -> 0 | AL8: =IF(N(AK8)=0,"",AH8/AK8)
A9: =IF(Setup!B22="","",Setup!A22) -> 4 | B9: =IF(Setup!B22="","",Setup!B22) -> Ishaan Patel | AH9: =IF($B9="","",COUNTIF(C9:AG9,"P")) -> 0 | AI9: =IF($B9="","",COUNTIF(C9:AG9,"A")) -> 0 | AJ9: =IF($B9="","",COUNTIF(C9:AG9,"L")) -> 0 | AK9: =IF($B9="","",AH9+AI9+AJ9) -> 0 | AL9: =IF(N(AK9)=0,"",AH9/AK9)
A10: =IF(Setup!B23="","",Setup!A23) -> 5 | B10: =IF(Setup!B23="","",Setup!B23) -> Meera Reddy | AH10: =IF($B10="","",COUNTIF(C10:AG10,"P")) -> 0 | AI10: =IF($B10="","",COUNTIF(C10:AG10,"A")) -> 0 | AJ10: =IF($B10="","",COUNTIF(C10:AG10,"L")) -> 0 | AK10: =IF($B10="","",AH10+AI10+AJ10) -> 0 | AL10: =IF(N(AK10)=0,"",AH10/AK10)
A11: =IF(Setup!B24="","",Setup!A24) -> 6 | B11: =IF(Setup!B24="","",Setup!B24) -> Rohan Das | AH11: =IF($B11="","",COUNTIF(C11:AG11,"P")) -> 0 | AI11: =IF($B11="","",COUNTIF(C11:AG11,"A")) -> 0 | AJ11: =IF($B11="","",COUNTIF(C11:AG11,"L")) -> 0 | AK11: =IF($B11="","",AH11+AI11+AJ11) -> 0 | AL11: =IF(N(AK11)=0,"",AH11/AK11)
A12: =IF(Setup!B25="","",Setup!A25) -> 7 | B12: =IF(Setup!B25="","",Setup!B25) -> Sara Khan | AH12: =IF($B12="","",COUNTIF(C12:AG12,"P")) -> 0 | AI12: =IF($B12="","",COUNTIF(C12:AG12,"A")) -> 0 | AJ12: =IF($B12="","",COUNTIF(C12:AG12,"L")) -> 0 | AK12: =IF($B12="","",AH12+AI12+AJ12) -> 0 | AL12: =IF(N(AK12)=0,"",AH12/AK12)
A13: =IF(Setup!B26="","",Setup!A26) -> 8 | B13: =IF(Setup!B26="","",Setup!B26) -> Vihaan Gupta | AH13: =IF($B13="","",COUNTIF(C13:AG13,"P")) -> 0 | AI13: =IF($B13="","",COUNTIF(C13:AG13,"A")) -> 0 | AJ13: =IF($B13="","",COUNTIF(C13:AG13,"L")) -> 0 | AK13: =IF($B13="","",AH13+AI13+AJ13) -> 0 | AL13: =IF(N(AK13)=0,"",AH13/AK13)
A14: =IF(Setup!B27="","",Setup!A27) | B14: =IF(Setup!B27="","",Setup!B27) | AH14: =IF($B14="","",COUNTIF(C14:AG14,"P")) | AI14: =IF($B14="","",COUNTIF(C14:AG14,"A")) | AJ14: =IF($B14="","",COUNTIF(C14:AG14,"L")) | AK14: =IF($B14="","",AH14+AI14+AJ14) | AL14: =IF(N(AK14)=0,"",AH14/AK14)
A15: =IF(Setup!B28="","",Setup!A28) | B15: =IF(Setup!B28="","",Setup!B28) | AH15: =IF($B15="","",COUNTIF(C15:AG15,"P")) | AI15: =IF($B15="","",COUNTIF(C15:AG15,"A")) | AJ15: =IF($B15="","",COUNTIF(C15:AG15,"L")) | AK15: =IF($B15="","",AH15+AI15+AJ15) | AL15: =IF(N(AK15)=0,"",AH15/AK15)
A16: =IF(Setup!B29="","",Setup!A29) | B16: =IF(Setup!B29="","",Setup!B29) | AH16: =IF($B16="","",COUNTIF(C16:AG16,"P")) | AI16: =IF($B16="","",COUNTIF(C16:AG16,"A")) | AJ16: =IF($B16="","",COUNTIF(C16:AG16,"L")) | AK16: =IF($B16="","",AH16+AI16+AJ16) | AL16: =IF(N(AK16)=0,"",AH16/AK16)
A17: =IF(Setup!B30="","",Setup!A30) | B17: =IF(Setup!B30="","",Setup!B30) | AH17: =IF($B17="","",COUNTIF(C17:AG17,"P")) | AI17: =IF($B17="","",COUNTIF(C17:AG17,"A")) | AJ17: =IF($B17="","",COUNTIF(C17:AG17,"L")) | AK17: =IF($B17="","",AH17+AI17+AJ17) | AL17: =IF(N(AK17)=0,"",AH17/AK17)
... A55: =IF(Setup!B68="","",Setup!A68) | B55: =IF(Setup!B68="","",Setup!B68) | AH55: =IF($B55="","",COUNTIF(C55:AG55,"P")) | AI55: =IF($B55="","",COUNTIF(C55:AG55,"A")) | AJ55: =IF($B55="","",COUNTIF(C55:AG55,"L")) | AK55: =IF($B55="","",AH55+AI55+AJ55) | AL55: =IF(N(AK55)=0,"",AH55/AK55)
A56: Present that day | C56: =IF(C$4="","",COUNTIF(C6:C55,"P")) -> 0 | D56: =IF(D$4="","",COUNTIF(D6:D55,"P")) -> 0 | E56: =IF(E$4="","",COUNTIF(E6:E55,"P")) -> 0 | F56: =IF(F$4="","",COUNTIF(F6:F55,"P")) -> 0 | G56: =IF(G$4="","",COUNTIF(G6:G55,"P")) -> 0 | H56: =IF(H$4="","",COUNTIF(H6:H55,"P")) -> 0 | I56: =IF(I$4="","",COUNTIF(I6:I55,"P")) -> 0 | J56: =IF(J$4="","",COUNTIF(J6:J55,"P")) -> 0 | ... AG56: =IF(AG$4="","",COUNTIF(AG6:AG55,"P")) -> 0
A57: Absent or on leave | C57: =IF(C$4="","",COUNTIF(C6:C55,"A")+COUNTIF(C6:C55,"L")) -> 0 | D57: =IF(D$4="","",COUNTIF(D6:D55,"A")+COUNTIF(D6:D55,"L")) -> 0 | E57: =IF(E$4="","",COUNTIF(E6:E55,"A")+COUNTIF(E6:E55,"L")) -> 0 | F57: =IF(F$4="","",COUNTIF(F6:F55,"A")+COUNTIF(F6:F55,"L")) -> 0 | G57: =IF(G$4="","",COUNTIF(G6:G55,"A")+COUNTIF(G6:G55,"L")) -> 0 | H57: =IF(H$4="","",COUNTIF(H6:H55,"A")+COUNTIF(H6:H55,"L")) -> 0 | I57: =IF(I$4="","",COUNTIF(I6:I55,"A")+COUNTIF(I6:I55,"L")) -> 0 | J57: =IF(J$4="","",COUNTIF(J6:J55,"A")+COUNTIF(J6:J55,"L")) -> 0 | ... AG57: =IF(AG$4="","",COUNTIF(AG6:AG55,"A")+COUNTIF(AG6:AG55,"L")) -> 0
A59: Free template from proems.in

Sheet Jan
A1: =Setup!$B$4 -> Demo Public School
A2: ="Class "&Setup!$B$5&" "&Setup!$B$6&" · January "&(Setup!$B$8+1)&" · Class teacher: "&Setup!$B$7 -> Class VII A · January 2027 · Class teacher: Ms. R. Iyer | AK2: Minimum | AL2: =Setup!$B$9 -> 0.75
A4: Roll | B4: Student name | C4: =IF(1<=DAY(DATE((Setup!$B$8+1),1+1,0)),1,"") -> 1 | D4: =IF(2<=DAY(DATE((Setup!$B$8+1),1+1,0)),2,"") -> 2 | E4: =IF(3<=DAY(DATE((Setup!$B$8+1),1+1,0)),3,"") -> 3 | F4: =IF(4<=DAY(DATE((Setup!$B$8+1),1+1,0)),4,"") -> 4 | G4: =IF(5<=DAY(DATE((Setup!$B$8+1),1+1,0)),5,"") -> 5 | H4: =IF(6<=DAY(DATE((Setup!$B$8+1),1+1,0)),6,"") -> 6 | I4: =IF(7<=DAY(DATE((Setup!$B$8+1),1+1,0)),7,"") -> 7 | J4: =IF(8<=DAY(DATE((Setup!$B$8+1),1+1,0)),8,"") -> 8 | K4: =IF(9<=DAY(DATE((Setup!$B$8+1),1+1,0)),9,"") -> 9 | L4: =IF(10<=DAY(DATE((Setup!$B$8+1),1+1,0)),10,"") -> 10 | M4: =IF(11<=DAY(DATE((Setup!$B$8+1),1+1,0)),11,"") -> 11 | N4: =IF(12<=DAY(DATE((Setup!$B$8+1),1+1,0)),12,"") -> 12 | O4: =IF(13<=DAY(DATE((Setup!$B$8+1),1+1,0)),13,"") -> 13 | P4: =IF(14<=DAY(DATE((Setup!$B$8+1),1+1,0)),14,"") -> 14 | Q4: =IF(15<=DAY(DATE((Setup!$B$8+1),1+1,0)),15,"") -> 15 | R4: =IF(16<=DAY(DATE((Setup!$B$8+1),1+1,0)),16,"") -> 16 | S4: =IF(17<=DAY(DATE((Setup!$B$8+1),1+1,0)),17,"") -> 17 | T4: =IF(18<=DAY(DATE((Setup!$B$8+1),1+1,0)),18,"") -> 18 | U4: =IF(19<=DAY(DATE((Setup!$B$8+1),1+1,0)),19,"") -> 19 | V4: =IF(20<=DAY(DATE((Setup!$B$8+1),1+1,0)),20,"") -> 20 | W4: =IF(21<=DAY(DATE((Setup!$B$8+1),1+1,0)),21,"") -> 21 | X4: =IF(22<=DAY(DATE((Setup!$B$8+1),1+1,0)),22,"") -> 22 | Y4: =IF(23<=DAY(DATE((Setup!$B$8+1),1+1,0)),23,"") -> 23 | Z4: =IF(24<=DAY(DATE((Setup!$B$8+1),1+1,0)),24,"") -> 24 | AA4: =IF(25<=DAY(DATE((Setup!$B$8+1),1+1,0)),25,"") -> 25 | AB4: =IF(26<=DAY(DATE((Setup!$B$8+1),1+1,0)),26,"") -> 26 | AC4: =IF(27<=DAY(DATE((Setup!$B$8+1),1+1,0)),27,"") -> 27 | AD4: =IF(28<=DAY(DATE((Setup!$B$8+1),1+1,0)),28,"") -> 28 | AE4: =IF(29<=DAY(DATE((Setup!$B$8+1),1+1,0)),29,"") -> 29 | AF4: =IF(30<=DAY(DATE((Setup!$B$8+1),1+1,0)),30,"") -> 30 | AG4: =IF(31<=DAY(DATE((Setup!$B$8+1),1+1,0)),31,"") -> 31 | AH4: P | AI4: A | AJ4: L | AK4: Days | AL4: %
C5: =IF(C$4="","",CHOOSE(WEEKDAY(DATE((Setup!$B$8+1),1,C$4)),"Su","Mo","Tu","We","Th","Fr","Sa")) -> Fr | D5: =IF(D$4="","",CHOOSE(WEEKDAY(DATE((Setup!$B$8+1),1,D$4)),"Su","Mo","Tu","We","Th","Fr","Sa")) -> Sa | E5: =IF(E$4="","",CHOOSE(WEEKDAY(DATE((Setup!$B$8+1),1,E$4)),"Su","Mo","Tu","We","Th","Fr","Sa")) -> Su | F5: =IF(F$4="","",CHOOSE(WEEKDAY(DATE((Setup!$B$8+1),1,F$4)),"Su","Mo","Tu","We","Th","Fr","Sa")) -> Mo | G5: =IF(G$4="","",CHOOSE(WEEKDAY(DATE((Setup!$B$8+1),1,G$4)),"Su","Mo","Tu","We","Th","Fr","Sa")) -> Tu | H5: =IF(H$4="","",CHOOSE(WEEKDAY(DATE((Setup!$B$8+1),1,H$4)),"Su","Mo","Tu","We","Th","Fr","Sa")) -> We | I5: =IF(I$4="","",CHOOSE(WEEKDAY(DATE((Setup!$B$8+1),1,I$4)),"Su","Mo","Tu","We","Th","Fr","Sa")) -> Th | J5: =IF(J$4="","",CHOOSE(WEEKDAY(DATE((Setup!$B$8+1),1,J$4)),"Su","Mo","Tu","We","Th","Fr","Sa")) -> Fr | ... AG5: =IF(AG$4="","",CHOOSE(WEEKDAY(DATE((Setup!$B$8+1),1,AG$4)),"Su","Mo","Tu","We","Th","Fr","Sa")) -> Su
A6: =IF(Setup!B19="","",Setup!A19) -> 1 | B6: =IF(Setup!B19="","",Setup!B19) -> Aarav Sharma | AH6: =IF($B6="","",COUNTIF(C6:AG6,"P")) -> 0 | AI6: =IF($B6="","",COUNTIF(C6:AG6,"A")) -> 0 | AJ6: =IF($B6="","",COUNTIF(C6:AG6,"L")) -> 0 | AK6: =IF($B6="","",AH6+AI6+AJ6) -> 0 | AL6: =IF(N(AK6)=0,"",AH6/AK6)
A7: =IF(Setup!B20="","",Setup!A20) -> 2 | B7: =IF(Setup!B20="","",Setup!B20) -> Ananya Iyer | AH7: =IF($B7="","",COUNTIF(C7:AG7,"P")) -> 0 | AI7: =IF($B7="","",COUNTIF(C7:AG7,"A")) -> 0 | AJ7: =IF($B7="","",COUNTIF(C7:AG7,"L")) -> 0 | AK7: =IF($B7="","",AH7+AI7+AJ7) -> 0 | AL7: =IF(N(AK7)=0,"",AH7/AK7)
A8: =IF(Setup!B21="","",Setup!A21) -> 3 | B8: =IF(Setup!B21="","",Setup!B21) -> Diya Menon | AH8: =IF($B8="","",COUNTIF(C8:AG8,"P")) -> 0 | AI8: =IF($B8="","",COUNTIF(C8:AG8,"A")) -> 0 | AJ8: =IF($B8="","",COUNTIF(C8:AG8,"L")) -> 0 | AK8: =IF($B8="","",AH8+AI8+AJ8) -> 0 | AL8: =IF(N(AK8)=0,"",AH8/AK8)
A9: =IF(Setup!B22="","",Setup!A22) -> 4 | B9: =IF(Setup!B22="","",Setup!B22) -> Ishaan Patel | AH9: =IF($B9="","",COUNTIF(C9:AG9,"P")) -> 0 | AI9: =IF($B9="","",COUNTIF(C9:AG9,"A")) -> 0 | AJ9: =IF($B9="","",COUNTIF(C9:AG9,"L")) -> 0 | AK9: =IF($B9="","",AH9+AI9+AJ9) -> 0 | AL9: =IF(N(AK9)=0,"",AH9/AK9)
A10: =IF(Setup!B23="","",Setup!A23) -> 5 | B10: =IF(Setup!B23="","",Setup!B23) -> Meera Reddy | AH10: =IF($B10="","",COUNTIF(C10:AG10,"P")) -> 0 | AI10: =IF($B10="","",COUNTIF(C10:AG10,"A")) -> 0 | AJ10: =IF($B10="","",COUNTIF(C10:AG10,"L")) -> 0 | AK10: =IF($B10="","",AH10+AI10+AJ10) -> 0 | AL10: =IF(N(AK10)=0,"",AH10/AK10)
A11: =IF(Setup!B24="","",Setup!A24) -> 6 | B11: =IF(Setup!B24="","",Setup!B24) -> Rohan Das | AH11: =IF($B11="","",COUNTIF(C11:AG11,"P")) -> 0 | AI11: =IF($B11="","",COUNTIF(C11:AG11,"A")) -> 0 | AJ11: =IF($B11="","",COUNTIF(C11:AG11,"L")) -> 0 | AK11: =IF($B11="","",AH11+AI11+AJ11) -> 0 | AL11: =IF(N(AK11)=0,"",AH11/AK11)
A12: =IF(Setup!B25="","",Setup!A25) -> 7 | B12: =IF(Setup!B25="","",Setup!B25) -> Sara Khan | AH12: =IF($B12="","",COUNTIF(C12:AG12,"P")) -> 0 | AI12: =IF($B12="","",COUNTIF(C12:AG12,"A")) -> 0 | AJ12: =IF($B12="","",COUNTIF(C12:AG12,"L")) -> 0 | AK12: =IF($B12="","",AH12+AI12+AJ12) -> 0 | AL12: =IF(N(AK12)=0,"",AH12/AK12)
A13: =IF(Setup!B26="","",Setup!A26) -> 8 | B13: =IF(Setup!B26="","",Setup!B26) -> Vihaan Gupta | AH13: =IF($B13="","",COUNTIF(C13:AG13,"P")) -> 0 | AI13: =IF($B13="","",COUNTIF(C13:AG13,"A")) -> 0 | AJ13: =IF($B13="","",COUNTIF(C13:AG13,"L")) -> 0 | AK13: =IF($B13="","",AH13+AI13+AJ13) -> 0 | AL13: =IF(N(AK13)=0,"",AH13/AK13)
A14: =IF(Setup!B27="","",Setup!A27) | B14: =IF(Setup!B27="","",Setup!B27) | AH14: =IF($B14="","",COUNTIF(C14:AG14,"P")) | AI14: =IF($B14="","",COUNTIF(C14:AG14,"A")) | AJ14: =IF($B14="","",COUNTIF(C14:AG14,"L")) | AK14: =IF($B14="","",AH14+AI14+AJ14) | AL14: =IF(N(AK14)=0,"",AH14/AK14)
A15: =IF(Setup!B28="","",Setup!A28) | B15: =IF(Setup!B28="","",Setup!B28) | AH15: =IF($B15="","",COUNTIF(C15:AG15,"P")) | AI15: =IF($B15="","",COUNTIF(C15:AG15,"A")) | AJ15: =IF($B15="","",COUNTIF(C15:AG15,"L")) | AK15: =IF($B15="","",AH15+AI15+AJ15) | AL15: =IF(N(AK15)=0,"",AH15/AK15)
A16: =IF(Setup!B29="","",Setup!A29) | B16: =IF(Setup!B29="","",Setup!B29) | AH16: =IF($B16="","",COUNTIF(C16:AG16,"P")) | AI16: =IF($B16="","",COUNTIF(C16:AG16,"A")) | AJ16: =IF($B16="","",COUNTIF(C16:AG16,"L")) | AK16: =IF($B16="","",AH16+AI16+AJ16) | AL16: =IF(N(AK16)=0,"",AH16/AK16)
A17: =IF(Setup!B30="","",Setup!A30) | B17: =IF(Setup!B30="","",Setup!B30) | AH17: =IF($B17="","",COUNTIF(C17:AG17,"P")) | AI17: =IF($B17="","",COUNTIF(C17:AG17,"A")) | AJ17: =IF($B17="","",COUNTIF(C17:AG17,"L")) | AK17: =IF($B17="","",AH17+AI17+AJ17) | AL17: =IF(N(AK17)=0,"",AH17/AK17)
... A55: =IF(Setup!B68="","",Setup!A68) | B55: =IF(Setup!B68="","",Setup!B68) | AH55: =IF($B55="","",COUNTIF(C55:AG55,"P")) | AI55: =IF($B55="","",COUNTIF(C55:AG55,"A")) | AJ55: =IF($B55="","",COUNTIF(C55:AG55,"L")) | AK55: =IF($B55="","",AH55+AI55+AJ55) | AL55: =IF(N(AK55)=0,"",AH55/AK55)
A56: Present that day | C56: =IF(C$4="","",COUNTIF(C6:C55,"P")) -> 0 | D56: =IF(D$4="","",COUNTIF(D6:D55,"P")) -> 0 | E56: =IF(E$4="","",COUNTIF(E6:E55,"P")) -> 0 | F56: =IF(F$4="","",COUNTIF(F6:F55,"P")) -> 0 | G56: =IF(G$4="","",COUNTIF(G6:G55,"P")) -> 0 | H56: =IF(H$4="","",COUNTIF(H6:H55,"P")) -> 0 | I56: =IF(I$4="","",COUNTIF(I6:I55,"P")) -> 0 | J56: =IF(J$4="","",COUNTIF(J6:J55,"P")) -> 0 | ... AG56: =IF(AG$4="","",COUNTIF(AG6:AG55,"P")) -> 0
A57: Absent or on leave | C57: =IF(C$4="","",COUNTIF(C6:C55,"A")+COUNTIF(C6:C55,"L")) -> 0 | D57: =IF(D$4="","",COUNTIF(D6:D55,"A")+COUNTIF(D6:D55,"L")) -> 0 | E57: =IF(E$4="","",COUNTIF(E6:E55,"A")+COUNTIF(E6:E55,"L")) -> 0 | F57: =IF(F$4="","",COUNTIF(F6:F55,"A")+COUNTIF(F6:F55,"L")) -> 0 | G57: =IF(G$4="","",COUNTIF(G6:G55,"A")+COUNTIF(G6:G55,"L")) -> 0 | H57: =IF(H$4="","",COUNTIF(H6:H55,"A")+COUNTIF(H6:H55,"L")) -> 0 | I57: =IF(I$4="","",COUNTIF(I6:I55,"A")+COUNTIF(I6:I55,"L")) -> 0 | J57: =IF(J$4="","",COUNTIF(J6:J55,"A")+COUNTIF(J6:J55,"L")) -> 0 | ... AG57: =IF(AG$4="","",COUNTIF(AG6:AG55,"A")+COUNTIF(AG6:AG55,"L")) -> 0
A59: Free template from proems.in

Sheet Feb
A1: =Setup!$B$4 -> Demo Public School
A2: ="Class "&Setup!$B$5&" "&Setup!$B$6&" · February "&(Setup!$B$8+1)&" · Class teacher: "&Setup!$B$7 -> Class VII A · February 2027 · Class teacher: Ms. R. Iyer | AK2: Minimum | AL2: =Setup!$B$9 -> 0.75
A4: Roll | B4: Student name | C4: =IF(1<=DAY(DATE((Setup!$B$8+1),2+1,0)),1,"") -> 1 | D4: =IF(2<=DAY(DATE((Setup!$B$8+1),2+1,0)),2,"") -> 2 | E4: =IF(3<=DAY(DATE((Setup!$B$8+1),2+1,0)),3,"") -> 3 | F4: =IF(4<=DAY(DATE((Setup!$B$8+1),2+1,0)),4,"") -> 4 | G4: =IF(5<=DAY(DATE((Setup!$B$8+1),2+1,0)),5,"") -> 5 | H4: =IF(6<=DAY(DATE((Setup!$B$8+1),2+1,0)),6,"") -> 6 | I4: =IF(7<=DAY(DATE((Setup!$B$8+1),2+1,0)),7,"") -> 7 | J4: =IF(8<=DAY(DATE((Setup!$B$8+1),2+1,0)),8,"") -> 8 | K4: =IF(9<=DAY(DATE((Setup!$B$8+1),2+1,0)),9,"") -> 9 | L4: =IF(10<=DAY(DATE((Setup!$B$8+1),2+1,0)),10,"") -> 10 | M4: =IF(11<=DAY(DATE((Setup!$B$8+1),2+1,0)),11,"") -> 11 | N4: =IF(12<=DAY(DATE((Setup!$B$8+1),2+1,0)),12,"") -> 12 | O4: =IF(13<=DAY(DATE((Setup!$B$8+1),2+1,0)),13,"") -> 13 | P4: =IF(14<=DAY(DATE((Setup!$B$8+1),2+1,0)),14,"") -> 14 | Q4: =IF(15<=DAY(DATE((Setup!$B$8+1),2+1,0)),15,"") -> 15 | R4: =IF(16<=DAY(DATE((Setup!$B$8+1),2+1,0)),16,"") -> 16 | S4: =IF(17<=DAY(DATE((Setup!$B$8+1),2+1,0)),17,"") -> 17 | T4: =IF(18<=DAY(DATE((Setup!$B$8+1),2+1,0)),18,"") -> 18 | U4: =IF(19<=DAY(DATE((Setup!$B$8+1),2+1,0)),19,"") -> 19 | V4: =IF(20<=DAY(DATE((Setup!$B$8+1),2+1,0)),20,"") -> 20 | W4: =IF(21<=DAY(DATE((Setup!$B$8+1),2+1,0)),21,"") -> 21 | X4: =IF(22<=DAY(DATE((Setup!$B$8+1),2+1,0)),22,"") -> 22 | Y4: =IF(23<=DAY(DATE((Setup!$B$8+1),2+1,0)),23,"") -> 23 | Z4: =IF(24<=DAY(DATE((Setup!$B$8+1),2+1,0)),24,"") -> 24 | AA4: =IF(25<=DAY(DATE((Setup!$B$8+1),2+1,0)),25,"") -> 25 | AB4: =IF(26<=DAY(DATE((Setup!$B$8+1),2+1,0)),26,"") -> 26 | AC4: =IF(27<=DAY(DATE((Setup!$B$8+1),2+1,0)),27,"") -> 27 | AD4: =IF(28<=DAY(DATE((Setup!$B$8+1),2+1,0)),28,"") -> 28 | AE4: =IF(29<=DAY(DATE((Setup!$B$8+1),2+1,0)),29,"") | AF4: =IF(30<=DAY(DATE((Setup!$B$8+1),2+1,0)),30,"") | AG4: =IF(31<=DAY(DATE((Setup!$B$8+1),2+1,0)),31,"") | AH4: P | AI4: A | AJ4: L | AK4: Days | AL4: %
C5: =IF(C$4="","",CHOOSE(WEEKDAY(DATE((Setup!$B$8+1),2,C$4)),"Su","Mo","Tu","We","Th","Fr","Sa")) -> Mo | D5: =IF(D$4="","",CHOOSE(WEEKDAY(DATE((Setup!$B$8+1),2,D$4)),"Su","Mo","Tu","We","Th","Fr","Sa")) -> Tu | E5: =IF(E$4="","",CHOOSE(WEEKDAY(DATE((Setup!$B$8+1),2,E$4)),"Su","Mo","Tu","We","Th","Fr","Sa")) -> We | F5: =IF(F$4="","",CHOOSE(WEEKDAY(DATE((Setup!$B$8+1),2,F$4)),"Su","Mo","Tu","We","Th","Fr","Sa")) -> Th | G5: =IF(G$4="","",CHOOSE(WEEKDAY(DATE((Setup!$B$8+1),2,G$4)),"Su","Mo","Tu","We","Th","Fr","Sa")) -> Fr | H5: =IF(H$4="","",CHOOSE(WEEKDAY(DATE((Setup!$B$8+1),2,H$4)),"Su","Mo","Tu","We","Th","Fr","Sa")) -> Sa | I5: =IF(I$4="","",CHOOSE(WEEKDAY(DATE((Setup!$B$8+1),2,I$4)),"Su","Mo","Tu","We","Th","Fr","Sa")) -> Su | J5: =IF(J$4="","",CHOOSE(WEEKDAY(DATE((Setup!$B$8+1),2,J$4)),"Su","Mo","Tu","We","Th","Fr","Sa")) -> Mo | ... AG5: =IF(AG$4="","",CHOOSE(WEEKDAY(DATE((Setup!$B$8+1),2,AG$4)),"Su","Mo","Tu","We","Th","Fr","Sa"))
A6: =IF(Setup!B19="","",Setup!A19) -> 1 | B6: =IF(Setup!B19="","",Setup!B19) -> Aarav Sharma | AH6: =IF($B6="","",COUNTIF(C6:AG6,"P")) -> 0 | AI6: =IF($B6="","",COUNTIF(C6:AG6,"A")) -> 0 | AJ6: =IF($B6="","",COUNTIF(C6:AG6,"L")) -> 0 | AK6: =IF($B6="","",AH6+AI6+AJ6) -> 0 | AL6: =IF(N(AK6)=0,"",AH6/AK6)
A7: =IF(Setup!B20="","",Setup!A20) -> 2 | B7: =IF(Setup!B20="","",Setup!B20) -> Ananya Iyer | AH7: =IF($B7="","",COUNTIF(C7:AG7,"P")) -> 0 | AI7: =IF($B7="","",COUNTIF(C7:AG7,"A")) -> 0 | AJ7: =IF($B7="","",COUNTIF(C7:AG7,"L")) -> 0 | AK7: =IF($B7="","",AH7+AI7+AJ7) -> 0 | AL7: =IF(N(AK7)=0,"",AH7/AK7)
A8: =IF(Setup!B21="","",Setup!A21) -> 3 | B8: =IF(Setup!B21="","",Setup!B21) -> Diya Menon | AH8: =IF($B8="","",COUNTIF(C8:AG8,"P")) -> 0 | AI8: =IF($B8="","",COUNTIF(C8:AG8,"A")) -> 0 | AJ8: =IF($B8="","",COUNTIF(C8:AG8,"L")) -> 0 | AK8: =IF($B8="","",AH8+AI8+AJ8) -> 0 | AL8: =IF(N(AK8)=0,"",AH8/AK8)
A9: =IF(Setup!B22="","",Setup!A22) -> 4 | B9: =IF(Setup!B22="","",Setup!B22) -> Ishaan Patel | AH9: =IF($B9="","",COUNTIF(C9:AG9,"P")) -> 0 | AI9: =IF($B9="","",COUNTIF(C9:AG9,"A")) -> 0 | AJ9: =IF($B9="","",COUNTIF(C9:AG9,"L")) -> 0 | AK9: =IF($B9="","",AH9+AI9+AJ9) -> 0 | AL9: =IF(N(AK9)=0,"",AH9/AK9)
A10: =IF(Setup!B23="","",Setup!A23) -> 5 | B10: =IF(Setup!B23="","",Setup!B23) -> Meera Reddy | AH10: =IF($B10="","",COUNTIF(C10:AG10,"P")) -> 0 | AI10: =IF($B10="","",COUNTIF(C10:AG10,"A")) -> 0 | AJ10: =IF($B10="","",COUNTIF(C10:AG10,"L")) -> 0 | AK10: =IF($B10="","",AH10+AI10+AJ10) -> 0 | AL10: =IF(N(AK10)=0,"",AH10/AK10)
A11: =IF(Setup!B24="","",Setup!A24) -> 6 | B11: =IF(Setup!B24="","",Setup!B24) -> Rohan Das | AH11: =IF($B11="","",COUNTIF(C11:AG11,"P")) -> 0 | AI11: =IF($B11="","",COUNTIF(C11:AG11,"A")) -> 0 | AJ11: =IF($B11="","",COUNTIF(C11:AG11,"L")) -> 0 | AK11: =IF($B11="","",AH11+AI11+AJ11) -> 0 | AL11: =IF(N(AK11)=0,"",AH11/AK11)
A12: =IF(Setup!B25="","",Setup!A25) -> 7 | B12: =IF(Setup!B25="","",Setup!B25) -> Sara Khan | AH12: =IF($B12="","",COUNTIF(C12:AG12,"P")) -> 0 | AI12: =IF($B12="","",COUNTIF(C12:AG12,"A")) -> 0 | AJ12: =IF($B12="","",COUNTIF(C12:AG12,"L")) -> 0 | AK12: =IF($B12="","",AH12+AI12+AJ12) -> 0 | AL12: =IF(N(AK12)=0,"",AH12/AK12)
A13: =IF(Setup!B26="","",Setup!A26) -> 8 | B13: =IF(Setup!B26="","",Setup!B26) -> Vihaan Gupta | AH13: =IF($B13="","",COUNTIF(C13:AG13,"P")) -> 0 | AI13: =IF($B13="","",COUNTIF(C13:AG13,"A")) -> 0 | AJ13: =IF($B13="","",COUNTIF(C13:AG13,"L")) -> 0 | AK13: =IF($B13="","",AH13+AI13+AJ13) -> 0 | AL13: =IF(N(AK13)=0,"",AH13/AK13)
A14: =IF(Setup!B27="","",Setup!A27) | B14: =IF(Setup!B27="","",Setup!B27) | AH14: =IF($B14="","",COUNTIF(C14:AG14,"P")) | AI14: =IF($B14="","",COUNTIF(C14:AG14,"A")) | AJ14: =IF($B14="","",COUNTIF(C14:AG14,"L")) | AK14: =IF($B14="","",AH14+AI14+AJ14) | AL14: =IF(N(AK14)=0,"",AH14/AK14)
A15: =IF(Setup!B28="","",Setup!A28) | B15: =IF(Setup!B28="","",Setup!B28) | AH15: =IF($B15="","",COUNTIF(C15:AG15,"P")) | AI15: =IF($B15="","",COUNTIF(C15:AG15,"A")) | AJ15: =IF($B15="","",COUNTIF(C15:AG15,"L")) | AK15: =IF($B15="","",AH15+AI15+AJ15) | AL15: =IF(N(AK15)=0,"",AH15/AK15)
A16: =IF(Setup!B29="","",Setup!A29) | B16: =IF(Setup!B29="","",Setup!B29) | AH16: =IF($B16="","",COUNTIF(C16:AG16,"P")) | AI16: =IF($B16="","",COUNTIF(C16:AG16,"A")) | AJ16: =IF($B16="","",COUNTIF(C16:AG16,"L")) | AK16: =IF($B16="","",AH16+AI16+AJ16) | AL16: =IF(N(AK16)=0,"",AH16/AK16)
A17: =IF(Setup!B30="","",Setup!A30) | B17: =IF(Setup!B30="","",Setup!B30) | AH17: =IF($B17="","",COUNTIF(C17:AG17,"P")) | AI17: =IF($B17="","",COUNTIF(C17:AG17,"A")) | AJ17: =IF($B17="","",COUNTIF(C17:AG17,"L")) | AK17: =IF($B17="","",AH17+AI17+AJ17) | AL17: =IF(N(AK17)=0,"",AH17/AK17)
... A55: =IF(Setup!B68="","",Setup!A68) | B55: =IF(Setup!B68="","",Setup!B68) | AH55: =IF($B55="","",COUNTIF(C55:AG55,"P")) | AI55: =IF($B55="","",COUNTIF(C55:AG55,"A")) | AJ55: =IF($B55="","",COUNTIF(C55:AG55,"L")) | AK55: =IF($B55="","",AH55+AI55+AJ55) | AL55: =IF(N(AK55)=0,"",AH55/AK55)
A56: Present that day | C56: =IF(C$4="","",COUNTIF(C6:C55,"P")) -> 0 | D56: =IF(D$4="","",COUNTIF(D6:D55,"P")) -> 0 | E56: =IF(E$4="","",COUNTIF(E6:E55,"P")) -> 0 | F56: =IF(F$4="","",COUNTIF(F6:F55,"P")) -> 0 | G56: =IF(G$4="","",COUNTIF(G6:G55,"P")) -> 0 | H56: =IF(H$4="","",COUNTIF(H6:H55,"P")) -> 0 | I56: =IF(I$4="","",COUNTIF(I6:I55,"P")) -> 0 | J56: =IF(J$4="","",COUNTIF(J6:J55,"P")) -> 0 | ... AG56: =IF(AG$4="","",COUNTIF(AG6:AG55,"P"))
A57: Absent or on leave | C57: =IF(C$4="","",COUNTIF(C6:C55,"A")+COUNTIF(C6:C55,"L")) -> 0 | D57: =IF(D$4="","",COUNTIF(D6:D55,"A")+COUNTIF(D6:D55,"L")) -> 0 | E57: =IF(E$4="","",COUNTIF(E6:E55,"A")+COUNTIF(E6:E55,"L")) -> 0 | F57: =IF(F$4="","",COUNTIF(F6:F55,"A")+COUNTIF(F6:F55,"L")) -> 0 | G57: =IF(G$4="","",COUNTIF(G6:G55,"A")+COUNTIF(G6:G55,"L")) -> 0 | H57: =IF(H$4="","",COUNTIF(H6:H55,"A")+COUNTIF(H6:H55,"L")) -> 0 | I57: =IF(I$4="","",COUNTIF(I6:I55,"A")+COUNTIF(I6:I55,"L")) -> 0 | J57: =IF(J$4="","",COUNTIF(J6:J55,"A")+COUNTIF(J6:J55,"L")) -> 0 | ... AG57: =IF(AG$4="","",COUNTIF(AG6:AG55,"A")+COUNTIF(AG6:AG55,"L"))
A59: Free template from proems.in

Sheet Mar
A1: =Setup!$B$4 -> Demo Public School
A2: ="Class "&Setup!$B$5&" "&Setup!$B$6&" · March "&(Setup!$B$8+1)&" · Class teacher: "&Setup!$B$7 -> Class VII A · March 2027 · Class teacher: Ms. R. Iyer | AK2: Minimum | AL2: =Setup!$B$9 -> 0.75
A4: Roll | B4: Student name | C4: =IF(1<=DAY(DATE((Setup!$B$8+1),3+1,0)),1,"") -> 1 | D4: =IF(2<=DAY(DATE((Setup!$B$8+1),3+1,0)),2,"") -> 2 | E4: =IF(3<=DAY(DATE((Setup!$B$8+1),3+1,0)),3,"") -> 3 | F4: =IF(4<=DAY(DATE((Setup!$B$8+1),3+1,0)),4,"") -> 4 | G4: =IF(5<=DAY(DATE((Setup!$B$8+1),3+1,0)),5,"") -> 5 | H4: =IF(6<=DAY(DATE((Setup!$B$8+1),3+1,0)),6,"") -> 6 | I4: =IF(7<=DAY(DATE((Setup!$B$8+1),3+1,0)),7,"") -> 7 | J4: =IF(8<=DAY(DATE((Setup!$B$8+1),3+1,0)),8,"") -> 8 | K4: =IF(9<=DAY(DATE((Setup!$B$8+1),3+1,0)),9,"") -> 9 | L4: =IF(10<=DAY(DATE((Setup!$B$8+1),3+1,0)),10,"") -> 10 | M4: =IF(11<=DAY(DATE((Setup!$B$8+1),3+1,0)),11,"") -> 11 | N4: =IF(12<=DAY(DATE((Setup!$B$8+1),3+1,0)),12,"") -> 12 | O4: =IF(13<=DAY(DATE((Setup!$B$8+1),3+1,0)),13,"") -> 13 | P4: =IF(14<=DAY(DATE((Setup!$B$8+1),3+1,0)),14,"") -> 14 | Q4: =IF(15<=DAY(DATE((Setup!$B$8+1),3+1,0)),15,"") -> 15 | R4: =IF(16<=DAY(DATE((Setup!$B$8+1),3+1,0)),16,"") -> 16 | S4: =IF(17<=DAY(DATE((Setup!$B$8+1),3+1,0)),17,"") -> 17 | T4: =IF(18<=DAY(DATE((Setup!$B$8+1),3+1,0)),18,"") -> 18 | U4: =IF(19<=DAY(DATE((Setup!$B$8+1),3+1,0)),19,"") -> 19 | V4: =IF(20<=DAY(DATE((Setup!$B$8+1),3+1,0)),20,"") -> 20 | W4: =IF(21<=DAY(DATE((Setup!$B$8+1),3+1,0)),21,"") -> 21 | X4: =IF(22<=DAY(DATE((Setup!$B$8+1),3+1,0)),22,"") -> 22 | Y4: =IF(23<=DAY(DATE((Setup!$B$8+1),3+1,0)),23,"") -> 23 | Z4: =IF(24<=DAY(DATE((Setup!$B$8+1),3+1,0)),24,"") -> 24 | AA4: =IF(25<=DAY(DATE((Setup!$B$8+1),3+1,0)),25,"") -> 25 | AB4: =IF(26<=DAY(DATE((Setup!$B$8+1),3+1,0)),26,"") -> 26 | AC4: =IF(27<=DAY(DATE((Setup!$B$8+1),3+1,0)),27,"") -> 27 | AD4: =IF(28<=DAY(DATE((Setup!$B$8+1),3+1,0)),28,"") -> 28 | AE4: =IF(29<=DAY(DATE((Setup!$B$8+1),3+1,0)),29,"") -> 29 | AF4: =IF(30<=DAY(DATE((Setup!$B$8+1),3+1,0)),30,"") -> 30 | AG4: =IF(31<=DAY(DATE((Setup!$B$8+1),3+1,0)),31,"") -> 31 | AH4: P | AI4: A | AJ4: L | AK4: Days | AL4: %
C5: =IF(C$4="","",CHOOSE(WEEKDAY(DATE((Setup!$B$8+1),3,C$4)),"Su","Mo","Tu","We","Th","Fr","Sa")) -> Mo | D5: =IF(D$4="","",CHOOSE(WEEKDAY(DATE((Setup!$B$8+1),3,D$4)),"Su","Mo","Tu","We","Th","Fr","Sa")) -> Tu | E5: =IF(E$4="","",CHOOSE(WEEKDAY(DATE((Setup!$B$8+1),3,E$4)),"Su","Mo","Tu","We","Th","Fr","Sa")) -> We | F5: =IF(F$4="","",CHOOSE(WEEKDAY(DATE((Setup!$B$8+1),3,F$4)),"Su","Mo","Tu","We","Th","Fr","Sa")) -> Th | G5: =IF(G$4="","",CHOOSE(WEEKDAY(DATE((Setup!$B$8+1),3,G$4)),"Su","Mo","Tu","We","Th","Fr","Sa")) -> Fr | H5: =IF(H$4="","",CHOOSE(WEEKDAY(DATE((Setup!$B$8+1),3,H$4)),"Su","Mo","Tu","We","Th","Fr","Sa")) -> Sa | I5: =IF(I$4="","",CHOOSE(WEEKDAY(DATE((Setup!$B$8+1),3,I$4)),"Su","Mo","Tu","We","Th","Fr","Sa")) -> Su | J5: =IF(J$4="","",CHOOSE(WEEKDAY(DATE((Setup!$B$8+1),3,J$4)),"Su","Mo","Tu","We","Th","Fr","Sa")) -> Mo | ... AG5: =IF(AG$4="","",CHOOSE(WEEKDAY(DATE((Setup!$B$8+1),3,AG$4)),"Su","Mo","Tu","We","Th","Fr","Sa")) -> We
A6: =IF(Setup!B19="","",Setup!A19) -> 1 | B6: =IF(Setup!B19="","",Setup!B19) -> Aarav Sharma | AH6: =IF($B6="","",COUNTIF(C6:AG6,"P")) -> 0 | AI6: =IF($B6="","",COUNTIF(C6:AG6,"A")) -> 0 | AJ6: =IF($B6="","",COUNTIF(C6:AG6,"L")) -> 0 | AK6: =IF($B6="","",AH6+AI6+AJ6) -> 0 | AL6: =IF(N(AK6)=0,"",AH6/AK6)
A7: =IF(Setup!B20="","",Setup!A20) -> 2 | B7: =IF(Setup!B20="","",Setup!B20) -> Ananya Iyer | AH7: =IF($B7="","",COUNTIF(C7:AG7,"P")) -> 0 | AI7: =IF($B7="","",COUNTIF(C7:AG7,"A")) -> 0 | AJ7: =IF($B7="","",COUNTIF(C7:AG7,"L")) -> 0 | AK7: =IF($B7="","",AH7+AI7+AJ7) -> 0 | AL7: =IF(N(AK7)=0,"",AH7/AK7)
A8: =IF(Setup!B21="","",Setup!A21) -> 3 | B8: =IF(Setup!B21="","",Setup!B21) -> Diya Menon | AH8: =IF($B8="","",COUNTIF(C8:AG8,"P")) -> 0 | AI8: =IF($B8="","",COUNTIF(C8:AG8,"A")) -> 0 | AJ8: =IF($B8="","",COUNTIF(C8:AG8,"L")) -> 0 | AK8: =IF($B8="","",AH8+AI8+AJ8) -> 0 | AL8: =IF(N(AK8)=0,"",AH8/AK8)
A9: =IF(Setup!B22="","",Setup!A22) -> 4 | B9: =IF(Setup!B22="","",Setup!B22) -> Ishaan Patel | AH9: =IF($B9="","",COUNTIF(C9:AG9,"P")) -> 0 | AI9: =IF($B9="","",COUNTIF(C9:AG9,"A")) -> 0 | AJ9: =IF($B9="","",COUNTIF(C9:AG9,"L")) -> 0 | AK9: =IF($B9="","",AH9+AI9+AJ9) -> 0 | AL9: =IF(N(AK9)=0,"",AH9/AK9)
A10: =IF(Setup!B23="","",Setup!A23) -> 5 | B10: =IF(Setup!B23="","",Setup!B23) -> Meera Reddy | AH10: =IF($B10="","",COUNTIF(C10:AG10,"P")) -> 0 | AI10: =IF($B10="","",COUNTIF(C10:AG10,"A")) -> 0 | AJ10: =IF($B10="","",COUNTIF(C10:AG10,"L")) -> 0 | AK10: =IF($B10="","",AH10+AI10+AJ10) -> 0 | AL10: =IF(N(AK10)=0,"",AH10/AK10)
A11: =IF(Setup!B24="","",Setup!A24) -> 6 | B11: =IF(Setup!B24="","",Setup!B24) -> Rohan Das | AH11: =IF($B11="","",COUNTIF(C11:AG11,"P")) -> 0 | AI11: =IF($B11="","",COUNTIF(C11:AG11,"A")) -> 0 | AJ11: =IF($B11="","",COUNTIF(C11:AG11,"L")) -> 0 | AK11: =IF($B11="","",AH11+AI11+AJ11) -> 0 | AL11: =IF(N(AK11)=0,"",AH11/AK11)
A12: =IF(Setup!B25="","",Setup!A25) -> 7 | B12: =IF(Setup!B25="","",Setup!B25) -> Sara Khan | AH12: =IF($B12="","",COUNTIF(C12:AG12,"P")) -> 0 | AI12: =IF($B12="","",COUNTIF(C12:AG12,"A")) -> 0 | AJ12: =IF($B12="","",COUNTIF(C12:AG12,"L")) -> 0 | AK12: =IF($B12="","",AH12+AI12+AJ12) -> 0 | AL12: =IF(N(AK12)=0,"",AH12/AK12)
A13: =IF(Setup!B26="","",Setup!A26) -> 8 | B13: =IF(Setup!B26="","",Setup!B26) -> Vihaan Gupta | AH13: =IF($B13="","",COUNTIF(C13:AG13,"P")) -> 0 | AI13: =IF($B13="","",COUNTIF(C13:AG13,"A")) -> 0 | AJ13: =IF($B13="","",COUNTIF(C13:AG13,"L")) -> 0 | AK13: =IF($B13="","",AH13+AI13+AJ13) -> 0 | AL13: =IF(N(AK13)=0,"",AH13/AK13)
A14: =IF(Setup!B27="","",Setup!A27) | B14: =IF(Setup!B27="","",Setup!B27) | AH14: =IF($B14="","",COUNTIF(C14:AG14,"P")) | AI14: =IF($B14="","",COUNTIF(C14:AG14,"A")) | AJ14: =IF($B14="","",COUNTIF(C14:AG14,"L")) | AK14: =IF($B14="","",AH14+AI14+AJ14) | AL14: =IF(N(AK14)=0,"",AH14/AK14)
A15: =IF(Setup!B28="","",Setup!A28) | B15: =IF(Setup!B28="","",Setup!B28) | AH15: =IF($B15="","",COUNTIF(C15:AG15,"P")) | AI15: =IF($B15="","",COUNTIF(C15:AG15,"A")) | AJ15: =IF($B15="","",COUNTIF(C15:AG15,"L")) | AK15: =IF($B15="","",AH15+AI15+AJ15) | AL15: =IF(N(AK15)=0,"",AH15/AK15)
A16: =IF(Setup!B29="","",Setup!A29) | B16: =IF(Setup!B29="","",Setup!B29) | AH16: =IF($B16="","",COUNTIF(C16:AG16,"P")) | AI16: =IF($B16="","",COUNTIF(C16:AG16,"A")) | AJ16: =IF($B16="","",COUNTIF(C16:AG16,"L")) | AK16: =IF($B16="","",AH16+AI16+AJ16) | AL16: =IF(N(AK16)=0,"",AH16/AK16)
A17: =IF(Setup!B30="","",Setup!A30) | B17: =IF(Setup!B30="","",Setup!B30) | AH17: =IF($B17="","",COUNTIF(C17:AG17,"P")) | AI17: =IF($B17="","",COUNTIF(C17:AG17,"A")) | AJ17: =IF($B17="","",COUNTIF(C17:AG17,"L")) | AK17: =IF($B17="","",AH17+AI17+AJ17) | AL17: =IF(N(AK17)=0,"",AH17/AK17)
... A55: =IF(Setup!B68="","",Setup!A68) | B55: =IF(Setup!B68="","",Setup!B68) | AH55: =IF($B55="","",COUNTIF(C55:AG55,"P")) | AI55: =IF($B55="","",COUNTIF(C55:AG55,"A")) | AJ55: =IF($B55="","",COUNTIF(C55:AG55,"L")) | AK55: =IF($B55="","",AH55+AI55+AJ55) | AL55: =IF(N(AK55)=0,"",AH55/AK55)
A56: Present that day | C56: =IF(C$4="","",COUNTIF(C6:C55,"P")) -> 0 | D56: =IF(D$4="","",COUNTIF(D6:D55,"P")) -> 0 | E56: =IF(E$4="","",COUNTIF(E6:E55,"P")) -> 0 | F56: =IF(F$4="","",COUNTIF(F6:F55,"P")) -> 0 | G56: =IF(G$4="","",COUNTIF(G6:G55,"P")) -> 0 | H56: =IF(H$4="","",COUNTIF(H6:H55,"P")) -> 0 | I56: =IF(I$4="","",COUNTIF(I6:I55,"P")) -> 0 | J56: =IF(J$4="","",COUNTIF(J6:J55,"P")) -> 0 | ... AG56: =IF(AG$4="","",COUNTIF(AG6:AG55,"P")) -> 0
A57: Absent or on leave | C57: =IF(C$4="","",COUNTIF(C6:C55,"A")+COUNTIF(C6:C55,"L")) -> 0 | D57: =IF(D$4="","",COUNTIF(D6:D55,"A")+COUNTIF(D6:D55,"L")) -> 0 | E57: =IF(E$4="","",COUNTIF(E6:E55,"A")+COUNTIF(E6:E55,"L")) -> 0 | F57: =IF(F$4="","",COUNTIF(F6:F55,"A")+COUNTIF(F6:F55,"L")) -> 0 | G57: =IF(G$4="","",COUNTIF(G6:G55,"A")+COUNTIF(G6:G55,"L")) -> 0 | H57: =IF(H$4="","",COUNTIF(H6:H55,"A")+COUNTIF(H6:H55,"L")) -> 0 | I57: =IF(I$4="","",COUNTIF(I6:I55,"A")+COUNTIF(I6:I55,"L")) -> 0 | J57: =IF(J$4="","",COUNTIF(J6:J55,"A")+COUNTIF(J6:J55,"L")) -> 0 | ... AG57: =IF(AG$4="","",COUNTIF(AG6:AG55,"A")+COUNTIF(AG6:AG55,"L")) -> 0
A59: Free template from proems.in

Sheet Year
A1: =Setup!$B$4 -> Demo Public School
A2: ="Year summary · Class "&Setup!$B$5&" "&Setup!$B$6&" · "&Setup!$C$8 -> Year summary · Class VII A · April 2026 to March 2027 | Q2: Minimum | R2: =Setup!$B$9 -> 0.75
A4: Roll | B4: Student name | C4: Apr | D4: May | E4: Jun | F4: Jul | G4: Aug | H4: Sep | I4: Oct | J4: Nov | K4: Dec | L4: Jan | M4: Feb | N4: Mar | O4: Days present | P4: Days marked | Q4: Year % | R4: Days in a row to reach minimum
A5: =IF(Setup!B19="","",Setup!A19) -> 1 | B5: =IF(Setup!B19="","",Setup!B19) -> Aarav Sharma | C5: =IF(N('Apr'!AK6)=0,"",'Apr'!AH6/'Apr'!AK6) -> 1 | D5: =IF(N('May'!AK6)=0,"",'May'!AH6/'May'!AK6) | E5: =IF(N('Jun'!AK6)=0,"",'Jun'!AH6/'Jun'!AK6) | F5: =IF(N('Jul'!AK6)=0,"",'Jul'!AH6/'Jul'!AK6) | G5: =IF(N('Aug'!AK6)=0,"",'Aug'!AH6/'Aug'!AK6) | H5: =IF(N('Sep'!AK6)=0,"",'Sep'!AH6/'Sep'!AK6) | I5: =IF(N('Oct'!AK6)=0,"",'Oct'!AH6/'Oct'!AK6) | J5: =IF(N('Nov'!AK6)=0,"",'Nov'!AH6/'Nov'!AK6) | K5: =IF(N('Dec'!AK6)=0,"",'Dec'!AH6/'Dec'!AK6) | L5: =IF(N('Jan'!AK6)=0,"",'Jan'!AH6/'Jan'!AK6) | M5: =IF(N('Feb'!AK6)=0,"",'Feb'!AH6/'Feb'!AK6) | N5: =IF(N('Mar'!AK6)=0,"",'Mar'!AH6/'Mar'!AK6) | O5: =IF($B5="","",SUM('Apr'!AH6,'May'!AH6,'Jun'!AH6,'Jul'!AH6,'Aug'!AH6,'Sep'!AH6,'Oct'!AH6,'Nov'!AH6,'Dec'!AH6,'Jan'!AH6,'Feb'!AH6,'Mar'!AH6)) -> 26 | P5: =IF($B5="","",SUM('Apr'!AK6,'May'!AK6,'Jun'!AK6,'Jul'!AK6,'Aug'!AK6,'Sep'!AK6,'Oct'!AK6,'Nov'!AK6,'Dec'!AK6,'Jan'!AK6,'Feb'!AK6,'Mar'!AK6)) -> 26 | Q5: =IF(N(P5)=0,"",O5/P5) -> 1 | R5: =IF(OR(N(P5)=0,Q5>=$R$2),"",ROUNDUP(ROUND(($R$2*P5-O5)/(1-$R$2),6),0))
A6: =IF(Setup!B20="","",Setup!A20) -> 2 | B6: =IF(Setup!B20="","",Setup!B20) -> Ananya Iyer | C6: =IF(N('Apr'!AK7)=0,"",'Apr'!AH7/'Apr'!AK7) -> 0.92307692 | D6: =IF(N('May'!AK7)=0,"",'May'!AH7/'May'!AK7) | E6: =IF(N('Jun'!AK7)=0,"",'Jun'!AH7/'Jun'!AK7) | F6: =IF(N('Jul'!AK7)=0,"",'Jul'!AH7/'Jul'!AK7) | G6: =IF(N('Aug'!AK7)=0,"",'Aug'!AH7/'Aug'!AK7) | H6: =IF(N('Sep'!AK7)=0,"",'Sep'!AH7/'Sep'!AK7) | I6: =IF(N('Oct'!AK7)=0,"",'Oct'!AH7/'Oct'!AK7) | J6: =IF(N('Nov'!AK7)=0,"",'Nov'!AH7/'Nov'!AK7) | K6: =IF(N('Dec'!AK7)=0,"",'Dec'!AH7/'Dec'!AK7) | L6: =IF(N('Jan'!AK7)=0,"",'Jan'!AH7/'Jan'!AK7) | M6: =IF(N('Feb'!AK7)=0,"",'Feb'!AH7/'Feb'!AK7) | N6: =IF(N('Mar'!AK7)=0,"",'Mar'!AH7/'Mar'!AK7) | O6: =IF($B6="","",SUM('Apr'!AH7,'May'!AH7,'Jun'!AH7,'Jul'!AH7,'Aug'!AH7,'Sep'!AH7,'Oct'!AH7,'Nov'!AH7,'Dec'!AH7,'Jan'!AH7,'Feb'!AH7,'Mar'!AH7)) -> 24 | P6: =IF($B6="","",SUM('Apr'!AK7,'May'!AK7,'Jun'!AK7,'Jul'!AK7,'Aug'!AK7,'Sep'!AK7,'Oct'!AK7,'Nov'!AK7,'Dec'!AK7,'Jan'!AK7,'Feb'!AK7,'Mar'!AK7)) -> 26 | Q6: =IF(N(P6)=0,"",O6/P6) -> 0.92307692 | R6: =IF(OR(N(P6)=0,Q6>=$R$2),"",ROUNDUP(ROUND(($R$2*P6-O6)/(1-$R$2),6),0))
A7: =IF(Setup!B21="","",Setup!A21) -> 3 | B7: =IF(Setup!B21="","",Setup!B21) -> Diya Menon | C7: =IF(N('Apr'!AK8)=0,"",'Apr'!AH8/'Apr'!AK8) -> 0.88461538 | D7: =IF(N('May'!AK8)=0,"",'May'!AH8/'May'!AK8) | E7: =IF(N('Jun'!AK8)=0,"",'Jun'!AH8/'Jun'!AK8) | F7: =IF(N('Jul'!AK8)=0,"",'Jul'!AH8/'Jul'!AK8) | G7: =IF(N('Aug'!AK8)=0,"",'Aug'!AH8/'Aug'!AK8) | H7: =IF(N('Sep'!AK8)=0,"",'Sep'!AH8/'Sep'!AK8) | I7: =IF(N('Oct'!AK8)=0,"",'Oct'!AH8/'Oct'!AK8) | J7: =IF(N('Nov'!AK8)=0,"",'Nov'!AH8/'Nov'!AK8) | K7: =IF(N('Dec'!AK8)=0,"",'Dec'!AH8/'Dec'!AK8) | L7: =IF(N('Jan'!AK8)=0,"",'Jan'!AH8/'Jan'!AK8) | M7: =IF(N('Feb'!AK8)=0,"",'Feb'!AH8/'Feb'!AK8) | N7: =IF(N('Mar'!AK8)=0,"",'Mar'!AH8/'Mar'!AK8) | O7: =IF($B7="","",SUM('Apr'!AH8,'May'!AH8,'Jun'!AH8,'Jul'!AH8,'Aug'!AH8,'Sep'!AH8,'Oct'!AH8,'Nov'!AH8,'Dec'!AH8,'Jan'!AH8,'Feb'!AH8,'Mar'!AH8)) -> 23 | P7: =IF($B7="","",SUM('Apr'!AK8,'May'!AK8,'Jun'!AK8,'Jul'!AK8,'Aug'!AK8,'Sep'!AK8,'Oct'!AK8,'Nov'!AK8,'Dec'!AK8,'Jan'!AK8,'Feb'!AK8,'Mar'!AK8)) -> 26 | Q7: =IF(N(P7)=0,"",O7/P7) -> 0.88461538 | R7: =IF(OR(N(P7)=0,Q7>=$R$2),"",ROUNDUP(ROUND(($R$2*P7-O7)/(1-$R$2),6),0))
A8: =IF(Setup!B22="","",Setup!A22) -> 4 | B8: =IF(Setup!B22="","",Setup!B22) -> Ishaan Patel | C8: =IF(N('Apr'!AK9)=0,"",'Apr'!AH9/'Apr'!AK9) -> 0.96153846 | D8: =IF(N('May'!AK9)=0,"",'May'!AH9/'May'!AK9) | E8: =IF(N('Jun'!AK9)=0,"",'Jun'!AH9/'Jun'!AK9) | F8: =IF(N('Jul'!AK9)=0,"",'Jul'!AH9/'Jul'!AK9) | G8: =IF(N('Aug'!AK9)=0,"",'Aug'!AH9/'Aug'!AK9) | H8: =IF(N('Sep'!AK9)=0,"",'Sep'!AH9/'Sep'!AK9) | I8: =IF(N('Oct'!AK9)=0,"",'Oct'!AH9/'Oct'!AK9) | J8: =IF(N('Nov'!AK9)=0,"",'Nov'!AH9/'Nov'!AK9) | K8: =IF(N('Dec'!AK9)=0,"",'Dec'!AH9/'Dec'!AK9) | L8: =IF(N('Jan'!AK9)=0,"",'Jan'!AH9/'Jan'!AK9) | M8: =IF(N('Feb'!AK9)=0,"",'Feb'!AH9/'Feb'!AK9) | N8: =IF(N('Mar'!AK9)=0,"",'Mar'!AH9/'Mar'!AK9) | O8: =IF($B8="","",SUM('Apr'!AH9,'May'!AH9,'Jun'!AH9,'Jul'!AH9,'Aug'!AH9,'Sep'!AH9,'Oct'!AH9,'Nov'!AH9,'Dec'!AH9,'Jan'!AH9,'Feb'!AH9,'Mar'!AH9)) -> 25 | P8: =IF($B8="","",SUM('Apr'!AK9,'May'!AK9,'Jun'!AK9,'Jul'!AK9,'Aug'!AK9,'Sep'!AK9,'Oct'!AK9,'Nov'!AK9,'Dec'!AK9,'Jan'!AK9,'Feb'!AK9,'Mar'!AK9)) -> 26 | Q8: =IF(N(P8)=0,"",O8/P8) -> 0.96153846 | R8: =IF(OR(N(P8)=0,Q8>=$R$2),"",ROUNDUP(ROUND(($R$2*P8-O8)/(1-$R$2),6),0))
A9: =IF(Setup!B23="","",Setup!A23) -> 5 | B9: =IF(Setup!B23="","",Setup!B23) -> Meera Reddy | C9: =IF(N('Apr'!AK10)=0,"",'Apr'!AH10/'Apr'!AK10) -> 0.73076923 | D9: =IF(N('May'!AK10)=0,"",'May'!AH10/'May'!AK10) | E9: =IF(N('Jun'!AK10)=0,"",'Jun'!AH10/'Jun'!AK10) | F9: =IF(N('Jul'!AK10)=0,"",'Jul'!AH10/'Jul'!AK10) | G9: =IF(N('Aug'!AK10)=0,"",'Aug'!AH10/'Aug'!AK10) | H9: =IF(N('Sep'!AK10)=0,"",'Sep'!AH10/'Sep'!AK10) | I9: =IF(N('Oct'!AK10)=0,"",'Oct'!AH10/'Oct'!AK10) | J9: =IF(N('Nov'!AK10)=0,"",'Nov'!AH10/'Nov'!AK10) | K9: =IF(N('Dec'!AK10)=0,"",'Dec'!AH10/'Dec'!AK10) | L9: =IF(N('Jan'!AK10)=0,"",'Jan'!AH10/'Jan'!AK10) | M9: =IF(N('Feb'!AK10)=0,"",'Feb'!AH10/'Feb'!AK10) | N9: =IF(N('Mar'!AK10)=0,"",'Mar'!AH10/'Mar'!AK10) | O9: =IF($B9="","",SUM('Apr'!AH10,'May'!AH10,'Jun'!AH10,'Jul'!AH10,'Aug'!AH10,'Sep'!AH10,'Oct'!AH10,'Nov'!AH10,'Dec'!AH10,'Jan'!AH10,'Feb'!AH10,'Mar'!AH10)) -> 19 | P9: =IF($B9="","",SUM('Apr'!AK10,'May'!AK10,'Jun'!AK10,'Jul'!AK10,'Aug'!AK10,'Sep'!AK10,'Oct'!AK10,'Nov'!AK10,'Dec'!AK10,'Jan'!AK10,'Feb'!AK10,'Mar'!AK10)) -> 26 | Q9: =IF(N(P9)=0,"",O9/P9) -> 0.73076923 | R9: =IF(OR(N(P9)=0,Q9>=$R$2),"",ROUNDUP(ROUND(($R$2*P9-O9)/(1-$R$2),6),0)) -> 2
A10: =IF(Setup!B24="","",Setup!A24) -> 6 | B10: =IF(Setup!B24="","",Setup!B24) -> Rohan Das | C10: =IF(N('Apr'!AK11)=0,"",'Apr'!AH11/'Apr'!AK11) -> 0.96153846 | D10: =IF(N('May'!AK11)=0,"",'May'!AH11/'May'!AK11) | E10: =IF(N('Jun'!AK11)=0,"",'Jun'!AH11/'Jun'!AK11) | F10: =IF(N('Jul'!AK11)=0,"",'Jul'!AH11/'Jul'!AK11) | G10: =IF(N('Aug'!AK11)=0,"",'Aug'!AH11/'Aug'!AK11) | H10: =IF(N('Sep'!AK11)=0,"",'Sep'!AH11/'Sep'!AK11) | I10: =IF(N('Oct'!AK11)=0,"",'Oct'!AH11/'Oct'!AK11) | J10: =IF(N('Nov'!AK11)=0,"",'Nov'!AH11/'Nov'!AK11) | K10: =IF(N('Dec'!AK11)=0,"",'Dec'!AH11/'Dec'!AK11) | L10: =IF(N('Jan'!AK11)=0,"",'Jan'!AH11/'Jan'!AK11) | M10: =IF(N('Feb'!AK11)=0,"",'Feb'!AH11/'Feb'!AK11) | N10: =IF(N('Mar'!AK11)=0,"",'Mar'!AH11/'Mar'!AK11) | O10: =IF($B10="","",SUM('Apr'!AH11,'May'!AH11,'Jun'!AH11,'Jul'!AH11,'Aug'!AH11,'Sep'!AH11,'Oct'!AH11,'Nov'!AH11,'Dec'!AH11,'Jan'!AH11,'Feb'!AH11,'Mar'!AH11)) -> 25 | P10: =IF($B10="","",SUM('Apr'!AK11,'May'!AK11,'Jun'!AK11,'Jul'!AK11,'Aug'!AK11,'Sep'!AK11,'Oct'!AK11,'Nov'!AK11,'Dec'!AK11,'Jan'!AK11,'Feb'!AK11,'Mar'!AK11)) -> 26 | Q10: =IF(N(P10)=0,"",O10/P10) -> 0.96153846 | R10: =IF(OR(N(P10)=0,Q10>=$R$2),"",ROUNDUP(ROUND(($R$2*P10-O10)/(1-$R$2),6),0))
A11: =IF(Setup!B25="","",Setup!A25) -> 7 | B11: =IF(Setup!B25="","",Setup!B25) -> Sara Khan | C11: =IF(N('Apr'!AK12)=0,"",'Apr'!AH12/'Apr'!AK12) -> 1 | D11: =IF(N('May'!AK12)=0,"",'May'!AH12/'May'!AK12) | E11: =IF(N('Jun'!AK12)=0,"",'Jun'!AH12/'Jun'!AK12) | F11: =IF(N('Jul'!AK12)=0,"",'Jul'!AH12/'Jul'!AK12) | G11: =IF(N('Aug'!AK12)=0,"",'Aug'!AH12/'Aug'!AK12) | H11: =IF(N('Sep'!AK12)=0,"",'Sep'!AH12/'Sep'!AK12) | I11: =IF(N('Oct'!AK12)=0,"",'Oct'!AH12/'Oct'!AK12) | J11: =IF(N('Nov'!AK12)=0,"",'Nov'!AH12/'Nov'!AK12) | K11: =IF(N('Dec'!AK12)=0,"",'Dec'!AH12/'Dec'!AK12) | L11: =IF(N('Jan'!AK12)=0,"",'Jan'!AH12/'Jan'!AK12) | M11: =IF(N('Feb'!AK12)=0,"",'Feb'!AH12/'Feb'!AK12) | N11: =IF(N('Mar'!AK12)=0,"",'Mar'!AH12/'Mar'!AK12) | O11: =IF($B11="","",SUM('Apr'!AH12,'May'!AH12,'Jun'!AH12,'Jul'!AH12,'Aug'!AH12,'Sep'!AH12,'Oct'!AH12,'Nov'!AH12,'Dec'!AH12,'Jan'!AH12,'Feb'!AH12,'Mar'!AH12)) -> 26 | P11: =IF($B11="","",SUM('Apr'!AK12,'May'!AK12,'Jun'!AK12,'Jul'!AK12,'Aug'!AK12,'Sep'!AK12,'Oct'!AK12,'Nov'!AK12,'Dec'!AK12,'Jan'!AK12,'Feb'!AK12,'Mar'!AK12)) -> 26 | Q11: =IF(N(P11)=0,"",O11/P11) -> 1 | R11: =IF(OR(N(P11)=0,Q11>=$R$2),"",ROUNDUP(ROUND(($R$2*P11-O11)/(1-$R$2),6),0))
A12: =IF(Setup!B26="","",Setup!A26) -> 8 | B12: =IF(Setup!B26="","",Setup!B26) -> Vihaan Gupta | C12: =IF(N('Apr'!AK13)=0,"",'Apr'!AH13/'Apr'!AK13) -> 0.92307692 | D12: =IF(N('May'!AK13)=0,"",'May'!AH13/'May'!AK13) | E12: =IF(N('Jun'!AK13)=0,"",'Jun'!AH13/'Jun'!AK13) | F12: =IF(N('Jul'!AK13)=0,"",'Jul'!AH13/'Jul'!AK13) | G12: =IF(N('Aug'!AK13)=0,"",'Aug'!AH13/'Aug'!AK13) | H12: =IF(N('Sep'!AK13)=0,"",'Sep'!AH13/'Sep'!AK13) | I12: =IF(N('Oct'!AK13)=0,"",'Oct'!AH13/'Oct'!AK13) | J12: =IF(N('Nov'!AK13)=0,"",'Nov'!AH13/'Nov'!AK13) | K12: =IF(N('Dec'!AK13)=0,"",'Dec'!AH13/'Dec'!AK13) | L12: =IF(N('Jan'!AK13)=0,"",'Jan'!AH13/'Jan'!AK13) | M12: =IF(N('Feb'!AK13)=0,"",'Feb'!AH13/'Feb'!AK13) | N12: =IF(N('Mar'!AK13)=0,"",'Mar'!AH13/'Mar'!AK13) | O12: =IF($B12="","",SUM('Apr'!AH13,'May'!AH13,'Jun'!AH13,'Jul'!AH13,'Aug'!AH13,'Sep'!AH13,'Oct'!AH13,'Nov'!AH13,'Dec'!AH13,'Jan'!AH13,'Feb'!AH13,'Mar'!AH13)) -> 24 | P12: =IF($B12="","",SUM('Apr'!AK13,'May'!AK13,'Jun'!AK13,'Jul'!AK13,'Aug'!AK13,'Sep'!AK13,'Oct'!AK13,'Nov'!AK13,'Dec'!AK13,'Jan'!AK13,'Feb'!AK13,'Mar'!AK13)) -> 26 | Q12: =IF(N(P12)=0,"",O12/P12) -> 0.92307692 | R12: =IF(OR(N(P12)=0,Q12>=$R$2),"",ROUNDUP(ROUND(($R$2*P12-O12)/(1-$R$2),6),0))
A13: =IF(Setup!B27="","",Setup!A27) | B13: =IF(Setup!B27="","",Setup!B27) | C13: =IF(N('Apr'!AK14)=0,"",'Apr'!AH14/'Apr'!AK14) | D13: =IF(N('May'!AK14)=0,"",'May'!AH14/'May'!AK14) | E13: =IF(N('Jun'!AK14)=0,"",'Jun'!AH14/'Jun'!AK14) | F13: =IF(N('Jul'!AK14)=0,"",'Jul'!AH14/'Jul'!AK14) | G13: =IF(N('Aug'!AK14)=0,"",'Aug'!AH14/'Aug'!AK14) | H13: =IF(N('Sep'!AK14)=0,"",'Sep'!AH14/'Sep'!AK14) | I13: =IF(N('Oct'!AK14)=0,"",'Oct'!AH14/'Oct'!AK14) | J13: =IF(N('Nov'!AK14)=0,"",'Nov'!AH14/'Nov'!AK14) | K13: =IF(N('Dec'!AK14)=0,"",'Dec'!AH14/'Dec'!AK14) | L13: =IF(N('Jan'!AK14)=0,"",'Jan'!AH14/'Jan'!AK14) | M13: =IF(N('Feb'!AK14)=0,"",'Feb'!AH14/'Feb'!AK14) | N13: =IF(N('Mar'!AK14)=0,"",'Mar'!AH14/'Mar'!AK14) | O13: =IF($B13="","",SUM('Apr'!AH14,'May'!AH14,'Jun'!AH14,'Jul'!AH14,'Aug'!AH14,'Sep'!AH14,'Oct'!AH14,'Nov'!AH14,'Dec'!AH14,'Jan'!AH14,'Feb'!AH14,'Mar'!AH14)) | P13: =IF($B13="","",SUM('Apr'!AK14,'May'!AK14,'Jun'!AK14,'Jul'!AK14,'Aug'!AK14,'Sep'!AK14,'Oct'!AK14,'Nov'!AK14,'Dec'!AK14,'Jan'!AK14,'Feb'!AK14,'Mar'!AK14)) | Q13: =IF(N(P13)=0,"",O13/P13) | R13: =IF(OR(N(P13)=0,Q13>=$R$2),"",ROUNDUP(ROUND(($R$2*P13-O13)/(1-$R$2),6),0))
A14: =IF(Setup!B28="","",Setup!A28) | B14: =IF(Setup!B28="","",Setup!B28) | C14: =IF(N('Apr'!AK15)=0,"",'Apr'!AH15/'Apr'!AK15) | D14: =IF(N('May'!AK15)=0,"",'May'!AH15/'May'!AK15) | E14: =IF(N('Jun'!AK15)=0,"",'Jun'!AH15/'Jun'!AK15) | F14: =IF(N('Jul'!AK15)=0,"",'Jul'!AH15/'Jul'!AK15) | G14: =IF(N('Aug'!AK15)=0,"",'Aug'!AH15/'Aug'!AK15) | H14: =IF(N('Sep'!AK15)=0,"",'Sep'!AH15/'Sep'!AK15) | I14: =IF(N('Oct'!AK15)=0,"",'Oct'!AH15/'Oct'!AK15) | J14: =IF(N('Nov'!AK15)=0,"",'Nov'!AH15/'Nov'!AK15) | K14: =IF(N('Dec'!AK15)=0,"",'Dec'!AH15/'Dec'!AK15) | L14: =IF(N('Jan'!AK15)=0,"",'Jan'!AH15/'Jan'!AK15) | M14: =IF(N('Feb'!AK15)=0,"",'Feb'!AH15/'Feb'!AK15) | N14: =IF(N('Mar'!AK15)=0,"",'Mar'!AH15/'Mar'!AK15) | O14: =IF($B14="","",SUM('Apr'!AH15,'May'!AH15,'Jun'!AH15,'Jul'!AH15,'Aug'!AH15,'Sep'!AH15,'Oct'!AH15,'Nov'!AH15,'Dec'!AH15,'Jan'!AH15,'Feb'!AH15,'Mar'!AH15)) | P14: =IF($B14="","",SUM('Apr'!AK15,'May'!AK15,'Jun'!AK15,'Jul'!AK15,'Aug'!AK15,'Sep'!AK15,'Oct'!AK15,'Nov'!AK15,'Dec'!AK15,'Jan'!AK15,'Feb'!AK15,'Mar'!AK15)) | Q14: =IF(N(P14)=0,"",O14/P14) | R14: =IF(OR(N(P14)=0,Q14>=$R$2),"",ROUNDUP(ROUND(($R$2*P14-O14)/(1-$R$2),6),0))
A15: =IF(Setup!B29="","",Setup!A29) | B15: =IF(Setup!B29="","",Setup!B29) | C15: =IF(N('Apr'!AK16)=0,"",'Apr'!AH16/'Apr'!AK16) | D15: =IF(N('May'!AK16)=0,"",'May'!AH16/'May'!AK16) | E15: =IF(N('Jun'!AK16)=0,"",'Jun'!AH16/'Jun'!AK16) | F15: =IF(N('Jul'!AK16)=0,"",'Jul'!AH16/'Jul'!AK16) | G15: =IF(N('Aug'!AK16)=0,"",'Aug'!AH16/'Aug'!AK16) | H15: =IF(N('Sep'!AK16)=0,"",'Sep'!AH16/'Sep'!AK16) | I15: =IF(N('Oct'!AK16)=0,"",'Oct'!AH16/'Oct'!AK16) | J15: =IF(N('Nov'!AK16)=0,"",'Nov'!AH16/'Nov'!AK16) | K15: =IF(N('Dec'!AK16)=0,"",'Dec'!AH16/'Dec'!AK16) | L15: =IF(N('Jan'!AK16)=0,"",'Jan'!AH16/'Jan'!AK16) | M15: =IF(N('Feb'!AK16)=0,"",'Feb'!AH16/'Feb'!AK16) | N15: =IF(N('Mar'!AK16)=0,"",'Mar'!AH16/'Mar'!AK16) | O15: =IF($B15="","",SUM('Apr'!AH16,'May'!AH16,'Jun'!AH16,'Jul'!AH16,'Aug'!AH16,'Sep'!AH16,'Oct'!AH16,'Nov'!AH16,'Dec'!AH16,'Jan'!AH16,'Feb'!AH16,'Mar'!AH16)) | P15: =IF($B15="","",SUM('Apr'!AK16,'May'!AK16,'Jun'!AK16,'Jul'!AK16,'Aug'!AK16,'Sep'!AK16,'Oct'!AK16,'Nov'!AK16,'Dec'!AK16,'Jan'!AK16,'Feb'!AK16,'Mar'!AK16)) | Q15: =IF(N(P15)=0,"",O15/P15) | R15: =IF(OR(N(P15)=0,Q15>=$R$2),"",ROUNDUP(ROUND(($R$2*P15-O15)/(1-$R$2),6),0))
A16: =IF(Setup!B30="","",Setup!A30) | B16: =IF(Setup!B30="","",Setup!B30) | C16: =IF(N('Apr'!AK17)=0,"",'Apr'!AH17/'Apr'!AK17) | D16: =IF(N('May'!AK17)=0,"",'May'!AH17/'May'!AK17) | E16: =IF(N('Jun'!AK17)=0,"",'Jun'!AH17/'Jun'!AK17) | F16: =IF(N('Jul'!AK17)=0,"",'Jul'!AH17/'Jul'!AK17) | G16: =IF(N('Aug'!AK17)=0,"",'Aug'!AH17/'Aug'!AK17) | H16: =IF(N('Sep'!AK17)=0,"",'Sep'!AH17/'Sep'!AK17) | I16: =IF(N('Oct'!AK17)=0,"",'Oct'!AH17/'Oct'!AK17) | J16: =IF(N('Nov'!AK17)=0,"",'Nov'!AH17/'Nov'!AK17) | K16: =IF(N('Dec'!AK17)=0,"",'Dec'!AH17/'Dec'!AK17) | L16: =IF(N('Jan'!AK17)=0,"",'Jan'!AH17/'Jan'!AK17) | M16: =IF(N('Feb'!AK17)=0,"",'Feb'!AH17/'Feb'!AK17) | N16: =IF(N('Mar'!AK17)=0,"",'Mar'!AH17/'Mar'!AK17) | O16: =IF($B16="","",SUM('Apr'!AH17,'May'!AH17,'Jun'!AH17,'Jul'!AH17,'Aug'!AH17,'Sep'!AH17,'Oct'!AH17,'Nov'!AH17,'Dec'!AH17,'Jan'!AH17,'Feb'!AH17,'Mar'!AH17)) | P16: =IF($B16="","",SUM('Apr'!AK17,'May'!AK17,'Jun'!AK17,'Jul'!AK17,'Aug'!AK17,'Sep'!AK17,'Oct'!AK17,'Nov'!AK17,'Dec'!AK17,'Jan'!AK17,'Feb'!AK17,'Mar'!AK17)) | Q16: =IF(N(P16)=0,"",O16/P16) | R16: =IF(OR(N(P16)=0,Q16>=$R$2),"",ROUNDUP(ROUND(($R$2*P16-O16)/(1-$R$2),6),0))
... A54: =IF(Setup!B68="","",Setup!A68) | B54: =IF(Setup!B68="","",Setup!B68) | C54: =IF(N('Apr'!AK55)=0,"",'Apr'!AH55/'Apr'!AK55) | D54: =IF(N('May'!AK55)=0,"",'May'!AH55/'May'!AK55) | E54: =IF(N('Jun'!AK55)=0,"",'Jun'!AH55/'Jun'!AK55) | F54: =IF(N('Jul'!AK55)=0,"",'Jul'!AH55/'Jul'!AK55) | G54: =IF(N('Aug'!AK55)=0,"",'Aug'!AH55/'Aug'!AK55) | H54: =IF(N('Sep'!AK55)=0,"",'Sep'!AH55/'Sep'!AK55) | I54: =IF(N('Oct'!AK55)=0,"",'Oct'!AH55/'Oct'!AK55) | J54: =IF(N('Nov'!AK55)=0,"",'Nov'!AH55/'Nov'!AK55) | K54: =IF(N('Dec'!AK55)=0,"",'Dec'!AH55/'Dec'!AK55) | L54: =IF(N('Jan'!AK55)=0,"",'Jan'!AH55/'Jan'!AK55) | M54: =IF(N('Feb'!AK55)=0,"",'Feb'!AH55/'Feb'!AK55) | N54: =IF(N('Mar'!AK55)=0,"",'Mar'!AH55/'Mar'!AK55) | O54: =IF($B54="","",SUM('Apr'!AH55,'May'!AH55,'Jun'!AH55,'Jul'!AH55,'Aug'!AH55,'Sep'!AH55,'Oct'!AH55,'Nov'!AH55,'Dec'!AH55,'Jan'!AH55,'Feb'!AH55,'Mar'!AH55)) | P54: =IF($B54="","",SUM('Apr'!AK55,'May'!AK55,'Jun'!AK55,'Jul'!AK55,'Aug'!AK55,'Sep'!AK55,'Oct'!AK55,'Nov'!AK55,'Dec'!AK55,'Jan'!AK55,'Feb'!AK55,'Mar'!AK55)) | Q54: =IF(N(P54)=0,"",O54/P54) | R54: =IF(OR(N(P54)=0,Q54>=$R$2),"",ROUNDUP(ROUND(($R$2*P54-O54)/(1-$R$2),6),0))
A56: Free template from proems.in
